BEGIN:VCALENDAR
VERSION:2.0
PRODID:-//Scharnegoutum | Skearnegoutum - ECPv6.15.20//NONSGML v1.0//EN
CALSCALE:GREGORIAN
METHOD:PUBLISH
X-ORIGINAL-URL:https://www.scharnegoutum.nl
X-WR-CALDESC:Evenementen voor Scharnegoutum | Skearnegoutum
REFRESH-INTERVAL;VALUE=DURATION:PT1H
X-Robots-Tag:noindex
X-PUBLISHED-TTL:PT1H
BEGIN:VTIMEZONE
TZID:Europe/Amsterdam
BEGIN:DAYLIGHT
TZOFFSETFROM:+0100
TZOFFSETTO:+0200
TZNAME:CEST
DTSTART:20250330T010000
END:DAYLIGHT
BEGIN:STANDARD
TZOFFSETFROM:+0200
TZOFFSETTO:+0100
TZNAME:CET
DTSTART:20251026T010000
END:STANDARD
BEGIN:DAYLIGHT
TZOFFSETFROM:+0100
TZOFFSETTO:+0200
TZNAME:CEST
DTSTART:20260329T010000
END:DAYLIGHT
BEGIN:STANDARD
TZOFFSETFROM:+0200
TZOFFSETTO:+0100
TZNAME:CET
DTSTART:20261025T010000
END:STANDARD
BEGIN:DAYLIGHT
TZOFFSETFROM:+0100
TZOFFSETTO:+0200
TZNAME:CEST
DTSTART:20270328T010000
END:DAYLIGHT
BEGIN:STANDARD
TZOFFSETFROM:+0200
TZOFFSETTO:+0100
TZNAME:CET
DTSTART:20271031T010000
END:STANDARD
END:VTIMEZONE
BEGIN:VEVENT
DTSTART;TZID=Europe/Amsterdam:20261103T104500
DTEND;TZID=Europe/Amsterdam:20261103T114500
DTSTAMP:20260420T101901
CREATED:20260102T150953Z
LAST-MODIFIED:20260102T150953Z
UID:10007558-1793702700-1793706300@www.scharnegoutum.nl
SUMMARY:Stoelfit voor ouderen
DESCRIPTION:Beste deelnemers aan de yoga en stoelyogalessen in Scharnegoutum. De vakanties zijn bijna voorbij en hopelijk hebben jullie een heerlijke zomer (die nog niet voorbij is). \nVoor de yin yoga zijn nog een paar matjes vrij. Heb je interesse? Dan kun je op dinsdag 26/8 meedoen met de proefles. Deze start om 09.30 en duurt 1 uur. \nVoor de stoelfit lessen (yoga\, ademhaling\, dans en beweging op en rond de stoel) zijn voor komend seizoen ook nog enkele stoelen vrij! \nDe proefles is op dinsdag 26/8\, om 10.45 en de les duurt een uur. \nLesblok 3 start dinsdag 2 september a.s.\ndit zijn 12 lessen van een uur per keer en zijn tot half december. \nVoor meer informatie mag je een mail sturen naar leeuwinnenkracht@gmail.com \nDe lessen worden gegeven door Carla van der Veen\, gecertificeerd yin yoga- en stoelyoga docent .
URL:https://www.scharnegoutum.nl/agenda/stoelfit-voor-ouderen/2026-11-03/
CATEGORIES:Midden Zaal
END:VEVENT
BEGIN:VEVENT
DTSTART;TZID=Europe/Amsterdam:20261104T090000
DTEND;TZID=Europe/Amsterdam:20261104T093000
DTSTAMP:20260420T101901
CREATED:20251219T131109Z
LAST-MODIFIED:20251219T131109Z
UID:10007254-1793782800-1793784600@www.scharnegoutum.nl
SUMMARY:Bloedprikken
DESCRIPTION:
URL:https://www.scharnegoutum.nl/agenda/bloedprikken/2026-11-04/
CATEGORIES:Grote Zaal
END:VEVENT
BEGIN:VEVENT
DTSTART;TZID=Europe/Amsterdam:20261104T193000
DTEND;TZID=Europe/Amsterdam:20261104T223000
DTSTAMP:20260420T101901
CREATED:20260327T195607Z
LAST-MODIFIED:20260327T195711Z
UID:10007671-1793820600-1793831400@www.scharnegoutum.nl
SUMMARY:De Keu Keninginnen
DESCRIPTION:Activiteit: 2-wekelijkse competitieavond\nKosten: contributie\nKaartenverkoop: N.V.T.\nBen je geïnterresseerd\, loop dan een keer binnen op één van onze speelavonden of stuur een mailtje.\nVoor meer informatie zie op deze site onder verenigingen/Keukoninginnen  of via facebook: ‘De Keu Keuninginnen Skearnegoutum’.
URL:https://www.scharnegoutum.nl/agenda/de-keu-keninginnen-4/2026-11-04/
CATEGORIES:Bar
END:VEVENT
BEGIN:VEVENT
DTSTART;TZID=Europe/Amsterdam:20261107T160000
DTEND;TZID=Europe/Amsterdam:20261107T233000
DTSTAMP:20260420T101901
CREATED:20260228T130538Z
LAST-MODIFIED:20260228T130538Z
UID:10007636-1794067200-1794094200@www.scharnegoutum.nl
SUMMARY:Inloopcafé
DESCRIPTION:
URL:https://www.scharnegoutum.nl/agenda/inloopcafe/2026-11-07/
CATEGORIES:Bar
END:VEVENT
END:VCALENDAR