BEGIN:VCALENDAR
VERSION:2.0
PRODID:-//Scharnegoutum | Skearnegoutum - ECPv6.15.20//NONSGML v1.0//EN
CALSCALE:GREGORIAN
METHOD:PUBLISH
X-WR-CALNAME:Scharnegoutum | Skearnegoutum
X-ORIGINAL-URL:https://www.scharnegoutum.nl
X-WR-CALDESC:Evenementen voor Scharnegoutum | Skearnegoutum
REFRESH-INTERVAL;VALUE=DURATION:PT1H
X-Robots-Tag:noindex
X-PUBLISHED-TTL:PT1H
BEGIN:VTIMEZONE
TZID:Europe/Amsterdam
BEGIN:DAYLIGHT
TZOFFSETFROM:+0100
TZOFFSETTO:+0200
TZNAME:CEST
DTSTART:20250330T010000
END:DAYLIGHT
BEGIN:STANDARD
TZOFFSETFROM:+0200
TZOFFSETTO:+0100
TZNAME:CET
DTSTART:20251026T010000
END:STANDARD
BEGIN:DAYLIGHT
TZOFFSETFROM:+0100
TZOFFSETTO:+0200
TZNAME:CEST
DTSTART:20260329T010000
END:DAYLIGHT
BEGIN:STANDARD
TZOFFSETFROM:+0200
TZOFFSETTO:+0100
TZNAME:CET
DTSTART:20261025T010000
END:STANDARD
BEGIN:DAYLIGHT
TZOFFSETFROM:+0100
TZOFFSETTO:+0200
TZNAME:CEST
DTSTART:20270328T010000
END:DAYLIGHT
BEGIN:STANDARD
TZOFFSETFROM:+0200
TZOFFSETTO:+0100
TZNAME:CET
DTSTART:20271031T010000
END:STANDARD
END:VTIMEZONE
BEGIN:VEVENT
DTSTART;TZID=Europe/Amsterdam:20260420T130000
DTEND;TZID=Europe/Amsterdam:20260420T170000
DTSTAMP:20260419T221056
CREATED:20251219T130904Z
LAST-MODIFIED:20251219T130904Z
UID:10007123-1776690000-1776704400@www.scharnegoutum.nl
SUMMARY:Stal Schukken
DESCRIPTION:Stalschukken \nWij zijn een biljardclub\, ooit gestart in een boerderij\, en sinds lange tijd spelen wij onze competitie avonden in het dorpshuis. \nHeeft U interesse\, kunt u contact opnemen met Thomas de Vries ( alofje@gmail.com )
URL:https://www.scharnegoutum.nl/agenda/stal-schukken/2026-04-20/
CATEGORIES:Bar
END:VEVENT
BEGIN:VEVENT
DTSTART;TZID=Europe/Amsterdam:20260420T190000
DTEND;TZID=Europe/Amsterdam:20260420T220000
DTSTAMP:20260419T221056
CREATED:20260402T170212Z
LAST-MODIFIED:20260402T170225Z
UID:10007689-1776711600-1776722400@www.scharnegoutum.nl
SUMMARY:Ledencursus Schaapskudde de Drifter
DESCRIPTION:
URL:https://www.scharnegoutum.nl/agenda/ledencursus-schaapskudde-de-drifter/
CATEGORIES:Midden Zaal
END:VEVENT
BEGIN:VEVENT
DTSTART;TZID=Europe/Amsterdam:20260420T200000
DTEND;TZID=Europe/Amsterdam:20260420T220000
DTSTAMP:20260419T221056
CREATED:20260124T150455Z
LAST-MODIFIED:20260124T150455Z
UID:10007605-1776715200-1776722400@www.scharnegoutum.nl
SUMMARY:Vergadering activiteitencommissie
DESCRIPTION:
URL:https://www.scharnegoutum.nl/agenda/vergadering-activiteitencommissie/2026-04-20/
CATEGORIES:Podium Zaal
END:VEVENT
BEGIN:VEVENT
DTSTART;TZID=Europe/Amsterdam:20260421T093000
DTEND;TZID=Europe/Amsterdam:20260421T103000
DTSTAMP:20260419T221056
CREATED:20260102T145532Z
LAST-MODIFIED:20260102T145532Z
UID:10007504-1776763800-1776767400@www.scharnegoutum.nl
SUMMARY:Yin Yoga
DESCRIPTION:Beste deelnemers aan de yoga en stoelyogalessen in Scharnegoutum. De vakanties zijn bijna voorbij en hopelijk hebben jullie een heerlijke zomer (die nog niet voorbij is). \nVoor de yin yoga zijn nog een paar matjes vrij. Heb je interesse? Dan kun je op dinsdag 26/8 meedoen met de proefles. Deze start om 09.30 en duurt 1 uur. \nVoor de stoelfit lessen (yoga\, ademhaling\, dans en beweging op en rond de stoel) zijn voor komend seizoen ook nog enkele stoelen vrij! \nDe proefles is op dinsdag 26/8\, om 10.45 en de les duurt een uur. \nLesblok 3 start dinsdag 2 september a.s.\ndit zijn 12 lessen van een uur per keer en zijn tot half december. \nVoor meer informatie mag je een mail sturen naar leeuwinnenkracht@gmail.com \nDe lessen worden gegeven door Carla van der Veen\, gecertificeerd yin yoga- en stoelyoga docent .
URL:https://www.scharnegoutum.nl/agenda/yin-yoga/2026-04-21/
CATEGORIES:Midden Zaal
END:VEVENT
BEGIN:VEVENT
DTSTART;TZID=Europe/Amsterdam:20260421T104500
DTEND;TZID=Europe/Amsterdam:20260421T114500
DTSTAMP:20260419T221056
CREATED:20260102T150953Z
LAST-MODIFIED:20260102T150953Z
UID:10007530-1776768300-1776771900@www.scharnegoutum.nl
SUMMARY:Stoelfit voor ouderen
DESCRIPTION:Beste deelnemers aan de yoga en stoelyogalessen in Scharnegoutum. De vakanties zijn bijna voorbij en hopelijk hebben jullie een heerlijke zomer (die nog niet voorbij is). \nVoor de yin yoga zijn nog een paar matjes vrij. Heb je interesse? Dan kun je op dinsdag 26/8 meedoen met de proefles. Deze start om 09.30 en duurt 1 uur. \nVoor de stoelfit lessen (yoga\, ademhaling\, dans en beweging op en rond de stoel) zijn voor komend seizoen ook nog enkele stoelen vrij! \nDe proefles is op dinsdag 26/8\, om 10.45 en de les duurt een uur. \nLesblok 3 start dinsdag 2 september a.s.\ndit zijn 12 lessen van een uur per keer en zijn tot half december. \nVoor meer informatie mag je een mail sturen naar leeuwinnenkracht@gmail.com \nDe lessen worden gegeven door Carla van der Veen\, gecertificeerd yin yoga- en stoelyoga docent .
URL:https://www.scharnegoutum.nl/agenda/stoelfit-voor-ouderen/2026-04-21/
CATEGORIES:Midden Zaal
END:VEVENT
BEGIN:VEVENT
DTSTART;TZID=Europe/Amsterdam:20260421T190000
DTEND;TZID=Europe/Amsterdam:20260421T230000
DTSTAMP:20260419T221056
CREATED:20251219T131443Z
LAST-MODIFIED:20251219T131443Z
UID:10007330-1776798000-1776812400@www.scharnegoutum.nl
SUMMARY:De Lakenkrakers
DESCRIPTION:De lakenkrakers \nDe lakenkrakers is één van de biljardverenigingen van Scharnegoutum\, opgericht in 1977 met een huidig aantal leden van 18 mannen. \nOnze  competitiewedstrijden zijn op dinsdagavond in It Swettehûs en beginnen om 19.30 uur\nWe zijn een vereniging die houdt van tradities en een van deze tradities is een jaarlijks uitstapje naar Terschelling. \nEr is ruimte voor nieuwe leden en hiervoor kunt u contact opnemen met Jan de Vries (secretaris) via 0515-412051 of de voorzitter Jan Bouwmeester ( janbouwmeester@ziggo.nl )
URL:https://www.scharnegoutum.nl/agenda/de-lakenkrakers-7/2026-04-21/
CATEGORIES:Bar
END:VEVENT
BEGIN:VEVENT
DTSTART;TZID=Europe/Amsterdam:20260422T090000
DTEND;TZID=Europe/Amsterdam:20260422T093000
DTSTAMP:20260419T221056
CREATED:20251219T131109Z
LAST-MODIFIED:20251219T131109Z
UID:10007226-1776848400-1776850200@www.scharnegoutum.nl
SUMMARY:Bloedprikken
DESCRIPTION:
URL:https://www.scharnegoutum.nl/agenda/bloedprikken/2026-04-22/
CATEGORIES:Grote Zaal
END:VEVENT
BEGIN:VEVENT
DTSTART;TZID=Europe/Amsterdam:20260422T140000
DTEND;TZID=Europe/Amsterdam:20260422T163000
DTSTAMP:20260419T221056
CREATED:20250821T193743Z
LAST-MODIFIED:20250821T193743Z
UID:10006753-1776866400-1776875400@www.scharnegoutum.nl
SUMMARY:Koersbal
DESCRIPTION:
URL:https://www.scharnegoutum.nl/agenda/koersbal-34/
LOCATION:Dorpshuis\, Legedyk 43\, Scharnegoutum\, Friesland\, 8629RL\, Nederland
CATEGORIES:Grote Zaal
END:VEVENT
BEGIN:VEVENT
DTSTART;TZID=Europe/Amsterdam:20260422T190000
DTEND;TZID=Europe/Amsterdam:20260422T230000
DTSTAMP:20260419T221056
CREATED:20251208T150321Z
LAST-MODIFIED:20251208T150639Z
UID:10007017-1776884400-1776898800@www.scharnegoutum.nl
SUMMARY:Shantykoor De Brûskoppen
DESCRIPTION:De naam zegt het al\, wij zijn een Shantykoor\, opgericht in 1997 in Scharnegoutum.  Een enthousiaste groep heren\, die op allerlei gelegenheden zeemansliederen ten gehore brengt\, met een hoog meezinggehalte.                                         Onze vaste oefenavonden (eens per twee weken) is de woensdagavond. Dan wordt een gevarieerd repertoire ingestudeerd\, dat uit Engelse en Friestalige zeemansliederen bestaat. Nieuwsgierig geworden? Misschien eens meezingen?  Kom gerust eens langs of meldt u aan bij Herman de Jong. 06-27445686 hermandejong59@outlook.com
URL:https://www.scharnegoutum.nl/agenda/shantykoor-de-bruskoppen-2/2026-04-22/
CATEGORIES:Grote Zaal
END:VEVENT
BEGIN:VEVENT
DTSTART;TZID=Europe/Amsterdam:20260422T193000
DTEND;TZID=Europe/Amsterdam:20260422T213000
DTSTAMP:20260419T221056
CREATED:20260314T184244Z
LAST-MODIFIED:20260314T184244Z
UID:10007649-1776886200-1776893400@www.scharnegoutum.nl
SUMMARY:Oranjevereniging
DESCRIPTION:
URL:https://www.scharnegoutum.nl/agenda/oranjevereniging/
CATEGORIES:Speelzaal
END:VEVENT
BEGIN:VEVENT
DTSTART;VALUE=DATE:20260423
DTEND;VALUE=DATE:20260425
DTSTAMP:20260419T221056
CREATED:20260416T170140Z
LAST-MODIFIED:20260416T170223Z
UID:10007774-1776902400-1777075199@www.scharnegoutum.nl
SUMMARY:Installatie ProAv
DESCRIPTION:
URL:https://www.scharnegoutum.nl/agenda/installatie-proav/
CATEGORIES:Bar
END:VEVENT
BEGIN:VEVENT
DTSTART;TZID=Europe/Amsterdam:20260423T153000
DTEND;TZID=Europe/Amsterdam:20260423T183000
DTSTAMP:20260419T221056
CREATED:20251219T131927Z
LAST-MODIFIED:20251219T131927Z
UID:10007429-1776958200-1776969000@www.scharnegoutum.nl
SUMMARY:Muziekles
DESCRIPTION:Deze muzieklessen worden verzorgd door Jan Hibma\, docent groot en klein koper aan het kunstencentrum Atrium Sneek. (www.Kunstencentrumatrium.nl) \nDe lessen zijn op afspraak\, dus de lestijd is in overleg\, en in principe zijn de lessen individueel maar ook groepslessen zijn in te passen.\nEr is mogelijkheid om op elk gewenst koperblaasinstrument les te krijgen waaronder trompet\, bugel\, euphonium\, trombone enz.\nBuiten deze donderdagmiddag zijn er ook andere mogelijkheden om les te volgen.\nHeb je interesse dan is dit je kans om eens kennis te maken met een fantastische hobby\, waarbij het ook mogelijk is om een proefles te volgen. Een instrument wordt geregeld.\nKom op de donderdagmiddag vanaf 16.00 uur eens langs voor een kennismaking.\nVoor informatie Jan Hibma 06 50828310 of stuur een mailtje naar:  jan.hibma@cks.nl\n\n\n\n\n Toevoegen aan kalender
URL:https://www.scharnegoutum.nl/agenda/muziekles/2026-04-23/
CATEGORIES:Podium Zaal
END:VEVENT
BEGIN:VEVENT
DTSTART;TZID=Europe/Amsterdam:20260424T090000
DTEND;TZID=Europe/Amsterdam:20260424T141500
DTSTAMP:20260419T221056
CREATED:20260412T081317Z
LAST-MODIFIED:20260412T081317Z
UID:10007748-1777021200-1777040100@www.scharnegoutum.nl
SUMMARY:Oefensessie musical Op'e Hichte groep 8
DESCRIPTION:
URL:https://www.scharnegoutum.nl/agenda/oefensessie-musical-ope-hichte-groep-8/2026-04-24/
CATEGORIES:Podium Zaal
END:VEVENT
END:VCALENDAR