BEGIN:VCALENDAR
VERSION:2.0
PRODID:-//Scharnegoutum | Skearnegoutum - ECPv6.15.20//NONSGML v1.0//EN
CALSCALE:GREGORIAN
METHOD:PUBLISH
X-ORIGINAL-URL:https://www.scharnegoutum.nl
X-WR-CALDESC:Evenementen voor Scharnegoutum | Skearnegoutum
REFRESH-INTERVAL;VALUE=DURATION:PT1H
X-Robots-Tag:noindex
X-PUBLISHED-TTL:PT1H
BEGIN:VTIMEZONE
TZID:Europe/Amsterdam
BEGIN:DAYLIGHT
TZOFFSETFROM:+0100
TZOFFSETTO:+0200
TZNAME:CEST
DTSTART:20250330T010000
END:DAYLIGHT
BEGIN:STANDARD
TZOFFSETFROM:+0200
TZOFFSETTO:+0100
TZNAME:CET
DTSTART:20251026T010000
END:STANDARD
BEGIN:DAYLIGHT
TZOFFSETFROM:+0100
TZOFFSETTO:+0200
TZNAME:CEST
DTSTART:20260329T010000
END:DAYLIGHT
BEGIN:STANDARD
TZOFFSETFROM:+0200
TZOFFSETTO:+0100
TZNAME:CET
DTSTART:20261025T010000
END:STANDARD
BEGIN:DAYLIGHT
TZOFFSETFROM:+0100
TZOFFSETTO:+0200
TZNAME:CEST
DTSTART:20270328T010000
END:DAYLIGHT
BEGIN:STANDARD
TZOFFSETFROM:+0200
TZOFFSETTO:+0100
TZNAME:CET
DTSTART:20271031T010000
END:STANDARD
END:VTIMEZONE
BEGIN:VEVENT
DTSTART;TZID=Europe/Amsterdam:20260407T093000
DTEND;TZID=Europe/Amsterdam:20260407T103000
DTSTAMP:20260419T221340
CREATED:20260102T145532Z
LAST-MODIFIED:20260102T145532Z
UID:10007502-1775554200-1775557800@www.scharnegoutum.nl
SUMMARY:Yin Yoga
DESCRIPTION:Beste deelnemers aan de yoga en stoelyogalessen in Scharnegoutum. De vakanties zijn bijna voorbij en hopelijk hebben jullie een heerlijke zomer (die nog niet voorbij is). \nVoor de yin yoga zijn nog een paar matjes vrij. Heb je interesse? Dan kun je op dinsdag 26/8 meedoen met de proefles. Deze start om 09.30 en duurt 1 uur. \nVoor de stoelfit lessen (yoga\, ademhaling\, dans en beweging op en rond de stoel) zijn voor komend seizoen ook nog enkele stoelen vrij! \nDe proefles is op dinsdag 26/8\, om 10.45 en de les duurt een uur. \nLesblok 3 start dinsdag 2 september a.s.\ndit zijn 12 lessen van een uur per keer en zijn tot half december. \nVoor meer informatie mag je een mail sturen naar leeuwinnenkracht@gmail.com \nDe lessen worden gegeven door Carla van der Veen\, gecertificeerd yin yoga- en stoelyoga docent .
URL:https://www.scharnegoutum.nl/agenda/yin-yoga/2026-04-07/
CATEGORIES:Midden Zaal
END:VEVENT
BEGIN:VEVENT
DTSTART;TZID=Europe/Amsterdam:20260407T104500
DTEND;TZID=Europe/Amsterdam:20260407T114500
DTSTAMP:20260419T221340
CREATED:20260102T150953Z
LAST-MODIFIED:20260102T150953Z
UID:10007528-1775558700-1775562300@www.scharnegoutum.nl
SUMMARY:Stoelfit voor ouderen
DESCRIPTION:Beste deelnemers aan de yoga en stoelyogalessen in Scharnegoutum. De vakanties zijn bijna voorbij en hopelijk hebben jullie een heerlijke zomer (die nog niet voorbij is). \nVoor de yin yoga zijn nog een paar matjes vrij. Heb je interesse? Dan kun je op dinsdag 26/8 meedoen met de proefles. Deze start om 09.30 en duurt 1 uur. \nVoor de stoelfit lessen (yoga\, ademhaling\, dans en beweging op en rond de stoel) zijn voor komend seizoen ook nog enkele stoelen vrij! \nDe proefles is op dinsdag 26/8\, om 10.45 en de les duurt een uur. \nLesblok 3 start dinsdag 2 september a.s.\ndit zijn 12 lessen van een uur per keer en zijn tot half december. \nVoor meer informatie mag je een mail sturen naar leeuwinnenkracht@gmail.com \nDe lessen worden gegeven door Carla van der Veen\, gecertificeerd yin yoga- en stoelyoga docent .
URL:https://www.scharnegoutum.nl/agenda/stoelfit-voor-ouderen/2026-04-07/
CATEGORIES:Midden Zaal
END:VEVENT
BEGIN:VEVENT
DTSTART;TZID=Europe/Amsterdam:20260407T190000
DTEND;TZID=Europe/Amsterdam:20260407T230000
DTSTAMP:20260419T221340
CREATED:20251219T131443Z
LAST-MODIFIED:20251219T131443Z
UID:10007328-1775588400-1775602800@www.scharnegoutum.nl
SUMMARY:De Lakenkrakers
DESCRIPTION:De lakenkrakers \nDe lakenkrakers is één van de biljardverenigingen van Scharnegoutum\, opgericht in 1977 met een huidig aantal leden van 18 mannen. \nOnze  competitiewedstrijden zijn op dinsdagavond in It Swettehûs en beginnen om 19.30 uur\nWe zijn een vereniging die houdt van tradities en een van deze tradities is een jaarlijks uitstapje naar Terschelling. \nEr is ruimte voor nieuwe leden en hiervoor kunt u contact opnemen met Jan de Vries (secretaris) via 0515-412051 of de voorzitter Jan Bouwmeester ( janbouwmeester@ziggo.nl )
URL:https://www.scharnegoutum.nl/agenda/de-lakenkrakers-7/2026-04-07/
CATEGORIES:Bar
END:VEVENT
BEGIN:VEVENT
DTSTART;TZID=Europe/Amsterdam:20260407T193000
DTEND;TZID=Europe/Amsterdam:20260407T213000
DTSTAMP:20260419T221340
CREATED:20260319T182503Z
LAST-MODIFIED:20260321T180714Z
UID:10007657-1775590200-1775597400@www.scharnegoutum.nl
SUMMARY:Natuerstichting
DESCRIPTION:
URL:https://www.scharnegoutum.nl/agenda/natuerstichting/
CATEGORIES:Podium Zaal
END:VEVENT
BEGIN:VEVENT
DTSTART;TZID=Europe/Amsterdam:20260408T090000
DTEND;TZID=Europe/Amsterdam:20260408T093000
DTSTAMP:20260419T221340
CREATED:20251219T131109Z
LAST-MODIFIED:20251219T131109Z
UID:10007224-1775638800-1775640600@www.scharnegoutum.nl
SUMMARY:Bloedprikken
DESCRIPTION:
URL:https://www.scharnegoutum.nl/agenda/bloedprikken/2026-04-08/
CATEGORIES:Grote Zaal
END:VEVENT
BEGIN:VEVENT
DTSTART;TZID=Europe/Amsterdam:20260408T140000
DTEND;TZID=Europe/Amsterdam:20260408T163000
DTSTAMP:20260419T221340
CREATED:20260207T131041Z
LAST-MODIFIED:20260207T131041Z
UID:10007621-1775656800-1775665800@www.scharnegoutum.nl
SUMMARY:koersbal
DESCRIPTION:
URL:https://www.scharnegoutum.nl/agenda/koersbal-573/
CATEGORIES:Grote Zaal
END:VEVENT
BEGIN:VEVENT
DTSTART;TZID=Europe/Amsterdam:20260408T190000
DTEND;TZID=Europe/Amsterdam:20260408T230000
DTSTAMP:20260419T221340
CREATED:20251208T150321Z
LAST-MODIFIED:20251208T150639Z
UID:10007016-1775674800-1775689200@www.scharnegoutum.nl
SUMMARY:Shantykoor De Brûskoppen
DESCRIPTION:De naam zegt het al\, wij zijn een Shantykoor\, opgericht in 1997 in Scharnegoutum.  Een enthousiaste groep heren\, die op allerlei gelegenheden zeemansliederen ten gehore brengt\, met een hoog meezinggehalte.                                         Onze vaste oefenavonden (eens per twee weken) is de woensdagavond. Dan wordt een gevarieerd repertoire ingestudeerd\, dat uit Engelse en Friestalige zeemansliederen bestaat. Nieuwsgierig geworden? Misschien eens meezingen?  Kom gerust eens langs of meldt u aan bij Herman de Jong. 06-27445686 hermandejong59@outlook.com
URL:https://www.scharnegoutum.nl/agenda/shantykoor-de-bruskoppen-2/2026-04-08/
CATEGORIES:Grote Zaal
END:VEVENT
BEGIN:VEVENT
DTSTART;TZID=Europe/Amsterdam:20260409T153000
DTEND;TZID=Europe/Amsterdam:20260409T183000
DTSTAMP:20260419T221340
CREATED:20251219T131927Z
LAST-MODIFIED:20251219T131927Z
UID:10007427-1775748600-1775759400@www.scharnegoutum.nl
SUMMARY:Muziekles
DESCRIPTION:Deze muzieklessen worden verzorgd door Jan Hibma\, docent groot en klein koper aan het kunstencentrum Atrium Sneek. (www.Kunstencentrumatrium.nl) \nDe lessen zijn op afspraak\, dus de lestijd is in overleg\, en in principe zijn de lessen individueel maar ook groepslessen zijn in te passen.\nEr is mogelijkheid om op elk gewenst koperblaasinstrument les te krijgen waaronder trompet\, bugel\, euphonium\, trombone enz.\nBuiten deze donderdagmiddag zijn er ook andere mogelijkheden om les te volgen.\nHeb je interesse dan is dit je kans om eens kennis te maken met een fantastische hobby\, waarbij het ook mogelijk is om een proefles te volgen. Een instrument wordt geregeld.\nKom op de donderdagmiddag vanaf 16.00 uur eens langs voor een kennismaking.\nVoor informatie Jan Hibma 06 50828310 of stuur een mailtje naar:  jan.hibma@cks.nl\n\n\n\n\n Toevoegen aan kalender
URL:https://www.scharnegoutum.nl/agenda/muziekles/2026-04-09/
CATEGORIES:Podium Zaal
END:VEVENT
BEGIN:VEVENT
DTSTART;TZID=Europe/Amsterdam:20260409T190000
DTEND;TZID=Europe/Amsterdam:20260409T230000
DTSTAMP:20260419T221340
CREATED:20251219T131701Z
LAST-MODIFIED:20251219T131701Z
UID:10007377-1775761200-1775775600@www.scharnegoutum.nl
SUMMARY:BC Scharnegoutum
DESCRIPTION:BC Scharnegoutum\nWij zijn één van de biljard verenigingen van Scharnegoutum\nDoel van de vereniging is het biljartniveau van de leden op een hoger peil te brengen\, zonder dat daarbij de gezelligheid verloren gaat.\nDe vereniging is opgericht in 1955 en telt momenteel 18 leden.\nDe competitiewedstrijden zijn op de donderdagavonden en beginnen om 19.00 uur.\n\nWil je meedoen\, of heb je interesse neem dan contact op met de voorzitter\, Rinus de Schiffart (0657842398)
URL:https://www.scharnegoutum.nl/agenda/bc-scharnegoutum-7/2026-04-09/
CATEGORIES:Bar
END:VEVENT
BEGIN:VEVENT
DTSTART;TZID=Europe/Amsterdam:20260409T193000
DTEND;TZID=Europe/Amsterdam:20260409T210000
DTSTAMP:20260419T221340
CREATED:20260305T193637Z
LAST-MODIFIED:20260305T193637Z
UID:10007643-1775763000-1775768400@www.scharnegoutum.nl
SUMMARY:Huisartsen Swette
DESCRIPTION:
URL:https://www.scharnegoutum.nl/agenda/huisartsen-swette/2026-04-09/
CATEGORIES:Midden Zaal
END:VEVENT
BEGIN:VEVENT
DTSTART;TZID=Europe/Amsterdam:20260410T193000
DTEND;TZID=Europe/Amsterdam:20260410T230000
DTSTAMP:20260419T221340
CREATED:20260107T072526Z
LAST-MODIFIED:20260107T072527Z
UID:10006083-1775849400-1775862000@www.scharnegoutum.nl
SUMMARY:Maatklaverjassen
DESCRIPTION:In Scharnegoutum wordt in de herfst en winter op twee plaatsen gelegenheid gegeven om te klaverjassen\, in het dorpshuis en in de Kromme Tille. \nEr wordt op beide plaatsen alleen maar gezellig gekaart\, dus niet met het mes op tafel. \nEr zijn meestal zo’n 24 liefhebbers aanwezig\, waarbij iedereen welkom is. \nDe prijzen zijn meestal vleesprijzen. \nAanmelden kan kort voor aanvang ter plekke.
URL:https://www.scharnegoutum.nl/agenda/maatklaverjassen-10-3/
LOCATION:Dorpshuis\, Legedyk 43\, Scharnegoutum\, Friesland\, 8629RL\, Nederland
CATEGORIES:Bar
END:VEVENT
BEGIN:VEVENT
DTSTART;TZID=Europe/Amsterdam:20260411T093000
DTEND;TZID=Europe/Amsterdam:20260411T120000
DTSTAMP:20260419T221340
CREATED:20260316T135257Z
LAST-MODIFIED:20260402T165401Z
UID:10007650-1775899800-1775908800@www.scharnegoutum.nl
SUMMARY:Oefenochtend Jan Brens zomerkoor & orkest
DESCRIPTION:
URL:https://www.scharnegoutum.nl/agenda/oefenochtend-jan-brens-zomerkoor-orkest-4/
CATEGORIES:Midden Zaal
END:VEVENT
BEGIN:VEVENT
DTSTART;TZID=Europe/Amsterdam:20260411T200000
DTEND;TZID=Europe/Amsterdam:20260411T220000
DTSTAMP:20260419T221340
CREATED:20251015T165227Z
LAST-MODIFIED:20260107T071440Z
UID:10006919-1775937600-1775944800@www.scharnegoutum.nl
SUMMARY:Bier proeven
DESCRIPTION:Dit is de tweede keer dat de activiteitencommissie van Scharnegoutum dit organiseert\, dus dan weet je dat het een succes was en hopelijk weer wordt.\nWe gaan blind 5 soorten of eigenlijk stijlen van bier proeven en het geheel wordt begeleid door de Bierwinkel uit Sint Nic.\nAan de hand van een slideshow nemen zij u mee in de wereld van de speciaalbieren. Leer meer over het brouwproces\, de geschiedenis\, de brouwerijen en nog veel meer. De bieren worden één voor één geserveerd in proefglaasjes van 15cl. Door voor het proeven niet bekend te maken welk bier er geschonken wordt\, worden de deelnemers uitgedaagd om met alle zintuigen te proeven. Tussendoor zijn er dan wat hapjes om de smaak te motiveren. De proeverij duurt +/- 2 uur en begint om 20.00 uur en de kosten zijn €32.00.\nOpgeven kan via activiteitencommissie@scharnegoutum.nl en vol is vol.
URL:https://www.scharnegoutum.nl/agenda/bier-proeven/
CATEGORIES:Bar
END:VEVENT
END:VCALENDAR