BEGIN:VCALENDAR
VERSION:2.0
PRODID:-//Scharnegoutum | Skearnegoutum - ECPv6.15.20//NONSGML v1.0//EN
CALSCALE:GREGORIAN
METHOD:PUBLISH
X-ORIGINAL-URL:https://www.scharnegoutum.nl
X-WR-CALDESC:Evenementen voor Scharnegoutum | Skearnegoutum
REFRESH-INTERVAL;VALUE=DURATION:PT1H
X-Robots-Tag:noindex
X-PUBLISHED-TTL:PT1H
BEGIN:VTIMEZONE
TZID:Europe/Amsterdam
BEGIN:DAYLIGHT
TZOFFSETFROM:+0100
TZOFFSETTO:+0200
TZNAME:CEST
DTSTART:20250330T010000
END:DAYLIGHT
BEGIN:STANDARD
TZOFFSETFROM:+0200
TZOFFSETTO:+0100
TZNAME:CET
DTSTART:20251026T010000
END:STANDARD
BEGIN:DAYLIGHT
TZOFFSETFROM:+0100
TZOFFSETTO:+0200
TZNAME:CEST
DTSTART:20260329T010000
END:DAYLIGHT
BEGIN:STANDARD
TZOFFSETFROM:+0200
TZOFFSETTO:+0100
TZNAME:CET
DTSTART:20261025T010000
END:STANDARD
BEGIN:DAYLIGHT
TZOFFSETFROM:+0100
TZOFFSETTO:+0200
TZNAME:CEST
DTSTART:20270328T010000
END:DAYLIGHT
BEGIN:STANDARD
TZOFFSETFROM:+0200
TZOFFSETTO:+0100
TZNAME:CET
DTSTART:20271031T010000
END:STANDARD
END:VTIMEZONE
BEGIN:VEVENT
DTSTART;TZID=Europe/Amsterdam:20260316T130000
DTEND;TZID=Europe/Amsterdam:20260316T170000
DTSTAMP:20260419T231511
CREATED:20251219T130904Z
LAST-MODIFIED:20251219T130904Z
UID:10007118-1773666000-1773680400@www.scharnegoutum.nl
SUMMARY:Stal Schukken
DESCRIPTION:Stalschukken \nWij zijn een biljardclub\, ooit gestart in een boerderij\, en sinds lange tijd spelen wij onze competitie avonden in het dorpshuis. \nHeeft U interesse\, kunt u contact opnemen met Thomas de Vries ( alofje@gmail.com )
URL:https://www.scharnegoutum.nl/agenda/stal-schukken/2026-03-16/
CATEGORIES:Bar
END:VEVENT
BEGIN:VEVENT
DTSTART;TZID=Europe/Amsterdam:20260316T190000
DTEND;TZID=Europe/Amsterdam:20260316T230000
DTSTAMP:20260419T231511
CREATED:20251219T130015Z
LAST-MODIFIED:20251219T130015Z
UID:10007040-1773687600-1773702000@www.scharnegoutum.nl
SUMMARY:Fanfare "Swettewyn"
DESCRIPTION:Gegevens:    \n\nWij zijn een Fanfare Korps ontstaan uit het\nsamengaan van Harmonie Sneek en Excelsior\nScharnegoutum. Voor meer informatie op deze\n site het kopje verenigingen/Swettewyn\nWat voor activiteit:       \nmaandagavond is de wekelijkse repetitie \navond.\n\nToegangskosten:     \n\nNVT\n\nKaartenverkoop :    \n\nNVT
URL:https://www.scharnegoutum.nl/agenda/fanfare-swettewyn-2/2026-03-16/
CATEGORIES:Grote Zaal
END:VEVENT
BEGIN:VEVENT
DTSTART;TZID=Europe/Amsterdam:20260316T200000
DTEND;TZID=Europe/Amsterdam:20260316T223000
DTSTAMP:20260419T231511
CREATED:20250907T080009Z
LAST-MODIFIED:20251020T175303Z
UID:10006898-1773691200-1773700200@www.scharnegoutum.nl
SUMMARY:Damclub De Stadige Strikers
DESCRIPTION:Damclub de Stadige Strikers \nWij zijn een dam vereniging en wij spelen wij onze competitie avonden in het dorpshuis. \nHeeft U interesse\, kunt u contact opnemen met Bauke Bos ( baukebos@home.nl )
URL:https://www.scharnegoutum.nl/agenda/damclub-de-stadige-strikers/2026-03-16/
LOCATION:Dorpshuis\, Legedyk 43\, Scharnegoutum\, Friesland\, 8629RL\, Nederland
CATEGORIES:Speelzaal
END:VEVENT
BEGIN:VEVENT
DTSTART;TZID=Europe/Amsterdam:20260317T093000
DTEND;TZID=Europe/Amsterdam:20260317T103000
DTSTAMP:20260419T231511
CREATED:20260102T145532Z
LAST-MODIFIED:20260102T145532Z
UID:10007499-1773739800-1773743400@www.scharnegoutum.nl
SUMMARY:Yin Yoga
DESCRIPTION:Beste deelnemers aan de yoga en stoelyogalessen in Scharnegoutum. De vakanties zijn bijna voorbij en hopelijk hebben jullie een heerlijke zomer (die nog niet voorbij is). \nVoor de yin yoga zijn nog een paar matjes vrij. Heb je interesse? Dan kun je op dinsdag 26/8 meedoen met de proefles. Deze start om 09.30 en duurt 1 uur. \nVoor de stoelfit lessen (yoga\, ademhaling\, dans en beweging op en rond de stoel) zijn voor komend seizoen ook nog enkele stoelen vrij! \nDe proefles is op dinsdag 26/8\, om 10.45 en de les duurt een uur. \nLesblok 3 start dinsdag 2 september a.s.\ndit zijn 12 lessen van een uur per keer en zijn tot half december. \nVoor meer informatie mag je een mail sturen naar leeuwinnenkracht@gmail.com \nDe lessen worden gegeven door Carla van der Veen\, gecertificeerd yin yoga- en stoelyoga docent .
URL:https://www.scharnegoutum.nl/agenda/yin-yoga/2026-03-17/
CATEGORIES:Midden Zaal
END:VEVENT
BEGIN:VEVENT
DTSTART;TZID=Europe/Amsterdam:20260317T104500
DTEND;TZID=Europe/Amsterdam:20260317T114500
DTSTAMP:20260419T231511
CREATED:20260102T150953Z
LAST-MODIFIED:20260102T150953Z
UID:10007525-1773744300-1773747900@www.scharnegoutum.nl
SUMMARY:Stoelfit voor ouderen
DESCRIPTION:Beste deelnemers aan de yoga en stoelyogalessen in Scharnegoutum. De vakanties zijn bijna voorbij en hopelijk hebben jullie een heerlijke zomer (die nog niet voorbij is). \nVoor de yin yoga zijn nog een paar matjes vrij. Heb je interesse? Dan kun je op dinsdag 26/8 meedoen met de proefles. Deze start om 09.30 en duurt 1 uur. \nVoor de stoelfit lessen (yoga\, ademhaling\, dans en beweging op en rond de stoel) zijn voor komend seizoen ook nog enkele stoelen vrij! \nDe proefles is op dinsdag 26/8\, om 10.45 en de les duurt een uur. \nLesblok 3 start dinsdag 2 september a.s.\ndit zijn 12 lessen van een uur per keer en zijn tot half december. \nVoor meer informatie mag je een mail sturen naar leeuwinnenkracht@gmail.com \nDe lessen worden gegeven door Carla van der Veen\, gecertificeerd yin yoga- en stoelyoga docent .
URL:https://www.scharnegoutum.nl/agenda/stoelfit-voor-ouderen/2026-03-17/
CATEGORIES:Midden Zaal
END:VEVENT
BEGIN:VEVENT
DTSTART;TZID=Europe/Amsterdam:20260317T190000
DTEND;TZID=Europe/Amsterdam:20260317T230000
DTSTAMP:20260419T231511
CREATED:20251219T131443Z
LAST-MODIFIED:20251219T131443Z
UID:10007325-1773774000-1773788400@www.scharnegoutum.nl
SUMMARY:De Lakenkrakers
DESCRIPTION:De lakenkrakers \nDe lakenkrakers is één van de biljardverenigingen van Scharnegoutum\, opgericht in 1977 met een huidig aantal leden van 18 mannen. \nOnze  competitiewedstrijden zijn op dinsdagavond in It Swettehûs en beginnen om 19.30 uur\nWe zijn een vereniging die houdt van tradities en een van deze tradities is een jaarlijks uitstapje naar Terschelling. \nEr is ruimte voor nieuwe leden en hiervoor kunt u contact opnemen met Jan de Vries (secretaris) via 0515-412051 of de voorzitter Jan Bouwmeester ( janbouwmeester@ziggo.nl )
URL:https://www.scharnegoutum.nl/agenda/de-lakenkrakers-7/2026-03-17/
CATEGORIES:Bar
END:VEVENT
BEGIN:VEVENT
DTSTART;TZID=Europe/Amsterdam:20260317T193000
DTEND;TZID=Europe/Amsterdam:20260317T223000
DTSTAMP:20260419T231511
CREATED:20251012T101202Z
LAST-MODIFIED:20260313T104655Z
UID:10006917-1773775800-1773786600@www.scharnegoutum.nl
SUMMARY:Jaarvergadering "De Laatste Eer"
DESCRIPTION:Het gaat om de algemene ledenvergadering van onze uitvaartvereniging . \nNaast de gebruikelijke agendapunten als o.a. jaarverslagen en bestuurswijzigingen komt de heer Leo Boermans praten over zijn werk als uitvaartondernemer. \nZowel leden\, maar ook andere geïnteresseerden zijn van harte welkom op deze vergadering.\nDe volledige informatie van onze vereniging kunt U vinden op de website van Scharnegoutum\, onder het kopje verenigingen.\nHebt u naar aanleiding hiervan nog vragen of wilt u lid worden van onze vereniging dan kunt u contact opnemen met de penningmeester Mevr. J. Lootsma tel. 0515-419893 of mailadres penningmeesterdle@outlook.com
URL:https://www.scharnegoutum.nl/agenda/jaarvergadering-de-laatste-eer-4/
LOCATION:Dorpshuis\, Legedyk 43\, Scharnegoutum\, Friesland\, 8629RL\, Nederland
CATEGORIES:Speelzaal
END:VEVENT
BEGIN:VEVENT
DTSTART;VALUE=DATE:20260318
DTEND;VALUE=DATE:20260319
DTSTAMP:20260419T231511
CREATED:20250625T172932Z
LAST-MODIFIED:20250625T172932Z
UID:10005153-1773792000-1773878399@www.scharnegoutum.nl
SUMMARY:Gemeenteraadsverkiezingen
DESCRIPTION:
URL:https://www.scharnegoutum.nl/agenda/gemeenteraadsverkiezingen-2/
LOCATION:Dorpshuis\, Legedyk 43\, Scharnegoutum\, Friesland\, 8629RL\, Nederland
CATEGORIES:Grote Zaal
END:VEVENT
BEGIN:VEVENT
DTSTART;TZID=Europe/Amsterdam:20260318T090000
DTEND;TZID=Europe/Amsterdam:20260318T093000
DTSTAMP:20260419T231511
CREATED:20251219T131109Z
LAST-MODIFIED:20251219T131109Z
UID:10007221-1773824400-1773826200@www.scharnegoutum.nl
SUMMARY:Bloedprikken
DESCRIPTION:
URL:https://www.scharnegoutum.nl/agenda/bloedprikken/2026-03-18/
CATEGORIES:Grote Zaal
END:VEVENT
BEGIN:VEVENT
DTSTART;TZID=Europe/Amsterdam:20260319T153000
DTEND;TZID=Europe/Amsterdam:20260319T183000
DTSTAMP:20260419T231511
CREATED:20251219T131927Z
LAST-MODIFIED:20251219T131927Z
UID:10007424-1773934200-1773945000@www.scharnegoutum.nl
SUMMARY:Muziekles
DESCRIPTION:Deze muzieklessen worden verzorgd door Jan Hibma\, docent groot en klein koper aan het kunstencentrum Atrium Sneek. (www.Kunstencentrumatrium.nl) \nDe lessen zijn op afspraak\, dus de lestijd is in overleg\, en in principe zijn de lessen individueel maar ook groepslessen zijn in te passen.\nEr is mogelijkheid om op elk gewenst koperblaasinstrument les te krijgen waaronder trompet\, bugel\, euphonium\, trombone enz.\nBuiten deze donderdagmiddag zijn er ook andere mogelijkheden om les te volgen.\nHeb je interesse dan is dit je kans om eens kennis te maken met een fantastische hobby\, waarbij het ook mogelijk is om een proefles te volgen. Een instrument wordt geregeld.\nKom op de donderdagmiddag vanaf 16.00 uur eens langs voor een kennismaking.\nVoor informatie Jan Hibma 06 50828310 of stuur een mailtje naar:  jan.hibma@cks.nl\n\n\n\n\n Toevoegen aan kalender
URL:https://www.scharnegoutum.nl/agenda/muziekles/2026-03-19/
CATEGORIES:Podium Zaal
END:VEVENT
BEGIN:VEVENT
DTSTART;TZID=Europe/Amsterdam:20260319T190000
DTEND;TZID=Europe/Amsterdam:20260319T230000
DTSTAMP:20260419T231511
CREATED:20251219T131701Z
LAST-MODIFIED:20251219T131701Z
UID:10007374-1773946800-1773961200@www.scharnegoutum.nl
SUMMARY:BC Scharnegoutum
DESCRIPTION:BC Scharnegoutum\nWij zijn één van de biljard verenigingen van Scharnegoutum\nDoel van de vereniging is het biljartniveau van de leden op een hoger peil te brengen\, zonder dat daarbij de gezelligheid verloren gaat.\nDe vereniging is opgericht in 1955 en telt momenteel 18 leden.\nDe competitiewedstrijden zijn op de donderdagavonden en beginnen om 19.00 uur.\n\nWil je meedoen\, of heb je interesse neem dan contact op met de voorzitter\, Rinus de Schiffart (0657842398)
URL:https://www.scharnegoutum.nl/agenda/bc-scharnegoutum-7/2026-03-19/
CATEGORIES:Bar
END:VEVENT
BEGIN:VEVENT
DTSTART;TZID=Europe/Amsterdam:20260320T190000
DTEND;TZID=Europe/Amsterdam:20260320T230000
DTSTAMP:20260419T231511
CREATED:20251215T102728Z
LAST-MODIFIED:20251219T124323Z
UID:10007029-1774033200-1774047600@www.scharnegoutum.nl
SUMMARY:Biljarttoernooi De Lakenkrakers - Tersoal
DESCRIPTION:
URL:https://www.scharnegoutum.nl/agenda/reservering-biljarttoernooi/
CATEGORIES:Bar
END:VEVENT
END:VCALENDAR