BEGIN:VCALENDAR
VERSION:2.0
PRODID:-//Scharnegoutum | Skearnegoutum - ECPv6.15.20//NONSGML v1.0//EN
CALSCALE:GREGORIAN
METHOD:PUBLISH
X-ORIGINAL-URL:https://www.scharnegoutum.nl
X-WR-CALDESC:Evenementen voor Scharnegoutum | Skearnegoutum
REFRESH-INTERVAL;VALUE=DURATION:PT1H
X-Robots-Tag:noindex
X-PUBLISHED-TTL:PT1H
BEGIN:VTIMEZONE
TZID:Europe/Amsterdam
BEGIN:DAYLIGHT
TZOFFSETFROM:+0100
TZOFFSETTO:+0200
TZNAME:CEST
DTSTART:20250330T010000
END:DAYLIGHT
BEGIN:STANDARD
TZOFFSETFROM:+0200
TZOFFSETTO:+0100
TZNAME:CET
DTSTART:20251026T010000
END:STANDARD
BEGIN:DAYLIGHT
TZOFFSETFROM:+0100
TZOFFSETTO:+0200
TZNAME:CEST
DTSTART:20260329T010000
END:DAYLIGHT
BEGIN:STANDARD
TZOFFSETFROM:+0200
TZOFFSETTO:+0100
TZNAME:CET
DTSTART:20261025T010000
END:STANDARD
BEGIN:DAYLIGHT
TZOFFSETFROM:+0100
TZOFFSETTO:+0200
TZNAME:CEST
DTSTART:20270328T010000
END:DAYLIGHT
BEGIN:STANDARD
TZOFFSETFROM:+0200
TZOFFSETTO:+0100
TZNAME:CET
DTSTART:20271031T010000
END:STANDARD
END:VTIMEZONE
BEGIN:VEVENT
DTSTART;TZID=Europe/Amsterdam:20260105T130000
DTEND;TZID=Europe/Amsterdam:20260105T170000
DTSTAMP:20260419T221257
CREATED:20251219T130904Z
LAST-MODIFIED:20251219T130904Z
UID:10007108-1767618000-1767632400@www.scharnegoutum.nl
SUMMARY:Stal Schukken
DESCRIPTION:Stalschukken \nWij zijn een biljardclub\, ooit gestart in een boerderij\, en sinds lange tijd spelen wij onze competitie avonden in het dorpshuis. \nHeeft U interesse\, kunt u contact opnemen met Thomas de Vries ( alofje@gmail.com )
URL:https://www.scharnegoutum.nl/agenda/stal-schukken/2026-01-05/
CATEGORIES:Bar
END:VEVENT
BEGIN:VEVENT
DTSTART;TZID=Europe/Amsterdam:20260105T190000
DTEND;TZID=Europe/Amsterdam:20260105T230000
DTSTAMP:20260419T221257
CREATED:20251219T130015Z
LAST-MODIFIED:20251219T130015Z
UID:10007030-1767639600-1767654000@www.scharnegoutum.nl
SUMMARY:Fanfare "Swettewyn"
DESCRIPTION:Gegevens:    \n\nWij zijn een Fanfare Korps ontstaan uit het\nsamengaan van Harmonie Sneek en Excelsior\nScharnegoutum. Voor meer informatie op deze\n site het kopje verenigingen/Swettewyn\nWat voor activiteit:       \nmaandagavond is de wekelijkse repetitie \navond.\n\nToegangskosten:     \n\nNVT\n\nKaartenverkoop :    \n\nNVT
URL:https://www.scharnegoutum.nl/agenda/fanfare-swettewyn-2/2026-01-05/
CATEGORIES:Grote Zaal
END:VEVENT
BEGIN:VEVENT
DTSTART;TZID=Europe/Amsterdam:20260106T190000
DTEND;TZID=Europe/Amsterdam:20260106T230000
DTSTAMP:20260419T221257
CREATED:20251219T131443Z
LAST-MODIFIED:20251219T131443Z
UID:10007315-1767726000-1767740400@www.scharnegoutum.nl
SUMMARY:De Lakenkrakers
DESCRIPTION:De lakenkrakers \nDe lakenkrakers is één van de biljardverenigingen van Scharnegoutum\, opgericht in 1977 met een huidig aantal leden van 18 mannen. \nOnze  competitiewedstrijden zijn op dinsdagavond in It Swettehûs en beginnen om 19.30 uur\nWe zijn een vereniging die houdt van tradities en een van deze tradities is een jaarlijks uitstapje naar Terschelling. \nEr is ruimte voor nieuwe leden en hiervoor kunt u contact opnemen met Jan de Vries (secretaris) via 0515-412051 of de voorzitter Jan Bouwmeester ( janbouwmeester@ziggo.nl )
URL:https://www.scharnegoutum.nl/agenda/de-lakenkrakers-7/2026-01-06/
CATEGORIES:Bar
END:VEVENT
BEGIN:VEVENT
DTSTART;TZID=Europe/Amsterdam:20260107T090000
DTEND;TZID=Europe/Amsterdam:20260107T093000
DTSTAMP:20260419T221257
CREATED:20251219T131109Z
LAST-MODIFIED:20251219T131109Z
UID:10007211-1767776400-1767778200@www.scharnegoutum.nl
SUMMARY:Bloedprikken
DESCRIPTION:
URL:https://www.scharnegoutum.nl/agenda/bloedprikken/2026-01-07/
CATEGORIES:Grote Zaal
END:VEVENT
BEGIN:VEVENT
DTSTART;TZID=Europe/Amsterdam:20260108T080000
DTEND;TZID=Europe/Amsterdam:20260110T230000
DTSTAMP:20260419T221257
CREATED:20250519T181015Z
LAST-MODIFIED:20251224T101554Z
UID:10006099-1767859200-1768086000@www.scharnegoutum.nl
SUMMARY:Biljart toernooi jubileum editie
DESCRIPTION:> Op donderdag 8 januari 2026 t/m zaterdag 10 januari 2026 wordt het\n> biljarttoernooi van Scharnegoutum voor de 50e keer georganiseerd.\n> Het programma luidt als volgt:\n> Donderdag 8 januari: 18.00 uur A-klasse\n> 19.00 uur Dames- en\n> D-klasse\n> Vrijdag 9 januari 09.30 uur koffie met gebak en start 55+\n> A\, B en C-klasse\n> 12.00 tot 13.00 uur\n> lunch deelnemers 55+ klasse\n> 18.00 uur C-klasse\n> 19.00 uur B-klasse\n> Zaterdag 10 januari 12.30 uur Finales\n> Na afloop muziek met\n> Sytse Haima\n> Inleg € 5\,00 en minimale leeftijd 16 jaar\, opgeven kan t/m zondag\n> 4 januari 2026 via biljarttoernooi@outlook.com\n> of bij de organisatie: Anouk Boersma\, Geert Atsma\, Johan Wittermans\,\n> Michel Rijsemus\, Otto Akkerman
URL:https://www.scharnegoutum.nl/agenda/biljart-toernooi/
LOCATION:Dorpshuis\, Legedyk 43\, Scharnegoutum\, Friesland\, 8629RL\, Nederland
CATEGORIES:Grote Zaal
END:VEVENT
BEGIN:VEVENT
DTSTART;TZID=Europe/Amsterdam:20260108T153000
DTEND;TZID=Europe/Amsterdam:20260108T183000
DTSTAMP:20260419T221257
CREATED:20251219T131927Z
LAST-MODIFIED:20251219T131927Z
UID:10007414-1767886200-1767897000@www.scharnegoutum.nl
SUMMARY:Muziekles
DESCRIPTION:Deze muzieklessen worden verzorgd door Jan Hibma\, docent groot en klein koper aan het kunstencentrum Atrium Sneek. (www.Kunstencentrumatrium.nl) \nDe lessen zijn op afspraak\, dus de lestijd is in overleg\, en in principe zijn de lessen individueel maar ook groepslessen zijn in te passen.\nEr is mogelijkheid om op elk gewenst koperblaasinstrument les te krijgen waaronder trompet\, bugel\, euphonium\, trombone enz.\nBuiten deze donderdagmiddag zijn er ook andere mogelijkheden om les te volgen.\nHeb je interesse dan is dit je kans om eens kennis te maken met een fantastische hobby\, waarbij het ook mogelijk is om een proefles te volgen. Een instrument wordt geregeld.\nKom op de donderdagmiddag vanaf 16.00 uur eens langs voor een kennismaking.\nVoor informatie Jan Hibma 06 50828310 of stuur een mailtje naar:  jan.hibma@cks.nl\n\n\n\n\n Toevoegen aan kalender
URL:https://www.scharnegoutum.nl/agenda/muziekles/2026-01-08/
CATEGORIES:Podium Zaal
END:VEVENT
END:VCALENDAR