BEGIN:VCALENDAR
VERSION:2.0
PRODID:-//Scharnegoutum | Skearnegoutum - ECPv6.15.20//NONSGML v1.0//EN
CALSCALE:GREGORIAN
METHOD:PUBLISH
X-ORIGINAL-URL:https://www.scharnegoutum.nl
X-WR-CALDESC:Evenementen voor Scharnegoutum | Skearnegoutum
REFRESH-INTERVAL;VALUE=DURATION:PT1H
X-Robots-Tag:noindex
X-PUBLISHED-TTL:PT1H
BEGIN:VTIMEZONE
TZID:Europe/Amsterdam
BEGIN:DAYLIGHT
TZOFFSETFROM:+0100
TZOFFSETTO:+0200
TZNAME:CEST
DTSTART:20240331T010000
END:DAYLIGHT
BEGIN:STANDARD
TZOFFSETFROM:+0200
TZOFFSETTO:+0100
TZNAME:CET
DTSTART:20241027T010000
END:STANDARD
BEGIN:DAYLIGHT
TZOFFSETFROM:+0100
TZOFFSETTO:+0200
TZNAME:CEST
DTSTART:20250330T010000
END:DAYLIGHT
BEGIN:STANDARD
TZOFFSETFROM:+0200
TZOFFSETTO:+0100
TZNAME:CET
DTSTART:20251026T010000
END:STANDARD
BEGIN:DAYLIGHT
TZOFFSETFROM:+0100
TZOFFSETTO:+0200
TZNAME:CEST
DTSTART:20260329T010000
END:DAYLIGHT
BEGIN:STANDARD
TZOFFSETFROM:+0200
TZOFFSETTO:+0100
TZNAME:CET
DTSTART:20261025T010000
END:STANDARD
END:VTIMEZONE
BEGIN:VEVENT
DTSTART;TZID=Europe/Amsterdam:20251110T130000
DTEND;TZID=Europe/Amsterdam:20251110T160000
DTSTAMP:20260420T013209
CREATED:20251023T165151Z
LAST-MODIFIED:20251023T165152Z
UID:10006386-1762779600-1762790400@www.scharnegoutum.nl
SUMMARY:Stal Schukken
DESCRIPTION:Stalschukken \nWij zijn een biljardclub\, ooit gestart in een boerderij\, en sinds lange tijd spelen wij onze competitie avonden in het dorpshuis. \nHeeft U interesse\, kunt u contact opnemen met Thomas de Vries ( alofje@gmail.com )
URL:https://www.scharnegoutum.nl/agenda/stal-schukken-8-2/2025-11-10/
LOCATION:Dorpshuis\, Legedyk 43\, Scharnegoutum\, Friesland\, 8629RL\, Nederland
CATEGORIES:Bar
END:VEVENT
BEGIN:VEVENT
DTSTART;TZID=Europe/Amsterdam:20251110T190000
DTEND;TZID=Europe/Amsterdam:20251110T223000
DTSTAMP:20260420T013209
CREATED:20250804T061544Z
LAST-MODIFIED:20250907T073146Z
UID:10006115-1762801200-1762813800@www.scharnegoutum.nl
SUMMARY:Fanfare "Swettewyn"
DESCRIPTION:Gegevens:    \n\nWij zijn een Fanfare Korps ontstaan uit het\nsamengaan van Harmonie Sneek en Excelsior\nScharnegoutum. Voor meer informatie op deze\n site het kopje verenigingen/Swettewyn\nWat voor activiteit:       \nmaandagavond is de wekelijkse repetitie \navond.\n\nToegangskosten:     \n\nNVT\n\nKaartenverkoop :    \n\nNVT
URL:https://www.scharnegoutum.nl/agenda/swettewyn-10/2025-11-10/
LOCATION:Dorpshuis\, Legedyk 43\, Scharnegoutum\, Friesland\, 8629RL\, Nederland
CATEGORIES:Grote Zaal
END:VEVENT
BEGIN:VEVENT
DTSTART;TZID=Europe/Amsterdam:20251110T200000
DTEND;TZID=Europe/Amsterdam:20251110T220000
DTSTAMP:20260420T013209
CREATED:20251007T172249Z
LAST-MODIFIED:20251007T172249Z
UID:10006913-1762804800-1762812000@www.scharnegoutum.nl
SUMMARY:Vergadering activiteitencommissie
DESCRIPTION:
URL:https://www.scharnegoutum.nl/agenda/vergadering-activiteitencommissie-10/
LOCATION:Dorpshuis\, Legedyk 43\, Scharnegoutum\, Friesland\, 8629RL\, Nederland
CATEGORIES:Podium Zaal
END:VEVENT
BEGIN:VEVENT
DTSTART;TZID=Europe/Amsterdam:20251110T200000
DTEND;TZID=Europe/Amsterdam:20251110T223000
DTSTAMP:20260420T013209
CREATED:20250907T080009Z
LAST-MODIFIED:20251020T175303Z
UID:10006880-1762804800-1762813800@www.scharnegoutum.nl
SUMMARY:Damclub De Stadige Strikers
DESCRIPTION:Damclub de Stadige Strikers \nWij zijn een dam vereniging en wij spelen wij onze competitie avonden in het dorpshuis. \nHeeft U interesse\, kunt u contact opnemen met Bauke Bos ( baukebos@home.nl )
URL:https://www.scharnegoutum.nl/agenda/damclub-de-stadige-strikers/2025-11-10/
LOCATION:Dorpshuis\, Legedyk 43\, Scharnegoutum\, Friesland\, 8629RL\, Nederland
CATEGORIES:Speelzaal
END:VEVENT
BEGIN:VEVENT
DTSTART;TZID=Europe/Amsterdam:20251111T093000
DTEND;TZID=Europe/Amsterdam:20251111T103000
DTSTAMP:20260420T013209
CREATED:20250816T185736Z
LAST-MODIFIED:20250816T185737Z
UID:10006524-1762853400-1762857000@www.scharnegoutum.nl
SUMMARY:Yin Yoga
DESCRIPTION:Beste deelnemers aan de yoga en stoelyogalessen in Scharnegoutum. De vakanties zijn bijna voorbij en hopelijk hebben jullie een heerlijke zomer (die nog niet voorbij is). \nVoor de yin yoga zijn nog een paar matjes vrij. Heb je interesse? Dan kun je op dinsdag 26/8 meedoen met de proefles. Deze start om 09.30 en duurt 1 uur. \nVoor de stoelfit lessen (yoga\, ademhaling\, dans en beweging op en rond de stoel) zijn voor komend seizoen ook nog enkele stoelen vrij! \nDe proefles is op dinsdag 26/8\, om 10.45 en de les duurt een uur. \nLesblok 3 start dinsdag 2 september a.s.\ndit zijn 12 lessen van een uur per keer en zijn tot half december. \nVoor meer informatie mag je een mail sturen naar leeuwinnenkracht@gmail.com \nDe lessen worden gegeven door Carla van der Veen\, gecertificeerd yin yoga- en stoelyoga docent .
URL:https://www.scharnegoutum.nl/agenda/yin-yoga-15-2/2025-11-11/
LOCATION:Dorpshuis\, Legedyk 43\, Scharnegoutum\, Friesland\, 8629RL\, Nederland
CATEGORIES:Midden Zaal
END:VEVENT
BEGIN:VEVENT
DTSTART;TZID=Europe/Amsterdam:20251111T104500
DTEND;TZID=Europe/Amsterdam:20251111T114500
DTSTAMP:20260420T013209
CREATED:20250818T190018Z
LAST-MODIFIED:20250818T190020Z
UID:10006608-1762857900-1762861500@www.scharnegoutum.nl
SUMMARY:Stoelfit voor ouderen
DESCRIPTION:Beste deelnemers aan de yoga en stoelyogalessen in Scharnegoutum. De vakanties zijn bijna voorbij en hopelijk hebben jullie een heerlijke zomer (die nog niet voorbij is). \nVoor de yin yoga zijn nog een paar matjes vrij. Heb je interesse? Dan kun je op dinsdag 26/8 meedoen met de proefles. Deze start om 09.30 en duurt 1 uur. \nVoor de stoelfit lessen (yoga\, ademhaling\, dans en beweging op en rond de stoel) zijn voor komend seizoen ook nog enkele stoelen vrij! \nDe proefles is op dinsdag 26/8\, om 10.45 en de les duurt een uur. \nLesblok 3 start dinsdag 2 september a.s.\ndit zijn 12 lessen van een uur per keer en zijn tot half december. \nVoor meer informatie mag je een mail sturen naar leeuwinnenkracht@gmail.com \nDe lessen worden gegeven door Carla van der Veen\, gecertificeerd yin yoga- en stoelyoga docent .
URL:https://www.scharnegoutum.nl/agenda/stoelfit-voor-ouderen-13-2/2025-11-11/
LOCATION:Dorpshuis\, Legedyk 43\, Scharnegoutum\, Friesland\, 8629RL\, Nederland
CATEGORIES:Midden Zaal
END:VEVENT
BEGIN:VEVENT
DTSTART;TZID=Europe/Amsterdam:20251111T190000
DTEND;TZID=Europe/Amsterdam:20251111T230000
DTSTAMP:20260420T013209
CREATED:20251023T165355Z
LAST-MODIFIED:20251023T165357Z
UID:10006182-1762887600-1762902000@www.scharnegoutum.nl
SUMMARY:De Lakenkrakers
DESCRIPTION:De lakenkrakers \nDe lakenkrakers is één van de biljardverenigingen van Scharnegoutum\, opgericht in 1977 met een huidig aantal leden van 18 mannen. \nOnze  competitiewedstrijden zijn op dinsdagavond in It Swettehûs en beginnen om 19.30 uur\nWe zijn een vereniging die houdt van tradities en een van deze tradities is een jaarlijks uitstapje naar Terschelling. \nEr is ruimte voor nieuwe leden en hiervoor kunt u contact opnemen met Jan de Vries (secretaris) via 0515-412051 of de voorzitter Jan Bouwmeester ( janbouwmeester@ziggo.nl )
URL:https://www.scharnegoutum.nl/agenda/de-lakenkrakers-6-2/2025-11-11/
LOCATION:Dorpshuis\, Legedyk 43\, Scharnegoutum\, Friesland\, 8629RL\, Nederland
CATEGORIES:Bar
END:VEVENT
BEGIN:VEVENT
DTSTART;TZID=Europe/Amsterdam:20251112T090000
DTEND;TZID=Europe/Amsterdam:20251112T093000
DTSTAMP:20260420T013209
CREATED:20240530T181238Z
LAST-MODIFIED:20240530T181410Z
UID:10005648-1762938000-1762939800@www.scharnegoutum.nl
SUMMARY:bloedprikken
DESCRIPTION:
URL:https://www.scharnegoutum.nl/agenda/bloedprikken-6/2025-11-12/
LOCATION:Dorpshuis\, Legedyk 43\, Scharnegoutum\, Friesland\, 8629RL\, Nederland
CATEGORIES:Grote Zaal
END:VEVENT
BEGIN:VEVENT
DTSTART;TZID=Europe/Amsterdam:20251112T143000
DTEND;TZID=Europe/Amsterdam:20251112T163000
DTSTAMP:20260420T013209
CREATED:20251013T181639Z
LAST-MODIFIED:20251013T181640Z
UID:10006800-1762957800-1762965000@www.scharnegoutum.nl
SUMMARY:Fysio Wymbrits "cursus valpreventie"
DESCRIPTION:
URL:https://www.scharnegoutum.nl/agenda/fysio-wymbrits-cursus-valpreventie-6/
LOCATION:Dorpshuis\, Legedyk 43\, Scharnegoutum\, Friesland\, 8629RL\, Nederland
CATEGORIES:Midden Zaal
END:VEVENT
BEGIN:VEVENT
DTSTART;TZID=Europe/Amsterdam:20251112T193000
DTEND;TZID=Europe/Amsterdam:20251112T223000
DTSTAMP:20260420T013209
CREATED:20250403T173001Z
LAST-MODIFIED:20251020T174727Z
UID:10005127-1762975800-1762986600@www.scharnegoutum.nl
SUMMARY:De Keu Keninginnen
DESCRIPTION:De keukoninginnen\nWij zijn de Keukoningen\, de damesbiljardclub van Scharnegoutum\, opgericht in 2023.\nOp de donderdag houden wij onze tweewekelijkse dames biljard avond.\nLijkt het je leuk om mee te doen\, of wil je graag meer informatie?\nStuur dan een mailtje naar: damesbiljartscharnegoutum@hotmail.com\nOf kijk op onze Facebookpagina: ‘De Keu Keninginnen’ Scharnegoutum
URL:https://www.scharnegoutum.nl/agenda/de-keu-keninginnen/2025-11-12/
LOCATION:Dorpshuis\, Legedyk 43\, Scharnegoutum\, Friesland\, 8629RL\, Nederland
CATEGORIES:Bar
END:VEVENT
BEGIN:VEVENT
DTSTART;TZID=Europe/Amsterdam:20251113T153000
DTEND;TZID=Europe/Amsterdam:20251113T183000
DTSTAMP:20260420T013209
CREATED:20250807T065725Z
LAST-MODIFIED:20251205T081522Z
UID:10006320-1763047800-1763058600@www.scharnegoutum.nl
SUMMARY:Muziekles
DESCRIPTION:Deze muzieklessen worden verzorgd door Jan Hibma\, docent groot en klein koper aan het kunstencentrum Atrium Sneek. (www.Kunstencentrumatrium.nl) \nDe lessen zijn op afspraak\, dus de lestijd is in overleg\, en in principe zijn de lessen individueel maar ook groepslessen zijn in te passen.\nEr is mogelijkheid om op elk gewenst koperblaasinstrument les te krijgen waaronder trompet\, bugel\, euphonium\, trombone enz.\nBuiten deze donderdagmiddag zijn er ook andere mogelijkheden om les te volgen.\nHeb je interesse dan is dit je kans om eens kennis te maken met een fantastische hobby\, waarbij het ook mogelijk is om een proefles te volgen. Een instrument wordt geregeld.\nKom op de donderdagmiddag vanaf 16.00 uur eens langs voor een kennismaking.\nVoor informatie Jan Hibma 06 50828310 of stuur een mailtje naar:  jan.hibma@cks.nl
URL:https://www.scharnegoutum.nl/agenda/muziekles-18/2025-11-13/
LOCATION:Dorpshuis\, Legedyk 43\, Scharnegoutum\, Friesland\, 8629RL\, Nederland
CATEGORIES:Podium Zaal
END:VEVENT
BEGIN:VEVENT
DTSTART;TZID=Europe/Amsterdam:20251113T190000
DTEND;TZID=Europe/Amsterdam:20251113T223000
DTSTAMP:20260420T013209
CREATED:20251023T163032Z
LAST-MODIFIED:20251023T164729Z
UID:10006251-1763060400-1763073000@www.scharnegoutum.nl
SUMMARY:BC Scharnegoutum
DESCRIPTION:BC Scharnegoutum\nWij zijn één van de biljard verenigingen van Scharnegoutum\nDoel van de vereniging is het biljartniveau van de leden op een hoger peil te brengen\, zonder dat daarbij de gezelligheid verloren gaat.\nDe vereniging is opgericht in 1955 en telt momenteel 18 leden.\nDe competitiewedstrijden zijn op de donderdagavonden en beginnen om 19.00 uur.\n\nWil je meedoen\, of heb je interesse neem dan contact op met de voorzitter\, Rinus de Schiffart (0657842398)
URL:https://www.scharnegoutum.nl/agenda/bc-scharnegoutum-6/2025-11-13/
LOCATION:Dorpshuis\, Legedyk 43\, Scharnegoutum\, Friesland\, 8629RL\, Nederland
CATEGORIES:Bar
END:VEVENT
BEGIN:VEVENT
DTSTART;TZID=Europe/Amsterdam:20251114T100000
DTEND;TZID=Europe/Amsterdam:20251114T120000
DTSTAMP:20260420T013209
CREATED:20250903T190325Z
LAST-MODIFIED:20250904T190025Z
UID:10006870-1763114400-1763121600@www.scharnegoutum.nl
SUMMARY:Fysio Wymbrits "cursus valpreventie"
DESCRIPTION:
URL:https://www.scharnegoutum.nl/agenda/fysio-wymbrits-cursus-valpreventie-2/2025-11-14/
LOCATION:Dorpshuis\, Legedyk 43\, Scharnegoutum\, Friesland\, 8629RL\, Nederland
CATEGORIES:Midden Zaal
END:VEVENT
BEGIN:VEVENT
DTSTART;TZID=Europe/Amsterdam:20251114T193000
DTEND;TZID=Europe/Amsterdam:20251114T230000
DTSTAMP:20260420T013210
CREATED:20250925T175402Z
LAST-MODIFIED:20251023T165023Z
UID:10006085-1763148600-1763161200@www.scharnegoutum.nl
SUMMARY:Klaverjassen
DESCRIPTION:BC Scharnegoutum\nWij zijn één van de biljard verenigingen van Scharnegoutum\nDoel van de vereniging is het biljartniveau van de leden op een hoger peil te brengen\, zonder dat daarbij de gezelligheid verloren gaat.\nDe vereniging is opgericht in 1955 en telt momenteel 18 leden.\nDe competitiewedstrijden zijn op de donderdagavonden en beginnen om 19.00 uur.\n\nWil je meedoen\, of heb je interesse neem dan contact op met de voorzitter\, Rinus de Schiffart (0657842398)
URL:https://www.scharnegoutum.nl/agenda/klaverjassen-17-3/
LOCATION:Dorpshuis\, Legedyk 43\, Scharnegoutum\, Friesland\, 8629RL\, Nederland
CATEGORIES:Bar
END:VEVENT
BEGIN:VEVENT
DTSTART;TZID=Europe/Amsterdam:20251115T100000
DTEND;TZID=Europe/Amsterdam:20251115T120000
DTSTAMP:20260420T013210
CREATED:20250902T195658Z
LAST-MODIFIED:20251118T183134Z
UID:10006787-1763200800-1763208000@www.scharnegoutum.nl
SUMMARY:Jan Brens Fries blazers Ensemble & koor
DESCRIPTION:
URL:https://www.scharnegoutum.nl/agenda/jan-brens-fries-blazers-ensemble-koor/2025-11-15/
LOCATION:Dorpshuis\, Legedyk 43\, Scharnegoutum\, Friesland\, 8629RL\, Nederland
CATEGORIES:Midden Zaal
END:VEVENT
BEGIN:VEVENT
DTSTART;TZID=Europe/Amsterdam:20251115T143000
DTEND;TZID=Europe/Amsterdam:20251115T173000
DTSTAMP:20260420T013210
CREATED:20250928T094858Z
LAST-MODIFIED:20250928T094858Z
UID:10006909-1763217000-1763227800@www.scharnegoutum.nl
SUMMARY:Yin Yoga
DESCRIPTION:
URL:https://www.scharnegoutum.nl/agenda/yin-yoga-17/
LOCATION:Dorpshuis\, Legedyk 43\, Scharnegoutum\, Friesland\, 8629RL\, Nederland
CATEGORIES:Midden Zaal
END:VEVENT
END:VCALENDAR