BEGIN:VCALENDAR
VERSION:2.0
PRODID:-//Scharnegoutum | Skearnegoutum - ECPv6.15.20//NONSGML v1.0//EN
CALSCALE:GREGORIAN
METHOD:PUBLISH
X-WR-CALNAME:Scharnegoutum | Skearnegoutum
X-ORIGINAL-URL:https://www.scharnegoutum.nl
X-WR-CALDESC:Evenementen voor Scharnegoutum | Skearnegoutum
REFRESH-INTERVAL;VALUE=DURATION:PT1H
X-Robots-Tag:noindex
X-PUBLISHED-TTL:PT1H
BEGIN:VTIMEZONE
TZID:Europe/Amsterdam
BEGIN:DAYLIGHT
TZOFFSETFROM:+0100
TZOFFSETTO:+0200
TZNAME:CEST
DTSTART:20240331T010000
END:DAYLIGHT
BEGIN:STANDARD
TZOFFSETFROM:+0200
TZOFFSETTO:+0100
TZNAME:CET
DTSTART:20241027T010000
END:STANDARD
BEGIN:DAYLIGHT
TZOFFSETFROM:+0100
TZOFFSETTO:+0200
TZNAME:CEST
DTSTART:20250330T010000
END:DAYLIGHT
BEGIN:STANDARD
TZOFFSETFROM:+0200
TZOFFSETTO:+0100
TZNAME:CET
DTSTART:20251026T010000
END:STANDARD
BEGIN:DAYLIGHT
TZOFFSETFROM:+0100
TZOFFSETTO:+0200
TZNAME:CEST
DTSTART:20260329T010000
END:DAYLIGHT
BEGIN:STANDARD
TZOFFSETFROM:+0200
TZOFFSETTO:+0100
TZNAME:CET
DTSTART:20261025T010000
END:STANDARD
END:VTIMEZONE
BEGIN:VEVENT
DTSTART;TZID=Europe/Amsterdam:20250915T130000
DTEND;TZID=Europe/Amsterdam:20250915T160000
DTSTAMP:20260420T064631
CREATED:20250812T171020Z
LAST-MODIFIED:20251020T175220Z
UID:10006378-1757941200-1757952000@www.scharnegoutum.nl
SUMMARY:Stal Schukken
DESCRIPTION:Stalschukken \nWij zijn een biljardclub\, ooit gestart in een boerderij\, en sinds lange tijd spelen wij onze competitie avonden in het dorpshuis. \nHeeft U interesse\, kunt u contact opnemen met Thomas de Vries ( alofje@gmail.com )
URL:https://www.scharnegoutum.nl/agenda/stal-schukken-8/2025-09-15/
LOCATION:Dorpshuis\, Legedyk 43\, Scharnegoutum\, Friesland\, 8629RL\, Nederland
CATEGORIES:Bar
END:VEVENT
BEGIN:VEVENT
DTSTART;TZID=Europe/Amsterdam:20250915T190000
DTEND;TZID=Europe/Amsterdam:20250915T223000
DTSTAMP:20260420T064631
CREATED:20250804T061544Z
LAST-MODIFIED:20250907T073146Z
UID:10006107-1757962800-1757975400@www.scharnegoutum.nl
SUMMARY:Fanfare "Swettewyn"
DESCRIPTION:Gegevens:    \n\nWij zijn een Fanfare Korps ontstaan uit het\nsamengaan van Harmonie Sneek en Excelsior\nScharnegoutum. Voor meer informatie op deze\n site het kopje verenigingen/Swettewyn\nWat voor activiteit:       \nmaandagavond is de wekelijkse repetitie \navond.\n\nToegangskosten:     \n\nNVT\n\nKaartenverkoop :    \n\nNVT
URL:https://www.scharnegoutum.nl/agenda/swettewyn-10/2025-09-15/
LOCATION:Dorpshuis\, Legedyk 43\, Scharnegoutum\, Friesland\, 8629RL\, Nederland
CATEGORIES:Grote Zaal
END:VEVENT
BEGIN:VEVENT
DTSTART;TZID=Europe/Amsterdam:20250916T190000
DTEND;TZID=Europe/Amsterdam:20250916T230000
DTSTAMP:20260420T064631
CREATED:20250807T065219Z
LAST-MODIFIED:20251020T175520Z
UID:10006174-1758049200-1758063600@www.scharnegoutum.nl
SUMMARY:De Lakenkrakers
DESCRIPTION:De lakenkrakers \nDe lakenkrakers is één van de biljardverenigingen van Scharnegoutum\, opgericht in 1977 met een huidig aantal leden van 18 mannen. \nOnze  competitiewedstrijden zijn op dinsdagavond in It Swettehûs en beginnen om 19.30 uur\nWe zijn een vereniging die houdt van tradities en een van deze tradities is een jaarlijks uitstapje naar Terschelling. \nEr is ruimte voor nieuwe leden en hiervoor kunt u contact opnemen met Jan de Vries (secretaris) via 0515-412051 of de voorzitter Jan Bouwmeester ( janbouwmeester@ziggo.nl )
URL:https://www.scharnegoutum.nl/agenda/de-lakenkrakers-6/2025-09-16/
LOCATION:Dorpshuis\, Legedyk 43\, Scharnegoutum\, Friesland\, 8629RL\, Nederland
CATEGORIES:Bar
END:VEVENT
BEGIN:VEVENT
DTSTART;TZID=Europe/Amsterdam:20250917T090000
DTEND;TZID=Europe/Amsterdam:20250917T093000
DTSTAMP:20260420T064631
CREATED:20240530T181238Z
LAST-MODIFIED:20240530T181410Z
UID:10005640-1758099600-1758101400@www.scharnegoutum.nl
SUMMARY:bloedprikken
DESCRIPTION:
URL:https://www.scharnegoutum.nl/agenda/bloedprikken-6/2025-09-17/
LOCATION:Dorpshuis\, Legedyk 43\, Scharnegoutum\, Friesland\, 8629RL\, Nederland
CATEGORIES:Grote Zaal
END:VEVENT
BEGIN:VEVENT
DTSTART;TZID=Europe/Amsterdam:20250917T150000
DTEND;TZID=Europe/Amsterdam:20250917T163000
DTSTAMP:20260420T064631
CREATED:20250903T190209Z
LAST-MODIFIED:20250904T185126Z
UID:10006794-1758121200-1758126600@www.scharnegoutum.nl
SUMMARY:Fysio Wymbrits "cursus valpreventie"
DESCRIPTION:
URL:https://www.scharnegoutum.nl/agenda/fysio-wymbrits-cursus-valpreventie/2025-09-17/
LOCATION:Dorpshuis\, Legedyk 43\, Scharnegoutum\, Friesland\, 8629RL\, Nederland
CATEGORIES:Podium Zaal
END:VEVENT
BEGIN:VEVENT
DTSTART;TZID=Europe/Amsterdam:20250917T193000
DTEND;TZID=Europe/Amsterdam:20250917T223000
DTSTAMP:20260420T064631
CREATED:20250403T173001Z
LAST-MODIFIED:20251020T174727Z
UID:10005123-1758137400-1758148200@www.scharnegoutum.nl
SUMMARY:De Keu Keninginnen
DESCRIPTION:De keukoninginnen\nWij zijn de Keukoningen\, de damesbiljardclub van Scharnegoutum\, opgericht in 2023.\nOp de donderdag houden wij onze tweewekelijkse dames biljard avond.\nLijkt het je leuk om mee te doen\, of wil je graag meer informatie?\nStuur dan een mailtje naar: damesbiljartscharnegoutum@hotmail.com\nOf kijk op onze Facebookpagina: ‘De Keu Keninginnen’ Scharnegoutum
URL:https://www.scharnegoutum.nl/agenda/de-keu-keninginnen/2025-09-17/
LOCATION:Dorpshuis\, Legedyk 43\, Scharnegoutum\, Friesland\, 8629RL\, Nederland
CATEGORIES:Bar
END:VEVENT
BEGIN:VEVENT
DTSTART;TZID=Europe/Amsterdam:20250918T153000
DTEND;TZID=Europe/Amsterdam:20250918T183000
DTSTAMP:20260420T064631
CREATED:20250807T065725Z
LAST-MODIFIED:20251205T081522Z
UID:10006312-1758209400-1758220200@www.scharnegoutum.nl
SUMMARY:Muziekles
DESCRIPTION:Deze muzieklessen worden verzorgd door Jan Hibma\, docent groot en klein koper aan het kunstencentrum Atrium Sneek. (www.Kunstencentrumatrium.nl) \nDe lessen zijn op afspraak\, dus de lestijd is in overleg\, en in principe zijn de lessen individueel maar ook groepslessen zijn in te passen.\nEr is mogelijkheid om op elk gewenst koperblaasinstrument les te krijgen waaronder trompet\, bugel\, euphonium\, trombone enz.\nBuiten deze donderdagmiddag zijn er ook andere mogelijkheden om les te volgen.\nHeb je interesse dan is dit je kans om eens kennis te maken met een fantastische hobby\, waarbij het ook mogelijk is om een proefles te volgen. Een instrument wordt geregeld.\nKom op de donderdagmiddag vanaf 16.00 uur eens langs voor een kennismaking.\nVoor informatie Jan Hibma 06 50828310 of stuur een mailtje naar:  jan.hibma@cks.nl
URL:https://www.scharnegoutum.nl/agenda/muziekles-18/2025-09-18/
LOCATION:Dorpshuis\, Legedyk 43\, Scharnegoutum\, Friesland\, 8629RL\, Nederland
CATEGORIES:Podium Zaal
END:VEVENT
BEGIN:VEVENT
DTSTART;TZID=Europe/Amsterdam:20250921T100000
DTEND;TZID=Europe/Amsterdam:20250921T180000
DTSTAMP:20260420T064631
CREATED:20250804T055720Z
LAST-MODIFIED:20250804T061103Z
UID:10006103-1758448800-1758477600@www.scharnegoutum.nl
SUMMARY:PKN "Startzondag" met een potluck lunch
DESCRIPTION:Startzondag
URL:https://www.scharnegoutum.nl/agenda/pkn-startzondag-met-een-potluck-lunch/
LOCATION:Dorpshuis\, Legedyk 43\, Scharnegoutum\, Friesland\, 8629RL\, Nederland
CATEGORIES:Grote Zaal
END:VEVENT
END:VCALENDAR