BEGIN:VCALENDAR
VERSION:2.0
PRODID:-//Scharnegoutum | Skearnegoutum - ECPv6.15.20//NONSGML v1.0//EN
CALSCALE:GREGORIAN
METHOD:PUBLISH
X-ORIGINAL-URL:https://www.scharnegoutum.nl
X-WR-CALDESC:Evenementen voor Scharnegoutum | Skearnegoutum
REFRESH-INTERVAL;VALUE=DURATION:PT1H
X-Robots-Tag:noindex
X-PUBLISHED-TTL:PT1H
BEGIN:VTIMEZONE
TZID:Europe/Amsterdam
BEGIN:DAYLIGHT
TZOFFSETFROM:+0100
TZOFFSETTO:+0200
TZNAME:CEST
DTSTART:20240331T010000
END:DAYLIGHT
BEGIN:STANDARD
TZOFFSETFROM:+0200
TZOFFSETTO:+0100
TZNAME:CET
DTSTART:20241027T010000
END:STANDARD
BEGIN:DAYLIGHT
TZOFFSETFROM:+0100
TZOFFSETTO:+0200
TZNAME:CEST
DTSTART:20250330T010000
END:DAYLIGHT
BEGIN:STANDARD
TZOFFSETFROM:+0200
TZOFFSETTO:+0100
TZNAME:CET
DTSTART:20251026T010000
END:STANDARD
BEGIN:DAYLIGHT
TZOFFSETFROM:+0100
TZOFFSETTO:+0200
TZNAME:CEST
DTSTART:20260329T010000
END:DAYLIGHT
BEGIN:STANDARD
TZOFFSETFROM:+0200
TZOFFSETTO:+0100
TZNAME:CET
DTSTART:20261025T010000
END:STANDARD
END:VTIMEZONE
BEGIN:VEVENT
DTSTART;TZID=Europe/Amsterdam:20250707T103000
DTEND;TZID=Europe/Amsterdam:20250707T141500
DTSTAMP:20260420T102244
CREATED:20250331T182645Z
LAST-MODIFIED:20250413T070043Z
UID:10006068-1751884200-1751897700@www.scharnegoutum.nl
SUMMARY:CBS Op'e Hichte
DESCRIPTION:
URL:https://www.scharnegoutum.nl/agenda/cbs-ope-hichte-24-2025-06-30/2025-07-07/
LOCATION:Dorpshuis\, Legedyk 43\, Scharnegoutum\, Friesland\, 8629RL\, Nederland
CATEGORIES:Podium Zaal
END:VEVENT
BEGIN:VEVENT
DTSTART;TZID=Europe/Amsterdam:20250707T190000
DTEND;TZID=Europe/Amsterdam:20250707T223000
DTSTAMP:20260420T102244
CREATED:20241226T165317Z
LAST-MODIFIED:20241226T165317Z
UID:10005867-1751914800-1751927400@www.scharnegoutum.nl
SUMMARY:Swettewyn
DESCRIPTION:
URL:https://www.scharnegoutum.nl/agenda/swettewyn-6/2025-07-07/
LOCATION:Dorpshuis\, Legedyk 43\, Scharnegoutum\, Friesland\, 8629RL\, Nederland
CATEGORIES:Grote Zaal
END:VEVENT
BEGIN:VEVENT
DTSTART;VALUE=DATE:20250708
DTEND;VALUE=DATE:20250709
DTSTAMP:20260420T102244
CREATED:20250331T190253Z
LAST-MODIFIED:20250331T190253Z
UID:10005120-1751932800-1752019199@www.scharnegoutum.nl
SUMMARY:Musical Groep 8 Op'e Hichte
DESCRIPTION:
URL:https://www.scharnegoutum.nl/agenda/musical-groep-8-ope-hichte-2/
LOCATION:Dorpshuis\, Legedyk 43\, Scharnegoutum\, Friesland\, 8629RL\, Nederland
CATEGORIES:Grote Zaal
END:VEVENT
BEGIN:VEVENT
DTSTART;TZID=Europe/Amsterdam:20250709T090000
DTEND;TZID=Europe/Amsterdam:20250709T093000
DTSTAMP:20260420T102244
CREATED:20240530T181238Z
LAST-MODIFIED:20240530T181410Z
UID:10005630-1752051600-1752053400@www.scharnegoutum.nl
SUMMARY:bloedprikken
DESCRIPTION:
URL:https://www.scharnegoutum.nl/agenda/bloedprikken-6/2025-07-09/
LOCATION:Dorpshuis\, Legedyk 43\, Scharnegoutum\, Friesland\, 8629RL\, Nederland
CATEGORIES:Grote Zaal
END:VEVENT
BEGIN:VEVENT
DTSTART;TZID=Europe/Amsterdam:20250710T153000
DTEND;TZID=Europe/Amsterdam:20250710T183000
DTSTAMP:20260420T102244
CREATED:20240530T182539Z
LAST-MODIFIED:20250331T181650Z
UID:10004799-1752161400-1752172200@www.scharnegoutum.nl
SUMMARY:muziekles
DESCRIPTION:
URL:https://www.scharnegoutum.nl/agenda/muziekles-16-2024-09-12-2025-07-10/
LOCATION:Dorpshuis\, Legedyk 43\, Scharnegoutum\, Friesland\, 8629RL\, Nederland
CATEGORIES:Midden Zaal
END:VEVENT
END:VCALENDAR