BEGIN:VCALENDAR
VERSION:2.0
PRODID:-//Scharnegoutum | Skearnegoutum - ECPv6.15.20//NONSGML v1.0//EN
CALSCALE:GREGORIAN
METHOD:PUBLISH
X-WR-CALNAME:Scharnegoutum | Skearnegoutum
X-ORIGINAL-URL:https://www.scharnegoutum.nl
X-WR-CALDESC:Evenementen voor Scharnegoutum | Skearnegoutum
REFRESH-INTERVAL;VALUE=DURATION:PT1H
X-Robots-Tag:noindex
X-PUBLISHED-TTL:PT1H
BEGIN:VTIMEZONE
TZID:Europe/Amsterdam
BEGIN:DAYLIGHT
TZOFFSETFROM:+0100
TZOFFSETTO:+0200
TZNAME:CEST
DTSTART:20240331T010000
END:DAYLIGHT
BEGIN:STANDARD
TZOFFSETFROM:+0200
TZOFFSETTO:+0100
TZNAME:CET
DTSTART:20241027T010000
END:STANDARD
BEGIN:DAYLIGHT
TZOFFSETFROM:+0100
TZOFFSETTO:+0200
TZNAME:CEST
DTSTART:20250330T010000
END:DAYLIGHT
BEGIN:STANDARD
TZOFFSETFROM:+0200
TZOFFSETTO:+0100
TZNAME:CET
DTSTART:20251026T010000
END:STANDARD
BEGIN:DAYLIGHT
TZOFFSETFROM:+0100
TZOFFSETTO:+0200
TZNAME:CEST
DTSTART:20260329T010000
END:DAYLIGHT
BEGIN:STANDARD
TZOFFSETFROM:+0200
TZOFFSETTO:+0100
TZNAME:CET
DTSTART:20261025T010000
END:STANDARD
END:VTIMEZONE
BEGIN:VEVENT
DTSTART;TZID=Europe/Amsterdam:20250224T130000
DTEND;TZID=Europe/Amsterdam:20250224T163000
DTSTAMP:20260421T125453
CREATED:20241226T165109Z
LAST-MODIFIED:20241226T165109Z
UID:10005836-1740402000-1740414600@www.scharnegoutum.nl
SUMMARY:Stal Schukken
DESCRIPTION:
URL:https://www.scharnegoutum.nl/agenda/stal-schukken-7/2025-02-24/
LOCATION:Dorpshuis\, Legedyk 43\, Scharnegoutum\, Friesland\, 8629RL\, Nederland
CATEGORIES:Bar
END:VEVENT
BEGIN:VEVENT
DTSTART;TZID=Europe/Amsterdam:20250224T140000
DTEND;TZID=Europe/Amsterdam:20250224T180000
DTSTAMP:20260421T125453
CREATED:20230331T152659Z
LAST-MODIFIED:20230331T153101Z
UID:10004472-1740405600-1740420000@www.scharnegoutum.nl
SUMMARY:Stal Schukken
DESCRIPTION:
URL:https://www.scharnegoutum.nl/agenda/stal-schukken-3/2025-02-24/
LOCATION:Dorpshuis\, Legedyk 43\, Scharnegoutum\, Friesland\, 8629RL\, Nederland
CATEGORIES:Bar
END:VEVENT
BEGIN:VEVENT
DTSTART;TZID=Europe/Amsterdam:20250224T190000
DTEND;TZID=Europe/Amsterdam:20250224T223000
DTSTAMP:20260421T125453
CREATED:20241226T165317Z
LAST-MODIFIED:20241226T165317Z
UID:10005850-1740423600-1740436200@www.scharnegoutum.nl
SUMMARY:Swettewyn
DESCRIPTION:
URL:https://www.scharnegoutum.nl/agenda/swettewyn-6/2025-02-24/
LOCATION:Dorpshuis\, Legedyk 43\, Scharnegoutum\, Friesland\, 8629RL\, Nederland
CATEGORIES:Grote Zaal
END:VEVENT
BEGIN:VEVENT
DTSTART;TZID=Europe/Amsterdam:20250224T200000
DTEND;TZID=Europe/Amsterdam:20250224T200000
DTSTAMP:20260421T125453
CREATED:20211119T144027Z
LAST-MODIFIED:20211127T103141Z
UID:10004052-1740427200-1740427200@www.scharnegoutum.nl
SUMMARY:Stadige Strikers
DESCRIPTION:
URL:https://www.scharnegoutum.nl/agenda/dammen/2025-02-24/
LOCATION:Dorpshuis\, Legedyk 43\, Scharnegoutum\, Friesland\, 8629RL\, Nederland
CATEGORIES:Speelzaal
END:VEVENT
BEGIN:VEVENT
DTSTART;TZID=Europe/Amsterdam:20250224T200000
DTEND;TZID=Europe/Amsterdam:20250224T230000
DTSTAMP:20260421T125453
CREATED:20240608T175117Z
LAST-MODIFIED:20240608T175117Z
UID:10004870-1740427200-1740438000@www.scharnegoutum.nl
SUMMARY:De Stadige Strikers
DESCRIPTION:
URL:https://www.scharnegoutum.nl/agenda/de-stadige-strikers-5/2025-02-24/
LOCATION:Dorpshuis\, Legedyk 43\, Scharnegoutum\, Friesland\, 8629RL\, Nederland
CATEGORIES:Speelzaal
END:VEVENT
BEGIN:VEVENT
DTSTART;TZID=Europe/Amsterdam:20250225T093000
DTEND;TZID=Europe/Amsterdam:20250225T103000
DTSTAMP:20260421T125453
CREATED:20250121T192919Z
LAST-MODIFIED:20250121T192919Z
UID:10005923-1740475800-1740479400@www.scharnegoutum.nl
SUMMARY:Yin Yoga
DESCRIPTION:
URL:https://www.scharnegoutum.nl/agenda/yin-yoga-11/2025-02-25/
LOCATION:Dorpshuis\, Legedyk 43\, Scharnegoutum\, Friesland\, 8629RL\, Nederland
CATEGORIES:Midden Zaal
END:VEVENT
BEGIN:VEVENT
DTSTART;TZID=Europe/Amsterdam:20250225T104500
DTEND;TZID=Europe/Amsterdam:20250225T114500
DTSTAMP:20260421T125453
CREATED:20250121T193339Z
LAST-MODIFIED:20250121T193339Z
UID:10005929-1740480300-1740483900@www.scharnegoutum.nl
SUMMARY:Stoelfit voor ouderen
DESCRIPTION:
URL:https://www.scharnegoutum.nl/agenda/stoelfit-voor-ouderen-10/2025-02-25/
LOCATION:Dorpshuis\, Legedyk 43\, Scharnegoutum\, Friesland\, 8629RL\, Nederland
CATEGORIES:Midden Zaal
END:VEVENT
BEGIN:VEVENT
DTSTART;TZID=Europe/Amsterdam:20250225T190000
DTEND;TZID=Europe/Amsterdam:20250225T223000
DTSTAMP:20260421T125453
CREATED:20241226T165608Z
LAST-MODIFIED:20241226T165608Z
UID:10005877-1740510000-1740522600@www.scharnegoutum.nl
SUMMARY:De Lakenkrakers
DESCRIPTION:
URL:https://www.scharnegoutum.nl/agenda/de-lakenkrakers-5/2025-02-25/
LOCATION:Dorpshuis\, Legedyk 43\, Scharnegoutum\, Friesland\, 8629RL\, Nederland
CATEGORIES:Bar
END:VEVENT
BEGIN:VEVENT
DTSTART;TZID=Europe/Amsterdam:20250226T090000
DTEND;TZID=Europe/Amsterdam:20250226T093000
DTSTAMP:20260421T125453
CREATED:20240530T180737Z
LAST-MODIFIED:20240530T181030Z
UID:10005569-1740560400-1740562200@www.scharnegoutum.nl
SUMMARY:bloedprikken
DESCRIPTION:
URL:https://www.scharnegoutum.nl/agenda/bloedprikken-5/2025-02-26/
LOCATION:Dorpshuis\, Legedyk 43\, Scharnegoutum\, Friesland\, 8629RL\, Nederland
CATEGORIES:Grote Zaal
END:VEVENT
BEGIN:VEVENT
DTSTART;TZID=Europe/Amsterdam:20250226T090000
DTEND;TZID=Europe/Amsterdam:20250226T093000
DTSTAMP:20260421T125453
CREATED:20240530T181238Z
LAST-MODIFIED:20240530T181410Z
UID:10005611-1740560400-1740562200@www.scharnegoutum.nl
SUMMARY:bloedprikken
DESCRIPTION:
URL:https://www.scharnegoutum.nl/agenda/bloedprikken-6/2025-02-26/
LOCATION:Dorpshuis\, Legedyk 43\, Scharnegoutum\, Friesland\, 8629RL\, Nederland
CATEGORIES:Grote Zaal
END:VEVENT
BEGIN:VEVENT
DTSTART;TZID=Europe/Amsterdam:20250226T140000
DTEND;TZID=Europe/Amsterdam:20250226T163000
DTSTAMP:20260421T125453
CREATED:20240915T181526Z
LAST-MODIFIED:20241001T135523Z
UID:10004943-1740578400-1740587400@www.scharnegoutum.nl
SUMMARY:Koersbal
DESCRIPTION:
URL:https://www.scharnegoutum.nl/agenda/koersbal-30/2025-02-26/
LOCATION:Dorpshuis\, Legedyk 43\, Scharnegoutum\, Friesland\, 8629RL\, Nederland
CATEGORIES:Grote Zaal
END:VEVENT
BEGIN:VEVENT
DTSTART;TZID=Europe/Amsterdam:20250226T193000
DTEND;TZID=Europe/Amsterdam:20250226T223000
DTSTAMP:20260421T125453
CREATED:20241117T142150Z
LAST-MODIFIED:20241117T144720Z
UID:10005016-1740598200-1740609000@www.scharnegoutum.nl
SUMMARY:Dames biljarten
DESCRIPTION:
URL:https://www.scharnegoutum.nl/agenda/dames-biljarten/2025-02-26/
LOCATION:Dorpshuis\, Legedyk 43\, Scharnegoutum\, Friesland\, 8629RL\, Nederland
CATEGORIES:Bar
END:VEVENT
BEGIN:VEVENT
DTSTART;TZID=Europe/Amsterdam:20250227T153000
DTEND;TZID=Europe/Amsterdam:20250227T183000
DTSTAMP:20260421T125453
CREATED:20240530T182539Z
LAST-MODIFIED:20250331T181219Z
UID:10005675-1740670200-1740681000@www.scharnegoutum.nl
SUMMARY:muziekles
DESCRIPTION:
URL:https://www.scharnegoutum.nl/agenda/muziekles-16-2024-09-12/2025-02-27/
LOCATION:Dorpshuis\, Legedyk 43\, Scharnegoutum\, Friesland\, 8629RL\, Nederland
CATEGORIES:Podium Zaal
END:VEVENT
BEGIN:VEVENT
DTSTART;TZID=Europe/Amsterdam:20250227T193000
DTEND;TZID=Europe/Amsterdam:20250227T223000
DTSTAMP:20260421T125453
CREATED:20241226T170439Z
LAST-MODIFIED:20241226T170439Z
UID:10005892-1740684600-1740695400@www.scharnegoutum.nl
SUMMARY:BC Scharnegoutum
DESCRIPTION:
URL:https://www.scharnegoutum.nl/agenda/bc-scharnegoutum-5/2025-02-27/
LOCATION:Dorpshuis\, Legedyk 43\, Scharnegoutum\, Friesland\, 8629RL\, Nederland
CATEGORIES:Bar
END:VEVENT
BEGIN:VEVENT
DTSTART;TZID=Europe/Amsterdam:20250228T150000
DTEND;TZID=Europe/Amsterdam:20250228T173000
DTSTAMP:20260421T125453
CREATED:20250225T184515Z
LAST-MODIFIED:20250225T184515Z
UID:10005942-1740754800-1740763800@www.scharnegoutum.nl
SUMMARY:Uitvaartbijeenkomst
DESCRIPTION:
URL:https://www.scharnegoutum.nl/agenda/uitvaartbijeenkomst-19/
LOCATION:Dorpshuis\, Legedyk 43\, Scharnegoutum\, Friesland\, 8629RL\, Nederland
CATEGORIES:Grote Zaal
END:VEVENT
BEGIN:VEVENT
DTSTART;TZID=Europe/Amsterdam:20250301T100000
DTEND;TZID=Europe/Amsterdam:20250301T120000
DTSTAMP:20260421T125453
CREATED:20240530T180131Z
LAST-MODIFIED:20240530T180131Z
UID:10005539-1740823200-1740830400@www.scharnegoutum.nl
SUMMARY:Putsje café
DESCRIPTION:
URL:https://www.scharnegoutum.nl/agenda/putsje-cafe/2025-03-01/
LOCATION:Dorpshuis\, Legedyk 43\, Scharnegoutum\, Friesland\, 8629RL\, Nederland
CATEGORIES:Bar
END:VEVENT
BEGIN:VEVENT
DTSTART;TZID=Europe/Amsterdam:20250301T160000
DTEND;TZID=Europe/Amsterdam:20250301T230000
DTSTAMP:20260421T125453
CREATED:20240927T164927Z
LAST-MODIFIED:20241117T131420Z
UID:10005796-1740844800-1740870000@www.scharnegoutum.nl
SUMMARY:Inloopcafe
DESCRIPTION:
URL:https://www.scharnegoutum.nl/agenda/inloopcafe-3/2025-03-01/
LOCATION:Dorpshuis\, Legedyk 43\, Scharnegoutum\, Friesland\, 8629RL\, Nederland
CATEGORIES:Bar
END:VEVENT
END:VCALENDAR