BEGIN:VCALENDAR
VERSION:2.0
PRODID:-//Scharnegoutum | Skearnegoutum - ECPv6.15.20//NONSGML v1.0//EN
CALSCALE:GREGORIAN
METHOD:PUBLISH
X-WR-CALNAME:Scharnegoutum | Skearnegoutum
X-ORIGINAL-URL:https://www.scharnegoutum.nl
X-WR-CALDESC:Evenementen voor Scharnegoutum | Skearnegoutum
REFRESH-INTERVAL;VALUE=DURATION:PT1H
X-Robots-Tag:noindex
X-PUBLISHED-TTL:PT1H
BEGIN:VTIMEZONE
TZID:Europe/Amsterdam
BEGIN:DAYLIGHT
TZOFFSETFROM:+0100
TZOFFSETTO:+0200
TZNAME:CEST
DTSTART:20240331T010000
END:DAYLIGHT
BEGIN:STANDARD
TZOFFSETFROM:+0200
TZOFFSETTO:+0100
TZNAME:CET
DTSTART:20241027T010000
END:STANDARD
BEGIN:DAYLIGHT
TZOFFSETFROM:+0100
TZOFFSETTO:+0200
TZNAME:CEST
DTSTART:20250330T010000
END:DAYLIGHT
BEGIN:STANDARD
TZOFFSETFROM:+0200
TZOFFSETTO:+0100
TZNAME:CET
DTSTART:20251026T010000
END:STANDARD
BEGIN:DAYLIGHT
TZOFFSETFROM:+0100
TZOFFSETTO:+0200
TZNAME:CEST
DTSTART:20260329T010000
END:DAYLIGHT
BEGIN:STANDARD
TZOFFSETFROM:+0200
TZOFFSETTO:+0100
TZNAME:CET
DTSTART:20261025T010000
END:STANDARD
END:VTIMEZONE
BEGIN:VEVENT
DTSTART;TZID=Europe/Amsterdam:20250217T130000
DTEND;TZID=Europe/Amsterdam:20250217T163000
DTSTAMP:20260421T143014
CREATED:20241226T165109Z
LAST-MODIFIED:20241226T165109Z
UID:10005835-1739797200-1739809800@www.scharnegoutum.nl
SUMMARY:Stal Schukken
DESCRIPTION:
URL:https://www.scharnegoutum.nl/agenda/stal-schukken-7/2025-02-17/
LOCATION:Dorpshuis\, Legedyk 43\, Scharnegoutum\, Friesland\, 8629RL\, Nederland
CATEGORIES:Bar
END:VEVENT
BEGIN:VEVENT
DTSTART;TZID=Europe/Amsterdam:20250217T140000
DTEND;TZID=Europe/Amsterdam:20250217T180000
DTSTAMP:20260421T143014
CREATED:20230331T152659Z
LAST-MODIFIED:20230331T153101Z
UID:10004471-1739800800-1739815200@www.scharnegoutum.nl
SUMMARY:Stal Schukken
DESCRIPTION:
URL:https://www.scharnegoutum.nl/agenda/stal-schukken-3/2025-02-17/
LOCATION:Dorpshuis\, Legedyk 43\, Scharnegoutum\, Friesland\, 8629RL\, Nederland
CATEGORIES:Bar
END:VEVENT
BEGIN:VEVENT
DTSTART;TZID=Europe/Amsterdam:20250217T190000
DTEND;TZID=Europe/Amsterdam:20250217T223000
DTSTAMP:20260421T143014
CREATED:20241226T165317Z
LAST-MODIFIED:20250124T181506Z
UID:10005869-1739818800-1739831400@www.scharnegoutum.nl
SUMMARY:Ledenvergadering Swettewyn
DESCRIPTION:
URL:https://www.scharnegoutum.nl/agenda/swettewyn-6-2025-02-17/
LOCATION:Dorpshuis\, Legedyk 43\, Scharnegoutum\, Friesland\, 8629RL\, Nederland
CATEGORIES:Grote Zaal
END:VEVENT
BEGIN:VEVENT
DTSTART;TZID=Europe/Amsterdam:20250217T200000
DTEND;TZID=Europe/Amsterdam:20250217T200000
DTSTAMP:20260421T143014
CREATED:20211119T144027Z
LAST-MODIFIED:20211127T103141Z
UID:10004051-1739822400-1739822400@www.scharnegoutum.nl
SUMMARY:Stadige Strikers
DESCRIPTION:
URL:https://www.scharnegoutum.nl/agenda/dammen/2025-02-17/
LOCATION:Dorpshuis\, Legedyk 43\, Scharnegoutum\, Friesland\, 8629RL\, Nederland
CATEGORIES:Speelzaal
END:VEVENT
BEGIN:VEVENT
DTSTART;TZID=Europe/Amsterdam:20250217T200000
DTEND;TZID=Europe/Amsterdam:20250217T230000
DTSTAMP:20260421T143014
CREATED:20240608T175117Z
LAST-MODIFIED:20240608T175117Z
UID:10004869-1739822400-1739833200@www.scharnegoutum.nl
SUMMARY:De Stadige Strikers
DESCRIPTION:
URL:https://www.scharnegoutum.nl/agenda/de-stadige-strikers-5/2025-02-17/
LOCATION:Dorpshuis\, Legedyk 43\, Scharnegoutum\, Friesland\, 8629RL\, Nederland
CATEGORIES:Speelzaal
END:VEVENT
BEGIN:VEVENT
DTSTART;TZID=Europe/Amsterdam:20250218T093000
DTEND;TZID=Europe/Amsterdam:20250218T103000
DTSTAMP:20260421T143014
CREATED:20250121T192919Z
LAST-MODIFIED:20250121T192919Z
UID:10005922-1739871000-1739874600@www.scharnegoutum.nl
SUMMARY:Yin Yoga
DESCRIPTION:
URL:https://www.scharnegoutum.nl/agenda/yin-yoga-11/2025-02-18/
LOCATION:Dorpshuis\, Legedyk 43\, Scharnegoutum\, Friesland\, 8629RL\, Nederland
CATEGORIES:Midden Zaal
END:VEVENT
BEGIN:VEVENT
DTSTART;TZID=Europe/Amsterdam:20250218T104500
DTEND;TZID=Europe/Amsterdam:20250218T114500
DTSTAMP:20260421T143014
CREATED:20250121T193339Z
LAST-MODIFIED:20250121T193339Z
UID:10005928-1739875500-1739879100@www.scharnegoutum.nl
SUMMARY:Stoelfit voor ouderen
DESCRIPTION:
URL:https://www.scharnegoutum.nl/agenda/stoelfit-voor-ouderen-10/2025-02-18/
LOCATION:Dorpshuis\, Legedyk 43\, Scharnegoutum\, Friesland\, 8629RL\, Nederland
CATEGORIES:Midden Zaal
END:VEVENT
BEGIN:VEVENT
DTSTART;TZID=Europe/Amsterdam:20250218T190000
DTEND;TZID=Europe/Amsterdam:20250218T223000
DTSTAMP:20260421T143014
CREATED:20241226T165608Z
LAST-MODIFIED:20241226T165608Z
UID:10005876-1739905200-1739917800@www.scharnegoutum.nl
SUMMARY:De Lakenkrakers
DESCRIPTION:
URL:https://www.scharnegoutum.nl/agenda/de-lakenkrakers-5/2025-02-18/
LOCATION:Dorpshuis\, Legedyk 43\, Scharnegoutum\, Friesland\, 8629RL\, Nederland
CATEGORIES:Bar
END:VEVENT
BEGIN:VEVENT
DTSTART;TZID=Europe/Amsterdam:20250219T090000
DTEND;TZID=Europe/Amsterdam:20250219T093000
DTSTAMP:20260421T143014
CREATED:20240530T180737Z
LAST-MODIFIED:20240530T181030Z
UID:10005568-1739955600-1739957400@www.scharnegoutum.nl
SUMMARY:bloedprikken
DESCRIPTION:
URL:https://www.scharnegoutum.nl/agenda/bloedprikken-5/2025-02-19/
LOCATION:Dorpshuis\, Legedyk 43\, Scharnegoutum\, Friesland\, 8629RL\, Nederland
CATEGORIES:Grote Zaal
END:VEVENT
BEGIN:VEVENT
DTSTART;TZID=Europe/Amsterdam:20250219T090000
DTEND;TZID=Europe/Amsterdam:20250219T093000
DTSTAMP:20260421T143014
CREATED:20240530T181238Z
LAST-MODIFIED:20240530T181410Z
UID:10005610-1739955600-1739957400@www.scharnegoutum.nl
SUMMARY:bloedprikken
DESCRIPTION:
URL:https://www.scharnegoutum.nl/agenda/bloedprikken-6/2025-02-19/
LOCATION:Dorpshuis\, Legedyk 43\, Scharnegoutum\, Friesland\, 8629RL\, Nederland
CATEGORIES:Grote Zaal
END:VEVENT
BEGIN:VEVENT
DTSTART;TZID=Europe/Amsterdam:20250219T190000
DTEND;TZID=Europe/Amsterdam:20250219T233000
DTSTAMP:20260421T143014
CREATED:20241117T141123Z
LAST-MODIFIED:20241124T160735Z
UID:10004992-1739991600-1740007800@www.scharnegoutum.nl
SUMMARY:shantykoor Brûskoppen
DESCRIPTION:
URL:https://www.scharnegoutum.nl/agenda/shantykoor-bruskoppen-14-2025-01-22/2025-02-19/
LOCATION:Dorpshuis\, Legedyk 43\, Scharnegoutum\, Friesland\, 8629RL\, Nederland
CATEGORIES:Grote Zaal
END:VEVENT
BEGIN:VEVENT
DTSTART;TZID=Europe/Amsterdam:20250220T193000
DTEND;TZID=Europe/Amsterdam:20250220T223000
DTSTAMP:20260421T143014
CREATED:20241226T170439Z
LAST-MODIFIED:20241226T170439Z
UID:10005891-1740079800-1740090600@www.scharnegoutum.nl
SUMMARY:BC Scharnegoutum
DESCRIPTION:
URL:https://www.scharnegoutum.nl/agenda/bc-scharnegoutum-5/2025-02-20/
LOCATION:Dorpshuis\, Legedyk 43\, Scharnegoutum\, Friesland\, 8629RL\, Nederland
CATEGORIES:Bar
END:VEVENT
BEGIN:VEVENT
DTSTART;TZID=Europe/Amsterdam:20250221T190000
DTEND;TZID=Europe/Amsterdam:20250221T213000
DTSTAMP:20260421T143014
CREATED:20241117T131558Z
LAST-MODIFIED:20241117T131558Z
UID:10004986-1740164400-1740173400@www.scharnegoutum.nl
SUMMARY:Winterdisco
DESCRIPTION:
URL:https://www.scharnegoutum.nl/agenda/winterdisco/
LOCATION:Dorpshuis\, Legedyk 43\, Scharnegoutum\, Friesland\, 8629RL\, Nederland
CATEGORIES:Grote Zaal
END:VEVENT
END:VCALENDAR