BEGIN:VCALENDAR
VERSION:2.0
PRODID:-//Scharnegoutum | Skearnegoutum - ECPv6.15.20//NONSGML v1.0//EN
CALSCALE:GREGORIAN
METHOD:PUBLISH
X-ORIGINAL-URL:https://www.scharnegoutum.nl
X-WR-CALDESC:Evenementen voor Scharnegoutum | Skearnegoutum
REFRESH-INTERVAL;VALUE=DURATION:PT1H
X-Robots-Tag:noindex
X-PUBLISHED-TTL:PT1H
BEGIN:VTIMEZONE
TZID:Europe/Amsterdam
BEGIN:DAYLIGHT
TZOFFSETFROM:+0100
TZOFFSETTO:+0200
TZNAME:CEST
DTSTART:20260329T010000
END:DAYLIGHT
BEGIN:STANDARD
TZOFFSETFROM:+0200
TZOFFSETTO:+0100
TZNAME:CET
DTSTART:20261025T010000
END:STANDARD
BEGIN:DAYLIGHT
TZOFFSETFROM:+0100
TZOFFSETTO:+0200
TZNAME:CEST
DTSTART:20270328T010000
END:DAYLIGHT
BEGIN:STANDARD
TZOFFSETFROM:+0200
TZOFFSETTO:+0100
TZNAME:CET
DTSTART:20271031T010000
END:STANDARD
BEGIN:DAYLIGHT
TZOFFSETFROM:+0100
TZOFFSETTO:+0200
TZNAME:CEST
DTSTART:20280326T010000
END:DAYLIGHT
BEGIN:STANDARD
TZOFFSETFROM:+0200
TZOFFSETTO:+0100
TZNAME:CET
DTSTART:20281029T010000
END:STANDARD
END:VTIMEZONE
BEGIN:VEVENT
DTSTART;TZID=Europe/Amsterdam:20270104T190000
DTEND;TZID=Europe/Amsterdam:20270104T230000
DTSTAMP:20260420T101900
CREATED:20251219T130015Z
LAST-MODIFIED:20251219T130015Z
UID:10007082-1799089200-1799103600@www.scharnegoutum.nl
SUMMARY:Fanfare "Swettewyn"
DESCRIPTION:Gegevens:    \n\nWij zijn een Fanfare Korps ontstaan uit het\nsamengaan van Harmonie Sneek en Excelsior\nScharnegoutum. Voor meer informatie op deze\n site het kopje verenigingen/Swettewyn\nWat voor activiteit:       \nmaandagavond is de wekelijkse repetitie \navond.\n\nToegangskosten:     \n\nNVT\n\nKaartenverkoop :    \n\nNVT
URL:https://www.scharnegoutum.nl/agenda/fanfare-swettewyn-2/2027-01-04/
CATEGORIES:Grote Zaal
END:VEVENT
BEGIN:VEVENT
DTSTART;TZID=Europe/Amsterdam:20270105T104500
DTEND;TZID=Europe/Amsterdam:20270105T114500
DTSTAMP:20260420T101900
CREATED:20260102T150953Z
LAST-MODIFIED:20260102T150953Z
UID:10007567-1799145900-1799149500@www.scharnegoutum.nl
SUMMARY:Stoelfit voor ouderen
DESCRIPTION:Beste deelnemers aan de yoga en stoelyogalessen in Scharnegoutum. De vakanties zijn bijna voorbij en hopelijk hebben jullie een heerlijke zomer (die nog niet voorbij is). \nVoor de yin yoga zijn nog een paar matjes vrij. Heb je interesse? Dan kun je op dinsdag 26/8 meedoen met de proefles. Deze start om 09.30 en duurt 1 uur. \nVoor de stoelfit lessen (yoga\, ademhaling\, dans en beweging op en rond de stoel) zijn voor komend seizoen ook nog enkele stoelen vrij! \nDe proefles is op dinsdag 26/8\, om 10.45 en de les duurt een uur. \nLesblok 3 start dinsdag 2 september a.s.\ndit zijn 12 lessen van een uur per keer en zijn tot half december. \nVoor meer informatie mag je een mail sturen naar leeuwinnenkracht@gmail.com \nDe lessen worden gegeven door Carla van der Veen\, gecertificeerd yin yoga- en stoelyoga docent .
URL:https://www.scharnegoutum.nl/agenda/stoelfit-voor-ouderen/2027-01-05/
CATEGORIES:Midden Zaal
END:VEVENT
BEGIN:VEVENT
DTSTART;TZID=Europe/Amsterdam:20270106T090000
DTEND;TZID=Europe/Amsterdam:20270106T093000
DTSTAMP:20260420T101900
CREATED:20251219T131109Z
LAST-MODIFIED:20251219T131109Z
UID:10007263-1799226000-1799227800@www.scharnegoutum.nl
SUMMARY:Bloedprikken
DESCRIPTION:
URL:https://www.scharnegoutum.nl/agenda/bloedprikken/2027-01-06/
CATEGORIES:Grote Zaal
END:VEVENT
BEGIN:VEVENT
DTSTART;VALUE=DATE:20270107
DTEND;VALUE=DATE:20270110
DTSTAMP:20260420T101900
CREATED:20260329T105526Z
LAST-MODIFIED:20260329T105526Z
UID:10007688-1799280000-1799539199@www.scharnegoutum.nl
SUMMARY:Biljarttoernooi 2027
DESCRIPTION:
URL:https://www.scharnegoutum.nl/agenda/biljarttoernooi-2027/
CATEGORIES:Grote Zaal
END:VEVENT
BEGIN:VEVENT
DTSTART;TZID=Europe/Amsterdam:20270111T190000
DTEND;TZID=Europe/Amsterdam:20270111T230000
DTSTAMP:20260420T101900
CREATED:20251219T130015Z
LAST-MODIFIED:20251219T130015Z
UID:10007083-1799694000-1799708400@www.scharnegoutum.nl
SUMMARY:Fanfare "Swettewyn"
DESCRIPTION:Gegevens:    \n\nWij zijn een Fanfare Korps ontstaan uit het\nsamengaan van Harmonie Sneek en Excelsior\nScharnegoutum. Voor meer informatie op deze\n site het kopje verenigingen/Swettewyn\nWat voor activiteit:       \nmaandagavond is de wekelijkse repetitie \navond.\n\nToegangskosten:     \n\nNVT\n\nKaartenverkoop :    \n\nNVT
URL:https://www.scharnegoutum.nl/agenda/fanfare-swettewyn-2/2027-01-11/
CATEGORIES:Grote Zaal
END:VEVENT
BEGIN:VEVENT
DTSTART;TZID=Europe/Amsterdam:20270112T104500
DTEND;TZID=Europe/Amsterdam:20270112T114500
DTSTAMP:20260420T101900
CREATED:20260102T150953Z
LAST-MODIFIED:20260102T150953Z
UID:10007568-1799750700-1799754300@www.scharnegoutum.nl
SUMMARY:Stoelfit voor ouderen
DESCRIPTION:Beste deelnemers aan de yoga en stoelyogalessen in Scharnegoutum. De vakanties zijn bijna voorbij en hopelijk hebben jullie een heerlijke zomer (die nog niet voorbij is). \nVoor de yin yoga zijn nog een paar matjes vrij. Heb je interesse? Dan kun je op dinsdag 26/8 meedoen met de proefles. Deze start om 09.30 en duurt 1 uur. \nVoor de stoelfit lessen (yoga\, ademhaling\, dans en beweging op en rond de stoel) zijn voor komend seizoen ook nog enkele stoelen vrij! \nDe proefles is op dinsdag 26/8\, om 10.45 en de les duurt een uur. \nLesblok 3 start dinsdag 2 september a.s.\ndit zijn 12 lessen van een uur per keer en zijn tot half december. \nVoor meer informatie mag je een mail sturen naar leeuwinnenkracht@gmail.com \nDe lessen worden gegeven door Carla van der Veen\, gecertificeerd yin yoga- en stoelyoga docent .
URL:https://www.scharnegoutum.nl/agenda/stoelfit-voor-ouderen/2027-01-12/
CATEGORIES:Midden Zaal
END:VEVENT
BEGIN:VEVENT
DTSTART;TZID=Europe/Amsterdam:20270113T090000
DTEND;TZID=Europe/Amsterdam:20270113T093000
DTSTAMP:20260420T101900
CREATED:20251219T131109Z
LAST-MODIFIED:20251219T131109Z
UID:10007264-1799830800-1799832600@www.scharnegoutum.nl
SUMMARY:Bloedprikken
DESCRIPTION:
URL:https://www.scharnegoutum.nl/agenda/bloedprikken/2027-01-13/
CATEGORIES:Grote Zaal
END:VEVENT
BEGIN:VEVENT
DTSTART;TZID=Europe/Amsterdam:20270118T190000
DTEND;TZID=Europe/Amsterdam:20270118T230000
DTSTAMP:20260420T101900
CREATED:20251219T130015Z
LAST-MODIFIED:20251219T130015Z
UID:10007084-1800298800-1800313200@www.scharnegoutum.nl
SUMMARY:Fanfare "Swettewyn"
DESCRIPTION:Gegevens:    \n\nWij zijn een Fanfare Korps ontstaan uit het\nsamengaan van Harmonie Sneek en Excelsior\nScharnegoutum. Voor meer informatie op deze\n site het kopje verenigingen/Swettewyn\nWat voor activiteit:       \nmaandagavond is de wekelijkse repetitie \navond.\n\nToegangskosten:     \n\nNVT\n\nKaartenverkoop :    \n\nNVT
URL:https://www.scharnegoutum.nl/agenda/fanfare-swettewyn-2/2027-01-18/
CATEGORIES:Grote Zaal
END:VEVENT
BEGIN:VEVENT
DTSTART;TZID=Europe/Amsterdam:20270119T104500
DTEND;TZID=Europe/Amsterdam:20270119T114500
DTSTAMP:20260420T101900
CREATED:20260102T150953Z
LAST-MODIFIED:20260102T150953Z
UID:10007569-1800355500-1800359100@www.scharnegoutum.nl
SUMMARY:Stoelfit voor ouderen
DESCRIPTION:Beste deelnemers aan de yoga en stoelyogalessen in Scharnegoutum. De vakanties zijn bijna voorbij en hopelijk hebben jullie een heerlijke zomer (die nog niet voorbij is). \nVoor de yin yoga zijn nog een paar matjes vrij. Heb je interesse? Dan kun je op dinsdag 26/8 meedoen met de proefles. Deze start om 09.30 en duurt 1 uur. \nVoor de stoelfit lessen (yoga\, ademhaling\, dans en beweging op en rond de stoel) zijn voor komend seizoen ook nog enkele stoelen vrij! \nDe proefles is op dinsdag 26/8\, om 10.45 en de les duurt een uur. \nLesblok 3 start dinsdag 2 september a.s.\ndit zijn 12 lessen van een uur per keer en zijn tot half december. \nVoor meer informatie mag je een mail sturen naar leeuwinnenkracht@gmail.com \nDe lessen worden gegeven door Carla van der Veen\, gecertificeerd yin yoga- en stoelyoga docent .
URL:https://www.scharnegoutum.nl/agenda/stoelfit-voor-ouderen/2027-01-19/
CATEGORIES:Midden Zaal
END:VEVENT
BEGIN:VEVENT
DTSTART;TZID=Europe/Amsterdam:20270120T090000
DTEND;TZID=Europe/Amsterdam:20270120T093000
DTSTAMP:20260420T101900
CREATED:20251219T131109Z
LAST-MODIFIED:20251219T131109Z
UID:10007265-1800435600-1800437400@www.scharnegoutum.nl
SUMMARY:Bloedprikken
DESCRIPTION:
URL:https://www.scharnegoutum.nl/agenda/bloedprikken/2027-01-20/
CATEGORIES:Grote Zaal
END:VEVENT
BEGIN:VEVENT
DTSTART;TZID=Europe/Amsterdam:20270123T120000
DTEND;TZID=Europe/Amsterdam:20270123T230000
DTSTAMP:20260420T101900
CREATED:20250907T074321Z
LAST-MODIFIED:20260312T182440Z
UID:10006872-1800705600-1800745200@www.scharnegoutum.nl
SUMMARY:TC Teater
DESCRIPTION:
URL:https://www.scharnegoutum.nl/agenda/tc-teater-primaire/
LOCATION:Dorpshuis\, Legedyk 43\, Scharnegoutum\, Friesland\, 8629RL\, Nederland
CATEGORIES:Grote Zaal
END:VEVENT
BEGIN:VEVENT
DTSTART;TZID=Europe/Amsterdam:20270125T190000
DTEND;TZID=Europe/Amsterdam:20270125T230000
DTSTAMP:20260420T101900
CREATED:20251219T130015Z
LAST-MODIFIED:20251219T130015Z
UID:10007085-1800903600-1800918000@www.scharnegoutum.nl
SUMMARY:Fanfare "Swettewyn"
DESCRIPTION:Gegevens:    \n\nWij zijn een Fanfare Korps ontstaan uit het\nsamengaan van Harmonie Sneek en Excelsior\nScharnegoutum. Voor meer informatie op deze\n site het kopje verenigingen/Swettewyn\nWat voor activiteit:       \nmaandagavond is de wekelijkse repetitie \navond.\n\nToegangskosten:     \n\nNVT\n\nKaartenverkoop :    \n\nNVT
URL:https://www.scharnegoutum.nl/agenda/fanfare-swettewyn-2/2027-01-25/
CATEGORIES:Grote Zaal
END:VEVENT
BEGIN:VEVENT
DTSTART;TZID=Europe/Amsterdam:20270126T104500
DTEND;TZID=Europe/Amsterdam:20270126T114500
DTSTAMP:20260420T101900
CREATED:20260102T150953Z
LAST-MODIFIED:20260102T150953Z
UID:10007570-1800960300-1800963900@www.scharnegoutum.nl
SUMMARY:Stoelfit voor ouderen
DESCRIPTION:Beste deelnemers aan de yoga en stoelyogalessen in Scharnegoutum. De vakanties zijn bijna voorbij en hopelijk hebben jullie een heerlijke zomer (die nog niet voorbij is). \nVoor de yin yoga zijn nog een paar matjes vrij. Heb je interesse? Dan kun je op dinsdag 26/8 meedoen met de proefles. Deze start om 09.30 en duurt 1 uur. \nVoor de stoelfit lessen (yoga\, ademhaling\, dans en beweging op en rond de stoel) zijn voor komend seizoen ook nog enkele stoelen vrij! \nDe proefles is op dinsdag 26/8\, om 10.45 en de les duurt een uur. \nLesblok 3 start dinsdag 2 september a.s.\ndit zijn 12 lessen van een uur per keer en zijn tot half december. \nVoor meer informatie mag je een mail sturen naar leeuwinnenkracht@gmail.com \nDe lessen worden gegeven door Carla van der Veen\, gecertificeerd yin yoga- en stoelyoga docent .
URL:https://www.scharnegoutum.nl/agenda/stoelfit-voor-ouderen/2027-01-26/
CATEGORIES:Midden Zaal
END:VEVENT
BEGIN:VEVENT
DTSTART;TZID=Europe/Amsterdam:20270127T090000
DTEND;TZID=Europe/Amsterdam:20270127T093000
DTSTAMP:20260420T101900
CREATED:20251219T131109Z
LAST-MODIFIED:20251219T131109Z
UID:10007266-1801040400-1801042200@www.scharnegoutum.nl
SUMMARY:Bloedprikken
DESCRIPTION:
URL:https://www.scharnegoutum.nl/agenda/bloedprikken/2027-01-27/
CATEGORIES:Grote Zaal
END:VEVENT
END:VCALENDAR