BEGIN:VCALENDAR
VERSION:2.0
PRODID:-//Scharnegoutum | Skearnegoutum - ECPv6.15.20//NONSGML v1.0//EN
CALSCALE:GREGORIAN
METHOD:PUBLISH
X-ORIGINAL-URL:https://www.scharnegoutum.nl
X-WR-CALDESC:Evenementen voor Scharnegoutum | Skearnegoutum
REFRESH-INTERVAL;VALUE=DURATION:PT1H
X-Robots-Tag:noindex
X-PUBLISHED-TTL:PT1H
BEGIN:VTIMEZONE
TZID:Europe/Amsterdam
BEGIN:DAYLIGHT
TZOFFSETFROM:+0100
TZOFFSETTO:+0200
TZNAME:CEST
DTSTART:20250330T010000
END:DAYLIGHT
BEGIN:STANDARD
TZOFFSETFROM:+0200
TZOFFSETTO:+0100
TZNAME:CET
DTSTART:20251026T010000
END:STANDARD
BEGIN:DAYLIGHT
TZOFFSETFROM:+0100
TZOFFSETTO:+0200
TZNAME:CEST
DTSTART:20260329T010000
END:DAYLIGHT
BEGIN:STANDARD
TZOFFSETFROM:+0200
TZOFFSETTO:+0100
TZNAME:CET
DTSTART:20261025T010000
END:STANDARD
BEGIN:DAYLIGHT
TZOFFSETFROM:+0100
TZOFFSETTO:+0200
TZNAME:CEST
DTSTART:20270328T010000
END:DAYLIGHT
BEGIN:STANDARD
TZOFFSETFROM:+0200
TZOFFSETTO:+0100
TZNAME:CET
DTSTART:20271031T010000
END:STANDARD
END:VTIMEZONE
BEGIN:VEVENT
DTSTART;TZID=Europe/Amsterdam:20261201T104500
DTEND;TZID=Europe/Amsterdam:20261201T114500
DTSTAMP:20260420T083627
CREATED:20260102T150953Z
LAST-MODIFIED:20260102T150953Z
UID:10007562-1796121900-1796125500@www.scharnegoutum.nl
SUMMARY:Stoelfit voor ouderen
DESCRIPTION:Beste deelnemers aan de yoga en stoelyogalessen in Scharnegoutum. De vakanties zijn bijna voorbij en hopelijk hebben jullie een heerlijke zomer (die nog niet voorbij is). \nVoor de yin yoga zijn nog een paar matjes vrij. Heb je interesse? Dan kun je op dinsdag 26/8 meedoen met de proefles. Deze start om 09.30 en duurt 1 uur. \nVoor de stoelfit lessen (yoga\, ademhaling\, dans en beweging op en rond de stoel) zijn voor komend seizoen ook nog enkele stoelen vrij! \nDe proefles is op dinsdag 26/8\, om 10.45 en de les duurt een uur. \nLesblok 3 start dinsdag 2 september a.s.\ndit zijn 12 lessen van een uur per keer en zijn tot half december. \nVoor meer informatie mag je een mail sturen naar leeuwinnenkracht@gmail.com \nDe lessen worden gegeven door Carla van der Veen\, gecertificeerd yin yoga- en stoelyoga docent .
URL:https://www.scharnegoutum.nl/agenda/stoelfit-voor-ouderen/2026-12-01/
CATEGORIES:Midden Zaal
END:VEVENT
BEGIN:VEVENT
DTSTART;TZID=Europe/Amsterdam:20261202T090000
DTEND;TZID=Europe/Amsterdam:20261202T093000
DTSTAMP:20260420T083627
CREATED:20251219T131109Z
LAST-MODIFIED:20251219T131109Z
UID:10007258-1796202000-1796203800@www.scharnegoutum.nl
SUMMARY:Bloedprikken
DESCRIPTION:
URL:https://www.scharnegoutum.nl/agenda/bloedprikken/2026-12-02/
CATEGORIES:Grote Zaal
END:VEVENT
BEGIN:VEVENT
DTSTART;TZID=Europe/Amsterdam:20261202T193000
DTEND;TZID=Europe/Amsterdam:20261202T223000
DTSTAMP:20260420T083627
CREATED:20260327T195607Z
LAST-MODIFIED:20260327T195711Z
UID:10007673-1796239800-1796250600@www.scharnegoutum.nl
SUMMARY:De Keu Keninginnen
DESCRIPTION:Activiteit: 2-wekelijkse competitieavond\nKosten: contributie\nKaartenverkoop: N.V.T.\nBen je geïnterresseerd\, loop dan een keer binnen op één van onze speelavonden of stuur een mailtje.\nVoor meer informatie zie op deze site onder verenigingen/Keukoninginnen  of via facebook: ‘De Keu Keuninginnen Skearnegoutum’.
URL:https://www.scharnegoutum.nl/agenda/de-keu-keninginnen-4/2026-12-02/
CATEGORIES:Bar
END:VEVENT
BEGIN:VEVENT
DTSTART;TZID=Europe/Amsterdam:20261205T160000
DTEND;TZID=Europe/Amsterdam:20261205T233000
DTSTAMP:20260420T083627
CREATED:20260228T130538Z
LAST-MODIFIED:20260228T130538Z
UID:10007637-1796486400-1796513400@www.scharnegoutum.nl
SUMMARY:Inloopcafé
DESCRIPTION:
URL:https://www.scharnegoutum.nl/agenda/inloopcafe/2026-12-05/
CATEGORIES:Bar
END:VEVENT
BEGIN:VEVENT
DTSTART;TZID=Europe/Amsterdam:20261207T190000
DTEND;TZID=Europe/Amsterdam:20261207T230000
DTSTAMP:20260420T083627
CREATED:20251219T130015Z
LAST-MODIFIED:20251219T130015Z
UID:10007078-1796670000-1796684400@www.scharnegoutum.nl
SUMMARY:Fanfare "Swettewyn"
DESCRIPTION:Gegevens:    \n\nWij zijn een Fanfare Korps ontstaan uit het\nsamengaan van Harmonie Sneek en Excelsior\nScharnegoutum. Voor meer informatie op deze\n site het kopje verenigingen/Swettewyn\nWat voor activiteit:       \nmaandagavond is de wekelijkse repetitie \navond.\n\nToegangskosten:     \n\nNVT\n\nKaartenverkoop :    \n\nNVT
URL:https://www.scharnegoutum.nl/agenda/fanfare-swettewyn-2/2026-12-07/
CATEGORIES:Grote Zaal
END:VEVENT
BEGIN:VEVENT
DTSTART;TZID=Europe/Amsterdam:20261208T104500
DTEND;TZID=Europe/Amsterdam:20261208T114500
DTSTAMP:20260420T083627
CREATED:20260102T150953Z
LAST-MODIFIED:20260102T150953Z
UID:10007563-1796726700-1796730300@www.scharnegoutum.nl
SUMMARY:Stoelfit voor ouderen
DESCRIPTION:Beste deelnemers aan de yoga en stoelyogalessen in Scharnegoutum. De vakanties zijn bijna voorbij en hopelijk hebben jullie een heerlijke zomer (die nog niet voorbij is). \nVoor de yin yoga zijn nog een paar matjes vrij. Heb je interesse? Dan kun je op dinsdag 26/8 meedoen met de proefles. Deze start om 09.30 en duurt 1 uur. \nVoor de stoelfit lessen (yoga\, ademhaling\, dans en beweging op en rond de stoel) zijn voor komend seizoen ook nog enkele stoelen vrij! \nDe proefles is op dinsdag 26/8\, om 10.45 en de les duurt een uur. \nLesblok 3 start dinsdag 2 september a.s.\ndit zijn 12 lessen van een uur per keer en zijn tot half december. \nVoor meer informatie mag je een mail sturen naar leeuwinnenkracht@gmail.com \nDe lessen worden gegeven door Carla van der Veen\, gecertificeerd yin yoga- en stoelyoga docent .
URL:https://www.scharnegoutum.nl/agenda/stoelfit-voor-ouderen/2026-12-08/
CATEGORIES:Midden Zaal
END:VEVENT
BEGIN:VEVENT
DTSTART;TZID=Europe/Amsterdam:20261209T090000
DTEND;TZID=Europe/Amsterdam:20261209T093000
DTSTAMP:20260420T083627
CREATED:20251219T131109Z
LAST-MODIFIED:20251219T131109Z
UID:10007259-1796806800-1796808600@www.scharnegoutum.nl
SUMMARY:Bloedprikken
DESCRIPTION:
URL:https://www.scharnegoutum.nl/agenda/bloedprikken/2026-12-09/
CATEGORIES:Grote Zaal
END:VEVENT
BEGIN:VEVENT
DTSTART;TZID=Europe/Amsterdam:20261209T190000
DTEND;TZID=Europe/Amsterdam:20261209T230000
DTSTAMP:20260420T083627
CREATED:20260327T200250Z
LAST-MODIFIED:20260327T200354Z
UID:10007682-1796842800-1796857200@www.scharnegoutum.nl
SUMMARY:Shantykoor De Brûskoppen
DESCRIPTION:De naam zegt het al\, wij zijn een Shantykoor\, opgericht in 1997 in Scharnegoutum.  Een enthousiaste groep heren\, die op allerlei gelegenheden zeemansliederen ten gehore brengt\, met een hoog meezinggehalte.                                         Onze vaste oefenavonden (eens per twee weken) is de woensdagavond. Dan wordt een gevarieerd repertoire ingestudeerd\, dat uit Engelse en Friestalige zeemansliederen bestaat. Nieuwsgierig geworden? Misschien eens meezingen?  Kom gerust eens langs of meldt u aan bij Herman de Jong. 06-27445686 hermandejong59@outlook.com
URL:https://www.scharnegoutum.nl/agenda/shantykoor-de-bruskoppen/2026-12-09/
CATEGORIES:Grote Zaal
END:VEVENT
BEGIN:VEVENT
DTSTART;TZID=Europe/Amsterdam:20261214T190000
DTEND;TZID=Europe/Amsterdam:20261214T230000
DTSTAMP:20260420T083627
CREATED:20251219T130015Z
LAST-MODIFIED:20251219T130015Z
UID:10007079-1797274800-1797289200@www.scharnegoutum.nl
SUMMARY:Fanfare "Swettewyn"
DESCRIPTION:Gegevens:    \n\nWij zijn een Fanfare Korps ontstaan uit het\nsamengaan van Harmonie Sneek en Excelsior\nScharnegoutum. Voor meer informatie op deze\n site het kopje verenigingen/Swettewyn\nWat voor activiteit:       \nmaandagavond is de wekelijkse repetitie \navond.\n\nToegangskosten:     \n\nNVT\n\nKaartenverkoop :    \n\nNVT
URL:https://www.scharnegoutum.nl/agenda/fanfare-swettewyn-2/2026-12-14/
CATEGORIES:Grote Zaal
END:VEVENT
BEGIN:VEVENT
DTSTART;TZID=Europe/Amsterdam:20261215T104500
DTEND;TZID=Europe/Amsterdam:20261215T114500
DTSTAMP:20260420T083627
CREATED:20260102T150953Z
LAST-MODIFIED:20260102T150953Z
UID:10007564-1797331500-1797335100@www.scharnegoutum.nl
SUMMARY:Stoelfit voor ouderen
DESCRIPTION:Beste deelnemers aan de yoga en stoelyogalessen in Scharnegoutum. De vakanties zijn bijna voorbij en hopelijk hebben jullie een heerlijke zomer (die nog niet voorbij is). \nVoor de yin yoga zijn nog een paar matjes vrij. Heb je interesse? Dan kun je op dinsdag 26/8 meedoen met de proefles. Deze start om 09.30 en duurt 1 uur. \nVoor de stoelfit lessen (yoga\, ademhaling\, dans en beweging op en rond de stoel) zijn voor komend seizoen ook nog enkele stoelen vrij! \nDe proefles is op dinsdag 26/8\, om 10.45 en de les duurt een uur. \nLesblok 3 start dinsdag 2 september a.s.\ndit zijn 12 lessen van een uur per keer en zijn tot half december. \nVoor meer informatie mag je een mail sturen naar leeuwinnenkracht@gmail.com \nDe lessen worden gegeven door Carla van der Veen\, gecertificeerd yin yoga- en stoelyoga docent .
URL:https://www.scharnegoutum.nl/agenda/stoelfit-voor-ouderen/2026-12-15/
CATEGORIES:Midden Zaal
END:VEVENT
BEGIN:VEVENT
DTSTART;TZID=Europe/Amsterdam:20261216T090000
DTEND;TZID=Europe/Amsterdam:20261216T093000
DTSTAMP:20260420T083627
CREATED:20251219T131109Z
LAST-MODIFIED:20251219T131109Z
UID:10007260-1797411600-1797413400@www.scharnegoutum.nl
SUMMARY:Bloedprikken
DESCRIPTION:
URL:https://www.scharnegoutum.nl/agenda/bloedprikken/2026-12-16/
CATEGORIES:Grote Zaal
END:VEVENT
BEGIN:VEVENT
DTSTART;TZID=Europe/Amsterdam:20261216T193000
DTEND;TZID=Europe/Amsterdam:20261216T223000
DTSTAMP:20260420T083627
CREATED:20260327T195607Z
LAST-MODIFIED:20260327T195711Z
UID:10007674-1797449400-1797460200@www.scharnegoutum.nl
SUMMARY:De Keu Keninginnen
DESCRIPTION:Activiteit: 2-wekelijkse competitieavond\nKosten: contributie\nKaartenverkoop: N.V.T.\nBen je geïnterresseerd\, loop dan een keer binnen op één van onze speelavonden of stuur een mailtje.\nVoor meer informatie zie op deze site onder verenigingen/Keukoninginnen  of via facebook: ‘De Keu Keuninginnen Skearnegoutum’.
URL:https://www.scharnegoutum.nl/agenda/de-keu-keninginnen-4/2026-12-16/
CATEGORIES:Bar
END:VEVENT
BEGIN:VEVENT
DTSTART;TZID=Europe/Amsterdam:20261219T130000
DTEND;TZID=Europe/Amsterdam:20261219T210000
DTSTAMP:20260420T083627
CREATED:20251208T151319Z
LAST-MODIFIED:20251219T123732Z
UID:10007023-1797685200-1797714000@www.scharnegoutum.nl
SUMMARY:Kerstmiddag voor ouderen met broodmaaltijd
DESCRIPTION:“Voor de gemeenteleden 75+ van PKN Scharnegoutum-Loënga waarvoor zij een\npersoonlijke uitnodiging met een opgavestrookje ontvangen. De viering begint\nom 16.00 uur.”
URL:https://www.scharnegoutum.nl/agenda/kerstmiddag-voor-ouderen-met-broodmaaltijd/
CATEGORIES:Grote Zaal
END:VEVENT
BEGIN:VEVENT
DTSTART;TZID=Europe/Amsterdam:20261221T190000
DTEND;TZID=Europe/Amsterdam:20261221T230000
DTSTAMP:20260420T083627
CREATED:20251219T130015Z
LAST-MODIFIED:20251219T130015Z
UID:10007080-1797879600-1797894000@www.scharnegoutum.nl
SUMMARY:Fanfare "Swettewyn"
DESCRIPTION:Gegevens:    \n\nWij zijn een Fanfare Korps ontstaan uit het\nsamengaan van Harmonie Sneek en Excelsior\nScharnegoutum. Voor meer informatie op deze\n site het kopje verenigingen/Swettewyn\nWat voor activiteit:       \nmaandagavond is de wekelijkse repetitie \navond.\n\nToegangskosten:     \n\nNVT\n\nKaartenverkoop :    \n\nNVT
URL:https://www.scharnegoutum.nl/agenda/fanfare-swettewyn-2/2026-12-21/
CATEGORIES:Grote Zaal
END:VEVENT
BEGIN:VEVENT
DTSTART;TZID=Europe/Amsterdam:20261222T104500
DTEND;TZID=Europe/Amsterdam:20261222T114500
DTSTAMP:20260420T083627
CREATED:20260102T150953Z
LAST-MODIFIED:20260102T150953Z
UID:10007565-1797936300-1797939900@www.scharnegoutum.nl
SUMMARY:Stoelfit voor ouderen
DESCRIPTION:Beste deelnemers aan de yoga en stoelyogalessen in Scharnegoutum. De vakanties zijn bijna voorbij en hopelijk hebben jullie een heerlijke zomer (die nog niet voorbij is). \nVoor de yin yoga zijn nog een paar matjes vrij. Heb je interesse? Dan kun je op dinsdag 26/8 meedoen met de proefles. Deze start om 09.30 en duurt 1 uur. \nVoor de stoelfit lessen (yoga\, ademhaling\, dans en beweging op en rond de stoel) zijn voor komend seizoen ook nog enkele stoelen vrij! \nDe proefles is op dinsdag 26/8\, om 10.45 en de les duurt een uur. \nLesblok 3 start dinsdag 2 september a.s.\ndit zijn 12 lessen van een uur per keer en zijn tot half december. \nVoor meer informatie mag je een mail sturen naar leeuwinnenkracht@gmail.com \nDe lessen worden gegeven door Carla van der Veen\, gecertificeerd yin yoga- en stoelyoga docent .
URL:https://www.scharnegoutum.nl/agenda/stoelfit-voor-ouderen/2026-12-22/
CATEGORIES:Midden Zaal
END:VEVENT
BEGIN:VEVENT
DTSTART;TZID=Europe/Amsterdam:20261223T090000
DTEND;TZID=Europe/Amsterdam:20261223T093000
DTSTAMP:20260420T083627
CREATED:20251219T131109Z
LAST-MODIFIED:20251219T131109Z
UID:10007261-1798016400-1798018200@www.scharnegoutum.nl
SUMMARY:Bloedprikken
DESCRIPTION:
URL:https://www.scharnegoutum.nl/agenda/bloedprikken/2026-12-23/
CATEGORIES:Grote Zaal
END:VEVENT
BEGIN:VEVENT
DTSTART;TZID=Europe/Amsterdam:20261223T190000
DTEND;TZID=Europe/Amsterdam:20261223T230000
DTSTAMP:20260420T083627
CREATED:20260327T200738Z
LAST-MODIFIED:20260327T200738Z
UID:10007684-1798052400-1798066800@www.scharnegoutum.nl
SUMMARY:Jaarvergadering Brûskoppen
DESCRIPTION:
URL:https://www.scharnegoutum.nl/agenda/jaarvergadering-bruskoppen-2/
CATEGORIES:Grote Zaal
END:VEVENT
BEGIN:VEVENT
DTSTART;TZID=Europe/Amsterdam:20261228T190000
DTEND;TZID=Europe/Amsterdam:20261228T230000
DTSTAMP:20260420T083627
CREATED:20251219T130015Z
LAST-MODIFIED:20251219T130015Z
UID:10007081-1798484400-1798498800@www.scharnegoutum.nl
SUMMARY:Fanfare "Swettewyn"
DESCRIPTION:Gegevens:    \n\nWij zijn een Fanfare Korps ontstaan uit het\nsamengaan van Harmonie Sneek en Excelsior\nScharnegoutum. Voor meer informatie op deze\n site het kopje verenigingen/Swettewyn\nWat voor activiteit:       \nmaandagavond is de wekelijkse repetitie \navond.\n\nToegangskosten:     \n\nNVT\n\nKaartenverkoop :    \n\nNVT
URL:https://www.scharnegoutum.nl/agenda/fanfare-swettewyn-2/2026-12-28/
CATEGORIES:Grote Zaal
END:VEVENT
BEGIN:VEVENT
DTSTART;TZID=Europe/Amsterdam:20261229T104500
DTEND;TZID=Europe/Amsterdam:20261229T114500
DTSTAMP:20260420T083627
CREATED:20260102T150953Z
LAST-MODIFIED:20260102T150953Z
UID:10007566-1798541100-1798544700@www.scharnegoutum.nl
SUMMARY:Stoelfit voor ouderen
DESCRIPTION:Beste deelnemers aan de yoga en stoelyogalessen in Scharnegoutum. De vakanties zijn bijna voorbij en hopelijk hebben jullie een heerlijke zomer (die nog niet voorbij is). \nVoor de yin yoga zijn nog een paar matjes vrij. Heb je interesse? Dan kun je op dinsdag 26/8 meedoen met de proefles. Deze start om 09.30 en duurt 1 uur. \nVoor de stoelfit lessen (yoga\, ademhaling\, dans en beweging op en rond de stoel) zijn voor komend seizoen ook nog enkele stoelen vrij! \nDe proefles is op dinsdag 26/8\, om 10.45 en de les duurt een uur. \nLesblok 3 start dinsdag 2 september a.s.\ndit zijn 12 lessen van een uur per keer en zijn tot half december. \nVoor meer informatie mag je een mail sturen naar leeuwinnenkracht@gmail.com \nDe lessen worden gegeven door Carla van der Veen\, gecertificeerd yin yoga- en stoelyoga docent .
URL:https://www.scharnegoutum.nl/agenda/stoelfit-voor-ouderen/2026-12-29/
CATEGORIES:Midden Zaal
END:VEVENT
BEGIN:VEVENT
DTSTART;TZID=Europe/Amsterdam:20261230T090000
DTEND;TZID=Europe/Amsterdam:20261230T093000
DTSTAMP:20260420T083627
CREATED:20251219T131109Z
LAST-MODIFIED:20251219T131109Z
UID:10007262-1798621200-1798623000@www.scharnegoutum.nl
SUMMARY:Bloedprikken
DESCRIPTION:
URL:https://www.scharnegoutum.nl/agenda/bloedprikken/2026-12-30/
CATEGORIES:Grote Zaal
END:VEVENT
END:VCALENDAR