BEGIN:VCALENDAR
VERSION:2.0
PRODID:-//Scharnegoutum | Skearnegoutum - ECPv6.15.20//NONSGML v1.0//EN
CALSCALE:GREGORIAN
METHOD:PUBLISH
X-ORIGINAL-URL:https://www.scharnegoutum.nl
X-WR-CALDESC:Evenementen voor Scharnegoutum | Skearnegoutum
REFRESH-INTERVAL;VALUE=DURATION:PT1H
X-Robots-Tag:noindex
X-PUBLISHED-TTL:PT1H
BEGIN:VTIMEZONE
TZID:Europe/Amsterdam
BEGIN:DAYLIGHT
TZOFFSETFROM:+0100
TZOFFSETTO:+0200
TZNAME:CEST
DTSTART:20250330T010000
END:DAYLIGHT
BEGIN:STANDARD
TZOFFSETFROM:+0200
TZOFFSETTO:+0100
TZNAME:CET
DTSTART:20251026T010000
END:STANDARD
BEGIN:DAYLIGHT
TZOFFSETFROM:+0100
TZOFFSETTO:+0200
TZNAME:CEST
DTSTART:20260329T010000
END:DAYLIGHT
BEGIN:STANDARD
TZOFFSETFROM:+0200
TZOFFSETTO:+0100
TZNAME:CET
DTSTART:20261025T010000
END:STANDARD
BEGIN:DAYLIGHT
TZOFFSETFROM:+0100
TZOFFSETTO:+0200
TZNAME:CEST
DTSTART:20270328T010000
END:DAYLIGHT
BEGIN:STANDARD
TZOFFSETFROM:+0200
TZOFFSETTO:+0100
TZNAME:CET
DTSTART:20271031T010000
END:STANDARD
END:VTIMEZONE
BEGIN:VEVENT
DTSTART;TZID=Europe/Amsterdam:20260324T193000
DTEND;TZID=Europe/Amsterdam:20260324T213000
DTSTAMP:20260420T095827
CREATED:20260319T182551Z
LAST-MODIFIED:20260321T180759Z
UID:10007658-1774380600-1774387800@www.scharnegoutum.nl
SUMMARY:Bestuur dorpshuis
DESCRIPTION:
URL:https://www.scharnegoutum.nl/agenda/bestuur-dorpshuis/
CATEGORIES:Podium Zaal
END:VEVENT
BEGIN:VEVENT
DTSTART;TZID=Europe/Amsterdam:20260325T100000
DTEND;TZID=Europe/Amsterdam:20260325T113000
DTSTAMP:20260420T095827
CREATED:20260124T150043Z
LAST-MODIFIED:20260124T150043Z
UID:10007604-1774432800-1774438200@www.scharnegoutum.nl
SUMMARY:Rondom 10
DESCRIPTION:
URL:https://www.scharnegoutum.nl/agenda/rondom-10/2026-03-25/
CATEGORIES:Midden Zaal
END:VEVENT
BEGIN:VEVENT
DTSTART;TZID=Europe/Amsterdam:20260325T140000
DTEND;TZID=Europe/Amsterdam:20260325T163000
DTSTAMP:20260420T095827
CREATED:20260207T130410Z
LAST-MODIFIED:20260207T130837Z
UID:10007620-1774447200-1774456200@www.scharnegoutum.nl
SUMMARY:koersbal
DESCRIPTION:
URL:https://www.scharnegoutum.nl/agenda/koersbal-572/
CATEGORIES:Grote Zaal
END:VEVENT
BEGIN:VEVENT
DTSTART;TZID=Europe/Amsterdam:20260325T193000
DTEND;TZID=Europe/Amsterdam:20260325T223000
DTSTAMP:20260420T095827
CREATED:20250823T112705Z
LAST-MODIFIED:20250823T112707Z
UID:10006771-1774467000-1774477800@www.scharnegoutum.nl
SUMMARY:De Keu Keninginnen
DESCRIPTION:
URL:https://www.scharnegoutum.nl/agenda/de-keu-keninginnen-3-2/
LOCATION:Dorpshuis\, Legedyk 43\, Scharnegoutum\, Friesland\, 8629RL\, Nederland
CATEGORIES:Bar
END:VEVENT
BEGIN:VEVENT
DTSTART;TZID=Europe/Amsterdam:20260326T183000
DTEND;TZID=Europe/Amsterdam:20260326T213000
DTSTAMP:20260420T095827
CREATED:20250519T181606Z
LAST-MODIFIED:20250927T112919Z
UID:10005134-1774549800-1774560600@www.scharnegoutum.nl
SUMMARY:Paasbloemen schikken met Heleen
DESCRIPTION:Paasbloemen schikken met Heleen-26 maart 2026\nWat voor activiteit: de activiteieten commissie organiseert weer DE Workshop hoe je je eigen paasbloemstuk kunt maken onder begeleiding van Heleen.\nToegangskosten: €39\,50 inclusief thee of koffie\, maximaal 15 cursisten en vol=vol\nKaartenverkoop: activiteitencommissie@scharnegoutum.nl
URL:https://www.scharnegoutum.nl/agenda/paasbloemen-schikken-met-heleen/
LOCATION:Dorpshuis\, Legedyk 43\, Scharnegoutum\, Friesland\, 8629RL\, Nederland
CATEGORIES:Midden Zaal
END:VEVENT
BEGIN:VEVENT
DTSTART;TZID=Europe/Amsterdam:20260327T080000
DTEND;TZID=Europe/Amsterdam:20260327T120000
DTSTAMP:20260420T095827
CREATED:20260319T184852Z
LAST-MODIFIED:20260319T184852Z
UID:10007662-1774598400-1774612800@www.scharnegoutum.nl
SUMMARY:CBS opé Hichte
DESCRIPTION:
URL:https://www.scharnegoutum.nl/agenda/cbs-ope-hichte/
CATEGORIES:Midden Zaal
END:VEVENT
BEGIN:VEVENT
DTSTART;TZID=Europe/Amsterdam:20260328T130000
DTEND;TZID=Europe/Amsterdam:20260328T210000
DTSTAMP:20260420T095827
CREATED:20251208T151204Z
LAST-MODIFIED:20251215T103101Z
UID:10007022-1774702800-1774731600@www.scharnegoutum.nl
SUMMARY:Paasmiddag voor ouderen
DESCRIPTION:“Voor de gemeenteleden 75+ van PKN Scharnegoutum-Loënga waarvoor zij een\npersoonlijke uitnodiging met een opgavestrookje ontvangen. De viering begint\nom 16.00 uur.”
URL:https://www.scharnegoutum.nl/agenda/paasmiddag-voor-ouderen-4/
CATEGORIES:Grote Zaal
END:VEVENT
BEGIN:VEVENT
DTSTART;TZID=Europe/Amsterdam:20260401T193000
DTEND;TZID=Europe/Amsterdam:20260401T213000
DTSTAMP:20260420T095827
CREATED:20260124T145103Z
LAST-MODIFIED:20260124T145103Z
UID:10007601-1775071800-1775079000@www.scharnegoutum.nl
SUMMARY:Ledenvergadering Dorpsbelang
DESCRIPTION:
URL:https://www.scharnegoutum.nl/agenda/ledenvergadering-dorpsbelang/
CATEGORIES:Midden Zaal
END:VEVENT
BEGIN:VEVENT
DTSTART;TZID=Europe/Amsterdam:20260404T100000
DTEND;TZID=Europe/Amsterdam:20260404T120000
DTSTAMP:20260420T095827
CREATED:20260212T174719Z
LAST-MODIFIED:20260327T191308Z
UID:10005141-1775296800-1775304000@www.scharnegoutum.nl
SUMMARY:Putsje kafee
DESCRIPTION:Tussen 10 en 12 uur bent u welkom voor reparaties van een divers aan gebruikers apparaten in en om huis en herstelwerk van kleding e.d. Het idee achter dit initiatief is samen werken aan een duurzame samenleving. Daarnaast is er koffie entijd voor een goed gesprek terwijl onze vrijwilligers aan het repareren zijn. \nAlles is gratis\, maar een vrijwillige bijdrage wordt op prijs gesteld. \nVoor vragen en info: Geart Bos\, 0645483378\, geart.bos@gmail.com
URL:https://www.scharnegoutum.nl/agenda/putsje-kafee-3-2/
LOCATION:Dorpshuis\, Legedyk 43\, Scharnegoutum\, Friesland\, 8629RL\, Nederland
CATEGORIES:Bar
END:VEVENT
BEGIN:VEVENT
DTSTART;TZID=Europe/Amsterdam:20260404T160000
DTEND;TZID=Europe/Amsterdam:20260404T233000
DTSTAMP:20260420T095827
CREATED:20250825T175202Z
LAST-MODIFIED:20251020T175910Z
UID:10006780-1775318400-1775345400@www.scharnegoutum.nl
SUMMARY:Inloop café
DESCRIPTION:Inloopcafé    \nIedere eerste zaterdag van de maand is er een soort van dorpscafé. U bent daar welkom vanaf 16.00 uur. Op die avond kunt u gewoon wat drinken\, maar ook wat eten en gezellig praten met mededorpsbewoners. Maar u kunt ook biljarten of naar een voetbalwedstrijd of Formule1 wedstrijd kijken.                                                                                                                    Gewoon even uit in het eigen dorp!!!
URL:https://www.scharnegoutum.nl/agenda/inloop-cafe/2026-04-04/
LOCATION:Dorpshuis\, Legedyk 43\, Scharnegoutum\, Friesland\, 8629RL\, Nederland
CATEGORIES:Bar
END:VEVENT
BEGIN:VEVENT
DTSTART;TZID=Europe/Amsterdam:20260407T193000
DTEND;TZID=Europe/Amsterdam:20260407T213000
DTSTAMP:20260420T095827
CREATED:20260319T182503Z
LAST-MODIFIED:20260321T180714Z
UID:10007657-1775590200-1775597400@www.scharnegoutum.nl
SUMMARY:Natuerstichting
DESCRIPTION:
URL:https://www.scharnegoutum.nl/agenda/natuerstichting/
CATEGORIES:Podium Zaal
END:VEVENT
BEGIN:VEVENT
DTSTART;TZID=Europe/Amsterdam:20260408T140000
DTEND;TZID=Europe/Amsterdam:20260408T163000
DTSTAMP:20260420T095827
CREATED:20260207T131041Z
LAST-MODIFIED:20260207T131041Z
UID:10007621-1775656800-1775665800@www.scharnegoutum.nl
SUMMARY:koersbal
DESCRIPTION:
URL:https://www.scharnegoutum.nl/agenda/koersbal-573/
CATEGORIES:Grote Zaal
END:VEVENT
BEGIN:VEVENT
DTSTART;TZID=Europe/Amsterdam:20260410T193000
DTEND;TZID=Europe/Amsterdam:20260410T230000
DTSTAMP:20260420T095827
CREATED:20260107T072526Z
LAST-MODIFIED:20260107T072527Z
UID:10006083-1775849400-1775862000@www.scharnegoutum.nl
SUMMARY:Maatklaverjassen
DESCRIPTION:In Scharnegoutum wordt in de herfst en winter op twee plaatsen gelegenheid gegeven om te klaverjassen\, in het dorpshuis en in de Kromme Tille. \nEr wordt op beide plaatsen alleen maar gezellig gekaart\, dus niet met het mes op tafel. \nEr zijn meestal zo’n 24 liefhebbers aanwezig\, waarbij iedereen welkom is. \nDe prijzen zijn meestal vleesprijzen. \nAanmelden kan kort voor aanvang ter plekke.
URL:https://www.scharnegoutum.nl/agenda/maatklaverjassen-10-3/
LOCATION:Dorpshuis\, Legedyk 43\, Scharnegoutum\, Friesland\, 8629RL\, Nederland
CATEGORIES:Bar
END:VEVENT
BEGIN:VEVENT
DTSTART;TZID=Europe/Amsterdam:20260411T093000
DTEND;TZID=Europe/Amsterdam:20260411T120000
DTSTAMP:20260420T095827
CREATED:20260316T135257Z
LAST-MODIFIED:20260402T165401Z
UID:10007650-1775899800-1775908800@www.scharnegoutum.nl
SUMMARY:Oefenochtend Jan Brens zomerkoor & orkest
DESCRIPTION:
URL:https://www.scharnegoutum.nl/agenda/oefenochtend-jan-brens-zomerkoor-orkest-4/
CATEGORIES:Midden Zaal
END:VEVENT
BEGIN:VEVENT
DTSTART;TZID=Europe/Amsterdam:20260411T200000
DTEND;TZID=Europe/Amsterdam:20260411T220000
DTSTAMP:20260420T095827
CREATED:20251015T165227Z
LAST-MODIFIED:20260107T071440Z
UID:10006919-1775937600-1775944800@www.scharnegoutum.nl
SUMMARY:Bier proeven
DESCRIPTION:Dit is de tweede keer dat de activiteitencommissie van Scharnegoutum dit organiseert\, dus dan weet je dat het een succes was en hopelijk weer wordt.\nWe gaan blind 5 soorten of eigenlijk stijlen van bier proeven en het geheel wordt begeleid door de Bierwinkel uit Sint Nic.\nAan de hand van een slideshow nemen zij u mee in de wereld van de speciaalbieren. Leer meer over het brouwproces\, de geschiedenis\, de brouwerijen en nog veel meer. De bieren worden één voor één geserveerd in proefglaasjes van 15cl. Door voor het proeven niet bekend te maken welk bier er geschonken wordt\, worden de deelnemers uitgedaagd om met alle zintuigen te proeven. Tussendoor zijn er dan wat hapjes om de smaak te motiveren. De proeverij duurt +/- 2 uur en begint om 20.00 uur en de kosten zijn €32.00.\nOpgeven kan via activiteitencommissie@scharnegoutum.nl en vol is vol.
URL:https://www.scharnegoutum.nl/agenda/bier-proeven/
CATEGORIES:Bar
END:VEVENT
BEGIN:VEVENT
DTSTART;TZID=Europe/Amsterdam:20260413T214500
DTEND;TZID=Europe/Amsterdam:20260413T221500
DTSTAMP:20260420T095827
CREATED:20260409T183656Z
LAST-MODIFIED:20260409T183656Z
UID:10007696-1776116700-1776118500@www.scharnegoutum.nl
SUMMARY:Overleg fanfare Swettewyn
DESCRIPTION:
URL:https://www.scharnegoutum.nl/agenda/overleg-fanfare-swettewyn/
CATEGORIES:Podium Zaal
END:VEVENT
BEGIN:VEVENT
DTSTART;TZID=Europe/Amsterdam:20260416T193000
DTEND;TZID=Europe/Amsterdam:20260416T220000
DTSTAMP:20260420T095827
CREATED:20260124T145408Z
LAST-MODIFIED:20260124T145614Z
UID:10007602-1776367800-1776376800@www.scharnegoutum.nl
SUMMARY:Ledenvergadering Vve Magna Fossa
DESCRIPTION:
URL:https://www.scharnegoutum.nl/agenda/ledenvergadering-vve-magna-fossa/
CATEGORIES:Midden Zaal
END:VEVENT
BEGIN:VEVENT
DTSTART;TZID=Europe/Amsterdam:20260417T123000
DTEND;TZID=Europe/Amsterdam:20260417T141500
DTSTAMP:20260420T095827
CREATED:20260412T081317Z
LAST-MODIFIED:20260412T081317Z
UID:10007746-1776429000-1776435300@www.scharnegoutum.nl
SUMMARY:Oefensessie musical Op'e Hichte groep 8
DESCRIPTION:
URL:https://www.scharnegoutum.nl/agenda/oefensessie-musical-ope-hichte-groep-8/2026-04-17/
CATEGORIES:Podium Zaal
END:VEVENT
BEGIN:VEVENT
DTSTART;TZID=Europe/Amsterdam:20260417T163000
DTEND;TZID=Europe/Amsterdam:20260417T203000
DTSTAMP:20260420T095827
CREATED:20251123T160902Z
LAST-MODIFIED:20251123T160903Z
UID:10005147-1776443400-1776457800@www.scharnegoutum.nl
SUMMARY:Graach Dien\, Mei-inoar ite. Samen aan tafel voor senioren.
DESCRIPTION:Graach Dien\, Mei-inoar ite. Samen aan tafel voor senioren.\nEen gezellig samenzijn met lopend buffet voor de groep 55 plus. \nKosten voor deelname bedraagt € 17\,50 inclusief een comsumptie. \nInloop vanaf 17.00 uur. Opgave voor de dinsdag voorafgaande aan de \nmaaltijd bij: \nAnna Luimstra 0515-420163\, anna.luimstra@gmail.com \nJoke Leeverink 0515-411329\, jokeleeverink@gmail.com \nBaukje de Groot 0515-422351 en/of Geart Bos 0515-416753.
URL:https://www.scharnegoutum.nl/agenda/graach-dien-mei-inoar-ite-samen-aan-tafel-voor-senioren/2026-04-17/
LOCATION:Dorpshuis\, Legedyk 43\, Scharnegoutum\, Friesland\, 8629RL\, Nederland
CATEGORIES:Grote Zaal
END:VEVENT
BEGIN:VEVENT
DTSTART;TZID=Europe/Amsterdam:20260418T093000
DTEND;TZID=Europe/Amsterdam:20260418T120000
DTSTAMP:20260420T095827
CREATED:20260402T170616Z
LAST-MODIFIED:20260402T170616Z
UID:10007690-1776504600-1776513600@www.scharnegoutum.nl
SUMMARY:Oefenochtend zomerkoor Jan Brens
DESCRIPTION:
URL:https://www.scharnegoutum.nl/agenda/oefenochtend-zomerkoor-jan-brens/
CATEGORIES:Midden Zaal
END:VEVENT
BEGIN:VEVENT
DTSTART;TZID=Europe/Amsterdam:20260420T190000
DTEND;TZID=Europe/Amsterdam:20260420T220000
DTSTAMP:20260420T095827
CREATED:20260402T170212Z
LAST-MODIFIED:20260402T170225Z
UID:10007689-1776711600-1776722400@www.scharnegoutum.nl
SUMMARY:Ledencursus Schaapskudde de Drifter
DESCRIPTION:
URL:https://www.scharnegoutum.nl/agenda/ledencursus-schaapskudde-de-drifter/
CATEGORIES:Midden Zaal
END:VEVENT
BEGIN:VEVENT
DTSTART;TZID=Europe/Amsterdam:20260420T200000
DTEND;TZID=Europe/Amsterdam:20260420T220000
DTSTAMP:20260420T095827
CREATED:20260124T150455Z
LAST-MODIFIED:20260124T150455Z
UID:10007605-1776715200-1776722400@www.scharnegoutum.nl
SUMMARY:Vergadering activiteitencommissie
DESCRIPTION:
URL:https://www.scharnegoutum.nl/agenda/vergadering-activiteitencommissie/2026-04-20/
CATEGORIES:Podium Zaal
END:VEVENT
BEGIN:VEVENT
DTSTART;TZID=Europe/Amsterdam:20260422T140000
DTEND;TZID=Europe/Amsterdam:20260422T163000
DTSTAMP:20260420T095827
CREATED:20250821T193743Z
LAST-MODIFIED:20250821T193743Z
UID:10006753-1776866400-1776875400@www.scharnegoutum.nl
SUMMARY:Koersbal
DESCRIPTION:
URL:https://www.scharnegoutum.nl/agenda/koersbal-34/
LOCATION:Dorpshuis\, Legedyk 43\, Scharnegoutum\, Friesland\, 8629RL\, Nederland
CATEGORIES:Grote Zaal
END:VEVENT
BEGIN:VEVENT
DTSTART;TZID=Europe/Amsterdam:20260422T193000
DTEND;TZID=Europe/Amsterdam:20260422T213000
DTSTAMP:20260420T095827
CREATED:20260314T184244Z
LAST-MODIFIED:20260314T184244Z
UID:10007649-1776886200-1776893400@www.scharnegoutum.nl
SUMMARY:Oranjevereniging
DESCRIPTION:
URL:https://www.scharnegoutum.nl/agenda/oranjevereniging/
CATEGORIES:Speelzaal
END:VEVENT
BEGIN:VEVENT
DTSTART;VALUE=DATE:20260423
DTEND;VALUE=DATE:20260425
DTSTAMP:20260420T095827
CREATED:20260416T170140Z
LAST-MODIFIED:20260416T170223Z
UID:10007774-1776902400-1777075199@www.scharnegoutum.nl
SUMMARY:Installatie ProAv
DESCRIPTION:
URL:https://www.scharnegoutum.nl/agenda/installatie-proav/
CATEGORIES:Bar
END:VEVENT
BEGIN:VEVENT
DTSTART;TZID=Europe/Amsterdam:20260504T183000
DTEND;TZID=Europe/Amsterdam:20260504T210000
DTSTAMP:20260420T095827
CREATED:20260312T181041Z
LAST-MODIFIED:20260312T181041Z
UID:10007647-1777919400-1777928400@www.scharnegoutum.nl
SUMMARY:4 mei herdenking
DESCRIPTION:
URL:https://www.scharnegoutum.nl/agenda/4-mei-herdenking-2/
CATEGORIES:Bar
END:VEVENT
BEGIN:VEVENT
DTSTART;TZID=Europe/Amsterdam:20260504T210000
DTEND;TZID=Europe/Amsterdam:20260504T213000
DTSTAMP:20260420T095827
CREATED:20260419T171956Z
LAST-MODIFIED:20260419T171956Z
UID:10007775-1777928400-1777930200@www.scharnegoutum.nl
SUMMARY:Overleg bestuur Swettewyn
DESCRIPTION:
URL:https://www.scharnegoutum.nl/agenda/overleg-bestuur-swettewyn/
CATEGORIES:Podium Zaal
END:VEVENT
BEGIN:VEVENT
DTSTART;TZID=Europe/Amsterdam:20260510T160000
DTEND;TZID=Europe/Amsterdam:20260510T200000
DTSTAMP:20260420T095827
CREATED:20260406T063325Z
LAST-MODIFIED:20260406T063325Z
UID:10007695-1778428800-1778443200@www.scharnegoutum.nl
SUMMARY:familiefeest
DESCRIPTION:
URL:https://www.scharnegoutum.nl/agenda/familiefeest-5/
CATEGORIES:Bar
END:VEVENT
BEGIN:VEVENT
DTSTART;TZID=Europe/Amsterdam:20260512T100000
DTEND;TZID=Europe/Amsterdam:20260512T120000
DTSTAMP:20260420T095827
CREATED:20260409T190936Z
LAST-MODIFIED:20260409T191012Z
UID:10007698-1778580000-1778587200@www.scharnegoutum.nl
SUMMARY:openstelling voor Wandelelfstedentocht
DESCRIPTION:
URL:https://www.scharnegoutum.nl/agenda/openstelling-voor-wandelelfstedentocht/
CATEGORIES:Bar
END:VEVENT
BEGIN:VEVENT
DTSTART;TZID=Europe/Amsterdam:20260513T103000
DTEND;TZID=Europe/Amsterdam:20260513T141500
DTSTAMP:20260420T095827
CREATED:20260419T173030Z
LAST-MODIFIED:20260419T173030Z
UID:10007776-1778668200-1778681700@www.scharnegoutum.nl
SUMMARY:Oefensessie musical Op'e Hichte groep 8
DESCRIPTION:
URL:https://www.scharnegoutum.nl/agenda/oefensessie-musical-ope-hichte-groep-8-2/2026-05-13/
CATEGORIES:Podium Zaal
END:VEVENT
END:VCALENDAR