BEGIN:VCALENDAR
VERSION:2.0
PRODID:-//Scharnegoutum | Skearnegoutum - ECPv6.15.20//NONSGML v1.0//EN
CALSCALE:GREGORIAN
METHOD:PUBLISH
X-ORIGINAL-URL:https://www.scharnegoutum.nl
X-WR-CALDESC:Evenementen voor Scharnegoutum | Skearnegoutum
REFRESH-INTERVAL;VALUE=DURATION:PT1H
X-Robots-Tag:noindex
X-PUBLISHED-TTL:PT1H
BEGIN:VTIMEZONE
TZID:Europe/Amsterdam
BEGIN:DAYLIGHT
TZOFFSETFROM:+0100
TZOFFSETTO:+0200
TZNAME:CEST
DTSTART:20240331T010000
END:DAYLIGHT
BEGIN:STANDARD
TZOFFSETFROM:+0200
TZOFFSETTO:+0100
TZNAME:CET
DTSTART:20241027T010000
END:STANDARD
BEGIN:DAYLIGHT
TZOFFSETFROM:+0100
TZOFFSETTO:+0200
TZNAME:CEST
DTSTART:20250330T010000
END:DAYLIGHT
BEGIN:STANDARD
TZOFFSETFROM:+0200
TZOFFSETTO:+0100
TZNAME:CET
DTSTART:20251026T010000
END:STANDARD
BEGIN:DAYLIGHT
TZOFFSETFROM:+0100
TZOFFSETTO:+0200
TZNAME:CEST
DTSTART:20260329T010000
END:DAYLIGHT
BEGIN:STANDARD
TZOFFSETFROM:+0200
TZOFFSETTO:+0100
TZNAME:CET
DTSTART:20261025T010000
END:STANDARD
END:VTIMEZONE
BEGIN:VEVENT
DTSTART;TZID=Europe/Amsterdam:20251117T130000
DTEND;TZID=Europe/Amsterdam:20251117T160000
DTSTAMP:20260420T084226
CREATED:20251023T165151Z
LAST-MODIFIED:20251023T165152Z
UID:10006387-1763384400-1763395200@www.scharnegoutum.nl
SUMMARY:Stal Schukken
DESCRIPTION:Stalschukken \nWij zijn een biljardclub\, ooit gestart in een boerderij\, en sinds lange tijd spelen wij onze competitie avonden in het dorpshuis. \nHeeft U interesse\, kunt u contact opnemen met Thomas de Vries ( alofje@gmail.com )
URL:https://www.scharnegoutum.nl/agenda/stal-schukken-8-2/2025-11-17/
LOCATION:Dorpshuis\, Legedyk 43\, Scharnegoutum\, Friesland\, 8629RL\, Nederland
CATEGORIES:Bar
END:VEVENT
BEGIN:VEVENT
DTSTART;TZID=Europe/Amsterdam:20251117T190000
DTEND;TZID=Europe/Amsterdam:20251117T223000
DTSTAMP:20260420T084226
CREATED:20250804T061544Z
LAST-MODIFIED:20250907T073146Z
UID:10006116-1763406000-1763418600@www.scharnegoutum.nl
SUMMARY:Fanfare "Swettewyn"
DESCRIPTION:Gegevens:    \n\nWij zijn een Fanfare Korps ontstaan uit het\nsamengaan van Harmonie Sneek en Excelsior\nScharnegoutum. Voor meer informatie op deze\n site het kopje verenigingen/Swettewyn\nWat voor activiteit:       \nmaandagavond is de wekelijkse repetitie \navond.\n\nToegangskosten:     \n\nNVT\n\nKaartenverkoop :    \n\nNVT
URL:https://www.scharnegoutum.nl/agenda/swettewyn-10/2025-11-17/
LOCATION:Dorpshuis\, Legedyk 43\, Scharnegoutum\, Friesland\, 8629RL\, Nederland
CATEGORIES:Grote Zaal
END:VEVENT
BEGIN:VEVENT
DTSTART;TZID=Europe/Amsterdam:20251117T200000
DTEND;TZID=Europe/Amsterdam:20251117T223000
DTSTAMP:20260420T084226
CREATED:20250907T080009Z
LAST-MODIFIED:20251020T175303Z
UID:10006881-1763409600-1763418600@www.scharnegoutum.nl
SUMMARY:Damclub De Stadige Strikers
DESCRIPTION:Damclub de Stadige Strikers \nWij zijn een dam vereniging en wij spelen wij onze competitie avonden in het dorpshuis. \nHeeft U interesse\, kunt u contact opnemen met Bauke Bos ( baukebos@home.nl )
URL:https://www.scharnegoutum.nl/agenda/damclub-de-stadige-strikers/2025-11-17/
LOCATION:Dorpshuis\, Legedyk 43\, Scharnegoutum\, Friesland\, 8629RL\, Nederland
CATEGORIES:Speelzaal
END:VEVENT
BEGIN:VEVENT
DTSTART;TZID=Europe/Amsterdam:20251119T190000
DTEND;TZID=Europe/Amsterdam:20251119T233000
DTSTAMP:20260420T084226
CREATED:20241117T143838Z
LAST-MODIFIED:20251020T175648Z
UID:10005034-1763578800-1763595000@www.scharnegoutum.nl
SUMMARY:shantykoor Brûskoppen
DESCRIPTION:Shantykoor de Bruskoppen \nDe naam zegt het al\, wij zijn een Shantykoor\, opgericht in 1997 in Scharnegoutum.                                                                                                                                                                                                        Een enthousiaste groep heren\, die op allerlei gelegenheden zeemansliederen ten gehore brengt\, met een hoog meezinggehalte.                                                                                                      Onze vaste oefenavonden (eens per twee weken) is de woensdagavond. Dan wordt een gevarieerd repertoire ingestudeerd\, dat uit Engelse en Friestalige zeemansliederen bestaat. Nieuwsgierig geworden? Misschien eens meezingen?                                                                                                                                                                                                                                                                  Kom gerust eens langs of meldt u aan bij Herman de Jong. 06-27445686 hermandejong59@outlook.com
URL:https://www.scharnegoutum.nl/agenda/shantykoor-bruskoppen-23/2025-11-19/
LOCATION:Dorpshuis\, Legedyk 43\, Scharnegoutum\, Friesland\, 8629RL\, Nederland
CATEGORIES:Grote Zaal
END:VEVENT
BEGIN:VEVENT
DTSTART;TZID=Europe/Amsterdam:20251121T190000
DTEND;TZID=Europe/Amsterdam:20251121T230000
DTSTAMP:20260420T084226
CREATED:20250913T063847Z
LAST-MODIFIED:20250913T063847Z
UID:10006901-1763751600-1763766000@www.scharnegoutum.nl
SUMMARY:Biljarttoernooi BC Scharnegoutum - De Lakenkrakers
DESCRIPTION:
URL:https://www.scharnegoutum.nl/agenda/biljarttoernooi-bc-scharnegoutum-de-lakenkrakers-2/
LOCATION:Dorpshuis\, Legedyk 43\, Scharnegoutum\, Friesland\, 8629RL\, Nederland
CATEGORIES:Bar
END:VEVENT
BEGIN:VEVENT
DTSTART;VALUE=DATE:20251122
DTEND;VALUE=DATE:20251123
DTSTAMP:20260420T084226
CREATED:20250519T180514Z
LAST-MODIFIED:20250519T180547Z
UID:10006097-1763769600-1763855999@www.scharnegoutum.nl
SUMMARY:Sinterklaas intocht
DESCRIPTION:
URL:https://www.scharnegoutum.nl/agenda/sinterklaas-intocht/
LOCATION:Dorpshuis\, Legedyk 43\, Scharnegoutum\, Friesland\, 8629RL\, Nederland
CATEGORIES:Grote Zaal
END:VEVENT
BEGIN:VEVENT
DTSTART;TZID=Europe/Amsterdam:20251122T190000
DTEND;TZID=Europe/Amsterdam:20251122T230000
DTSTAMP:20260420T084226
CREATED:20250519T180338Z
LAST-MODIFIED:20250927T112517Z
UID:10006096-1763838000-1763852400@www.scharnegoutum.nl
SUMMARY:Escape room
DESCRIPTION:Escape spel 22 november\nWat voor activiteit: Dit is een Escaperoom spel\, maar dan aan tafel en wordt begeleid door Amstor Entertainment. We (de activiteiten commissie) organiseren dit nu vanwege het succes voor de tweede maal. Het spel wordt gespeeld met teams van minimaal 4 en maximaal 6 personen. De minimale leeftijdsgrens is 16 jaar.\nToegangskosten: €15\,00 per persoon\, dat is inclusief een bittergarnituur en maximaal 15 teams en vol=vol\nKaartenverkoop: activiteitencommissie@scharnegoutum.nl en aanmelden voor 15 november
URL:https://www.scharnegoutum.nl/agenda/escape-room/
LOCATION:Dorpshuis\, Legedyk 43\, Scharnegoutum\, Friesland\, 8629RL\, Nederland
CATEGORIES:Grote Zaal
END:VEVENT
BEGIN:VEVENT
DTSTART;TZID=Europe/Amsterdam:20251126T100000
DTEND;TZID=Europe/Amsterdam:20251126T123000
DTSTAMP:20260420T084226
CREATED:20251118T184443Z
LAST-MODIFIED:20251118T184443Z
UID:10007000-1764151200-1764160200@www.scharnegoutum.nl
SUMMARY:Rondom 10
DESCRIPTION:
URL:https://www.scharnegoutum.nl/agenda/rondom-10-7/
CATEGORIES:Midden Zaal
END:VEVENT
BEGIN:VEVENT
DTSTART;TZID=Europe/Amsterdam:20251128T163000
DTEND;TZID=Europe/Amsterdam:20251128T203000
DTSTAMP:20260420T084226
CREATED:20251123T160902Z
LAST-MODIFIED:20251123T160903Z
UID:10005145-1764347400-1764361800@www.scharnegoutum.nl
SUMMARY:Graach Dien\, Mei-inoar ite. Samen aan tafel voor senioren.
DESCRIPTION:Graach Dien\, Mei-inoar ite. Samen aan tafel voor senioren.\nEen gezellig samenzijn met lopend buffet voor de groep 55 plus. \nKosten voor deelname bedraagt € 17\,50 inclusief een comsumptie. \nInloop vanaf 17.00 uur. Opgave voor de dinsdag voorafgaande aan de \nmaaltijd bij: \nAnna Luimstra 0515-420163\, anna.luimstra@gmail.com \nJoke Leeverink 0515-411329\, jokeleeverink@gmail.com \nBaukje de Groot 0515-422351 en/of Geart Bos 0515-416753.
URL:https://www.scharnegoutum.nl/agenda/graach-dien-mei-inoar-ite-samen-aan-tafel-voor-senioren/2025-11-28/
LOCATION:Dorpshuis\, Legedyk 43\, Scharnegoutum\, Friesland\, 8629RL\, Nederland
CATEGORIES:Grote Zaal
END:VEVENT
BEGIN:VEVENT
DTSTART;TZID=Europe/Amsterdam:20251130T150000
DTEND;TZID=Europe/Amsterdam:20251130T203000
DTSTAMP:20260420T084226
CREATED:20251009T180638Z
LAST-MODIFIED:20251009T180638Z
UID:10006914-1764514800-1764534600@www.scharnegoutum.nl
SUMMARY:Familiefeest
DESCRIPTION:
URL:https://www.scharnegoutum.nl/agenda/familiefeest-30/
LOCATION:Dorpshuis\, Legedyk 43\, Scharnegoutum\, Friesland\, 8629RL\, Nederland
CATEGORIES:Grote Zaal
END:VEVENT
BEGIN:VEVENT
DTSTART;TZID=Europe/Amsterdam:20251201T200000
DTEND;TZID=Europe/Amsterdam:20251201T223000
DTSTAMP:20260420T084226
CREATED:20251118T180219Z
LAST-MODIFIED:20251118T180219Z
UID:10006995-1764619200-1764628200@www.scharnegoutum.nl
SUMMARY:Vergadering activiteitencommissie
DESCRIPTION:
URL:https://www.scharnegoutum.nl/agenda/vergadering-activiteitencommissie-11/
CATEGORIES:Podium Zaal
END:VEVENT
BEGIN:VEVENT
DTSTART;TZID=Europe/Amsterdam:20251203T150000
DTEND;TZID=Europe/Amsterdam:20251203T170000
DTSTAMP:20260420T084226
CREATED:20251002T171814Z
LAST-MODIFIED:20251002T171814Z
UID:10006910-1764774000-1764781200@www.scharnegoutum.nl
SUMMARY:Sinterklaasbingo
DESCRIPTION:
URL:https://www.scharnegoutum.nl/agenda/sinterklaasbingo-2/
LOCATION:Dorpshuis\, Legedyk 43\, Scharnegoutum\, Friesland\, 8629RL\, Nederland
CATEGORIES:Grote Zaal
END:VEVENT
BEGIN:VEVENT
DTSTART;TZID=Europe/Amsterdam:20251204T140000
DTEND;TZID=Europe/Amsterdam:20251204T163000
DTSTAMP:20260420T084226
CREATED:20251002T171637Z
LAST-MODIFIED:20251002T171649Z
UID:10006743-1764856800-1764865800@www.scharnegoutum.nl
SUMMARY:Koersbal
DESCRIPTION:
URL:https://www.scharnegoutum.nl/agenda/koersbal-31-3/
LOCATION:Dorpshuis\, Legedyk 43\, Scharnegoutum\, Friesland\, 8629RL\, Nederland
CATEGORIES:Grote Zaal
END:VEVENT
BEGIN:VEVENT
DTSTART;TZID=Europe/Amsterdam:20251205T200000
DTEND;TZID=Europe/Amsterdam:20251205T233000
DTSTAMP:20260420T084226
CREATED:20251126T120210Z
LAST-MODIFIED:20251205T080348Z
UID:10007002-1764964800-1764977400@www.scharnegoutum.nl
SUMMARY:Familiefeest
DESCRIPTION:
URL:https://www.scharnegoutum.nl/agenda/familiefeest-31/
CATEGORIES:Grote Zaal
END:VEVENT
BEGIN:VEVENT
DTSTART;TZID=Europe/Amsterdam:20251206T100000
DTEND;TZID=Europe/Amsterdam:20251206T160000
DTSTAMP:20260420T084226
CREATED:20260313T084651Z
LAST-MODIFIED:20260313T084658Z
UID:10005137-1765015200-1765036800@www.scharnegoutum.nl
SUMMARY:Putsje kafee & Groenekerk kleanruil markt
DESCRIPTION:Tussen 10 en 12 uur bent u welkom voor reparaties van een divers aan gebruikers apparaten in en om huis en herstelwerk van kleding e.d. Het idee achter dit initiatief is samen werken aan een duurzame samenleving. Daarnaast is er koffie entijd voor een goed gesprek terwijl onze vrijwilligers aan het repareren zijn. \nAlles is gratis\, maar een vrijwillige bijdrage wordt op prijs gesteld. \nVoor vragen en info: Geart Bos\, 0645483378\, geart.bos@gmail.com
URL:https://www.scharnegoutum.nl/agenda/putsje-kafee-3-5/
LOCATION:Dorpshuis\, Legedyk 43\, Scharnegoutum\, Friesland\, 8629RL\, Nederland
CATEGORIES:Grote Zaal
END:VEVENT
BEGIN:VEVENT
DTSTART;TZID=Europe/Amsterdam:20251206T160000
DTEND;TZID=Europe/Amsterdam:20251206T233000
DTSTAMP:20260420T084226
CREATED:20250825T175202Z
LAST-MODIFIED:20251020T175910Z
UID:10006776-1765036800-1765063800@www.scharnegoutum.nl
SUMMARY:Inloop café
DESCRIPTION:Inloopcafé    \nIedere eerste zaterdag van de maand is er een soort van dorpscafé. U bent daar welkom vanaf 16.00 uur. Op die avond kunt u gewoon wat drinken\, maar ook wat eten en gezellig praten met mededorpsbewoners. Maar u kunt ook biljarten of naar een voetbalwedstrijd of Formule1 wedstrijd kijken.                                                                                                                    Gewoon even uit in het eigen dorp!!!
URL:https://www.scharnegoutum.nl/agenda/inloop-cafe/2025-12-06/
LOCATION:Dorpshuis\, Legedyk 43\, Scharnegoutum\, Friesland\, 8629RL\, Nederland
CATEGORIES:Bar
END:VEVENT
BEGIN:VEVENT
DTSTART;TZID=Europe/Amsterdam:20251209T190000
DTEND;TZID=Europe/Amsterdam:20251209T200000
DTSTAMP:20260420T084226
CREATED:20251208T182109Z
LAST-MODIFIED:20251208T182109Z
UID:10007024-1765306800-1765310400@www.scharnegoutum.nl
SUMMARY:Overleg dorpshuis
DESCRIPTION:
URL:https://www.scharnegoutum.nl/agenda/overleg-dorpshuis/
CATEGORIES:Podium Zaal
END:VEVENT
BEGIN:VEVENT
DTSTART;TZID=Europe/Amsterdam:20251210T190000
DTEND;TZID=Europe/Amsterdam:20251210T223000
DTSTAMP:20260420T084226
CREATED:20251118T181203Z
LAST-MODIFIED:20251208T182407Z
UID:10006996-1765393200-1765405800@www.scharnegoutum.nl
SUMMARY:Fanfare Swettewyn
DESCRIPTION:
URL:https://www.scharnegoutum.nl/agenda/fanfare-swettewyn/
CATEGORIES:Midden Zaal
END:VEVENT
BEGIN:VEVENT
DTSTART;TZID=Europe/Amsterdam:20251212T190000
DTEND;TZID=Europe/Amsterdam:20251212T233000
DTSTAMP:20260420T084227
CREATED:20250530T073021Z
LAST-MODIFIED:20250530T073021Z
UID:10005149-1765566000-1765582200@www.scharnegoutum.nl
SUMMARY:familiefeest
DESCRIPTION:
URL:https://www.scharnegoutum.nl/agenda/familiefeest-29/
LOCATION:Dorpshuis\, Legedyk 43\, Scharnegoutum\, Friesland\, 8629RL\, Nederland
CATEGORIES:Bar
END:VEVENT
BEGIN:VEVENT
DTSTART;TZID=Europe/Amsterdam:20251213T160000
DTEND;TZID=Europe/Amsterdam:20251213T220000
DTSTAMP:20260420T084227
CREATED:20250131T200956Z
LAST-MODIFIED:20251118T180437Z
UID:10005939-1765641600-1765663200@www.scharnegoutum.nl
SUMMARY:Familiefeest
DESCRIPTION:
URL:https://www.scharnegoutum.nl/agenda/familiefeest-26/
LOCATION:Dorpshuis\, Legedyk 43\, Scharnegoutum\, Friesland\, 8629RL\, Nederland
CATEGORIES:Bar
END:VEVENT
BEGIN:VEVENT
DTSTART;TZID=Europe/Amsterdam:20251214T150000
DTEND;TZID=Europe/Amsterdam:20251214T203000
DTSTAMP:20260420T084227
CREATED:20250519T180646Z
LAST-MODIFIED:20250927T112609Z
UID:10006098-1765724400-1765744200@www.scharnegoutum.nl
SUMMARY:Winter bingo
DESCRIPTION:Winterbingo 14 december van 16.00-19.30 uur\nWat voor activiteit: Deze bingo wordt georganiseerd door de activiteiten commissie en is altijd heel gezellig en het hele gezin kan eraan meedoen. We hebben weer mooie prijzen en spelen 5 rondjes. Tussendoor is er een lopend buffet met soep met stokbrood\, salades\, patat\, frikandellen en hamburgers.\nToegangskosten: €10\,00 voor kinderen en volwassenen €17\,50\, max 80 aanmeldingen en vol=vol\nKaartenverkoop: activiteitencommissie@scharnegoutum.nl en aanmelden voor 23 november
URL:https://www.scharnegoutum.nl/agenda/winter-bingo/
LOCATION:Dorpshuis\, Legedyk 43\, Scharnegoutum\, Friesland\, 8629RL\, Nederland
CATEGORIES:Grote Zaal
END:VEVENT
BEGIN:VEVENT
DTSTART;TZID=Europe/Amsterdam:20251217T140000
DTEND;TZID=Europe/Amsterdam:20251217T163000
DTSTAMP:20260420T084227
CREATED:20250821T193437Z
LAST-MODIFIED:20250821T193437Z
UID:10006752-1765980000-1765989000@www.scharnegoutum.nl
SUMMARY:Koersbal
DESCRIPTION:
URL:https://www.scharnegoutum.nl/agenda/koersbal-33/
LOCATION:Dorpshuis\, Legedyk 43\, Scharnegoutum\, Friesland\, 8629RL\, Nederland
CATEGORIES:Grote Zaal
END:VEVENT
BEGIN:VEVENT
DTSTART;TZID=Europe/Amsterdam:20251217T190000
DTEND;TZID=Europe/Amsterdam:20251217T200000
DTSTAMP:20260420T084227
CREATED:20251210T083023Z
LAST-MODIFIED:20251210T083023Z
UID:10007025-1765998000-1766001600@www.scharnegoutum.nl
SUMMARY:RTC Rally Sneek
DESCRIPTION:
URL:https://www.scharnegoutum.nl/agenda/rtc-rally-sneek/
CATEGORIES:Podium Zaal
END:VEVENT
BEGIN:VEVENT
DTSTART;TZID=Europe/Amsterdam:20251217T190000
DTEND;TZID=Europe/Amsterdam:20251217T233000
DTSTAMP:20260420T084227
CREATED:20241117T143838Z
LAST-MODIFIED:20241117T144007Z
UID:10005037-1765998000-1766014200@www.scharnegoutum.nl
SUMMARY:shantykoor Brûskoppen jaarvergadering
DESCRIPTION:
URL:https://www.scharnegoutum.nl/agenda/shantykoor-bruskoppen-23-2025-12-17/
LOCATION:Dorpshuis\, Legedyk 43\, Scharnegoutum\, Friesland\, 8629RL\, Nederland
CATEGORIES:Grote Zaal
END:VEVENT
BEGIN:VEVENT
DTSTART;TZID=Europe/Amsterdam:20251217T193000
DTEND;TZID=Europe/Amsterdam:20251217T220000
DTSTAMP:20260420T084227
CREATED:20251210T083304Z
LAST-MODIFIED:20251210T083304Z
UID:10007026-1765999800-1766008800@www.scharnegoutum.nl
SUMMARY:Vergadering bestuur dorpshuis
DESCRIPTION:
URL:https://www.scharnegoutum.nl/agenda/vergadering-bestuur-dorpshuis/
CATEGORIES:Speelzaal
END:VEVENT
BEGIN:VEVENT
DTSTART;TZID=Europe/Amsterdam:20251220T140000
DTEND;TZID=Europe/Amsterdam:20251220T190000
DTSTAMP:20260420T084227
CREATED:20250110T092306Z
LAST-MODIFIED:20251219T123605Z
UID:10005914-1766239200-1766257200@www.scharnegoutum.nl
SUMMARY:kerstmiddag met broodmaaltijd
DESCRIPTION:Kerstviering  voor 75+ in het Swettehûs.\nDeze  kerstviering is bedoeld voor   75+\nHet thema zal deze keer “Geboorte” zijn!\nFeest van nieuw leven en nieuw begin. En dat in een wereld waarin zoveel kapot is gevallen\, vernield\, verstoord: een wereld die snakt naar vernieuwing en naar herschepping.\nDs. Dingena Hasper zal tijdens deze viering voorgaan.\nDe inloop is vrij en anders aanmelden bij Gooitske van der Laan.\n\n“Voor de gemeenteleden 75+ van PKN Scharnegoutum-Loënga waarvoor zij een\npersoonlijke uitnodiging met een opgavestrookje ontvangen. De viering begint\nom 16.00 uur.”
URL:https://www.scharnegoutum.nl/agenda/kerstmiddag-met-broodmaaltijd/
LOCATION:Dorpshuis\, Legedyk 43\, Scharnegoutum\, Friesland\, 8629RL\, Nederland
CATEGORIES:Grote Zaal
END:VEVENT
BEGIN:VEVENT
DTSTART;TZID=Europe/Amsterdam:20251222T160000
DTEND;TZID=Europe/Amsterdam:20251222T180000
DTSTAMP:20260420T084227
CREATED:20251118T175721Z
LAST-MODIFIED:20251118T175721Z
UID:10006994-1766419200-1766426400@www.scharnegoutum.nl
SUMMARY:Kerstbijeenkomst dorpshuisvrijwilligers
DESCRIPTION:
URL:https://www.scharnegoutum.nl/agenda/kerstbijeenkomst-dorpshuisvrijwilligers/
CATEGORIES:Grote Zaal
END:VEVENT
BEGIN:VEVENT
DTSTART;TZID=Europe/Amsterdam:20251227T130000
DTEND;TZID=Europe/Amsterdam:20251227T170000
DTSTAMP:20260420T084227
CREATED:20250918T183744Z
LAST-MODIFIED:20251005T161845Z
UID:10006903-1766840400-1766854800@www.scharnegoutum.nl
SUMMARY:Wedstrijd De Stadige Strikers
DESCRIPTION:
URL:https://www.scharnegoutum.nl/agenda/wedstrijd-de-stadige-strikers/
LOCATION:Dorpshuis\, Legedyk 43\, Scharnegoutum\, Friesland\, 8629RL\, Nederland
CATEGORIES:Midden Zaal
END:VEVENT
BEGIN:VEVENT
DTSTART;TZID=Europe/Amsterdam:20251227T160000
DTEND;TZID=Europe/Amsterdam:20251227T213000
DTSTAMP:20260420T084227
CREATED:20250503T161941Z
LAST-MODIFIED:20260107T072439Z
UID:10006082-1766851200-1766871000@www.scharnegoutum.nl
SUMMARY:Maatklaverjassen
DESCRIPTION:In Scharnegoutum wordt in de herfst en winter op twee plaatsen gelegenheid gegeven om te klaverjassen\, in het dorpshuis en in de Kromme Tille. \nEr wordt op beide plaatsen alleen maar gezellig gekaart\, dus niet met het mes op tafel. \nEr zijn meestal zo’n 24 liefhebbers aanwezig\, waarbij iedereen welkom is. \nDe prijzen zijn meestal vleesprijzen. \nAanmelden kan kort voor aanvang ter plekke.
URL:https://www.scharnegoutum.nl/agenda/maatklaverjassen-10/2025-12-27/
LOCATION:Dorpshuis\, Legedyk 43\, Scharnegoutum\, Friesland\, 8629RL\, Nederland
CATEGORIES:Bar
END:VEVENT
BEGIN:VEVENT
DTSTART;VALUE=DATE:20251229
DTEND;VALUE=DATE:20251230
DTSTAMP:20260420T084227
CREATED:20251118T184235Z
LAST-MODIFIED:20251208T182251Z
UID:10006999-1766966400-1767052799@www.scharnegoutum.nl
SUMMARY:Onderhoud noodverlichting en brandmeldinstallatie
DESCRIPTION:
URL:https://www.scharnegoutum.nl/agenda/onderhoud-noopverlichting-en-brandmeldinstallatie/
CATEGORIES:Grote Zaal
END:VEVENT
END:VCALENDAR