BEGIN:VCALENDAR
VERSION:2.0
PRODID:-//Scharnegoutum | Skearnegoutum - ECPv6.15.20//NONSGML v1.0//EN
CALSCALE:GREGORIAN
METHOD:PUBLISH
X-WR-CALNAME:Scharnegoutum | Skearnegoutum
X-ORIGINAL-URL:https://www.scharnegoutum.nl
X-WR-CALDESC:Evenementen voor Scharnegoutum | Skearnegoutum
REFRESH-INTERVAL;VALUE=DURATION:PT1H
X-Robots-Tag:noindex
X-PUBLISHED-TTL:PT1H
BEGIN:VTIMEZONE
TZID:Europe/Amsterdam
BEGIN:DAYLIGHT
TZOFFSETFROM:+0100
TZOFFSETTO:+0200
TZNAME:CEST
DTSTART:20240331T010000
END:DAYLIGHT
BEGIN:STANDARD
TZOFFSETFROM:+0200
TZOFFSETTO:+0100
TZNAME:CET
DTSTART:20241027T010000
END:STANDARD
BEGIN:DAYLIGHT
TZOFFSETFROM:+0100
TZOFFSETTO:+0200
TZNAME:CEST
DTSTART:20250330T010000
END:DAYLIGHT
BEGIN:STANDARD
TZOFFSETFROM:+0200
TZOFFSETTO:+0100
TZNAME:CET
DTSTART:20251026T010000
END:STANDARD
BEGIN:DAYLIGHT
TZOFFSETFROM:+0100
TZOFFSETTO:+0200
TZNAME:CEST
DTSTART:20260329T010000
END:DAYLIGHT
BEGIN:STANDARD
TZOFFSETFROM:+0200
TZOFFSETTO:+0100
TZNAME:CET
DTSTART:20261025T010000
END:STANDARD
END:VTIMEZONE
BEGIN:VEVENT
DTSTART;TZID=Europe/Amsterdam:20250408T093000
DTEND;TZID=Europe/Amsterdam:20250408T103000
DTSTAMP:20260422T011939
CREATED:20250323T202508Z
LAST-MODIFIED:20250323T202508Z
UID:10005954-1744104600-1744108200@www.scharnegoutum.nl
SUMMARY:Yin Yoga
DESCRIPTION:
URL:https://www.scharnegoutum.nl/agenda/yin-yoga-12/
LOCATION:Dorpshuis\, Legedyk 43\, Scharnegoutum\, Friesland\, 8629RL\, Nederland
CATEGORIES:Bar
END:VEVENT
BEGIN:VEVENT
DTSTART;TZID=Europe/Amsterdam:20250408T104500
DTEND;TZID=Europe/Amsterdam:20250408T114500
DTSTAMP:20260422T011939
CREATED:20250323T202624Z
LAST-MODIFIED:20250323T202624Z
UID:10005955-1744109100-1744112700@www.scharnegoutum.nl
SUMMARY:Stoelfit voor ouderen
DESCRIPTION:
URL:https://www.scharnegoutum.nl/agenda/stoelfit-voor-ouderen-11/
LOCATION:Dorpshuis\, Legedyk 43\, Scharnegoutum\, Friesland\, 8629RL\, Nederland
CATEGORIES:Bar
END:VEVENT
BEGIN:VEVENT
DTSTART;TZID=Europe/Amsterdam:20250408T120000
DTEND;TZID=Europe/Amsterdam:20250408T170000
DTSTAMP:20260422T011939
CREATED:20250119T110203Z
LAST-MODIFIED:20250323T202754Z
UID:10005921-1744113600-1744131600@www.scharnegoutum.nl
SUMMARY:SWF Sociaal Collectief teater "Het meisje van de Radio"
DESCRIPTION:
URL:https://www.scharnegoutum.nl/agenda/swf-sociaal-collectief-theater/
LOCATION:Dorpshuis\, Legedyk 43\, Scharnegoutum\, Friesland\, 8629RL\, Nederland
CATEGORIES:Grote Zaal
END:VEVENT
BEGIN:VEVENT
DTSTART;TZID=Europe/Amsterdam:20250408T190000
DTEND;TZID=Europe/Amsterdam:20250408T223000
DTSTAMP:20260422T011939
CREATED:20241226T165608Z
LAST-MODIFIED:20241226T165608Z
UID:10005883-1744138800-1744151400@www.scharnegoutum.nl
SUMMARY:De Lakenkrakers
DESCRIPTION:
URL:https://www.scharnegoutum.nl/agenda/de-lakenkrakers-5/2025-04-08/
LOCATION:Dorpshuis\, Legedyk 43\, Scharnegoutum\, Friesland\, 8629RL\, Nederland
CATEGORIES:Bar
END:VEVENT
BEGIN:VEVENT
DTSTART;TZID=Europe/Amsterdam:20250409T090000
DTEND;TZID=Europe/Amsterdam:20250409T093000
DTSTAMP:20260422T011939
CREATED:20240530T180737Z
LAST-MODIFIED:20240530T181030Z
UID:10005575-1744189200-1744191000@www.scharnegoutum.nl
SUMMARY:bloedprikken
DESCRIPTION:
URL:https://www.scharnegoutum.nl/agenda/bloedprikken-5/2025-04-09/
LOCATION:Dorpshuis\, Legedyk 43\, Scharnegoutum\, Friesland\, 8629RL\, Nederland
CATEGORIES:Grote Zaal
END:VEVENT
BEGIN:VEVENT
DTSTART;TZID=Europe/Amsterdam:20250409T090000
DTEND;TZID=Europe/Amsterdam:20250409T093000
DTSTAMP:20260422T011939
CREATED:20240530T181238Z
LAST-MODIFIED:20240530T181410Z
UID:10005617-1744189200-1744191000@www.scharnegoutum.nl
SUMMARY:bloedprikken
DESCRIPTION:
URL:https://www.scharnegoutum.nl/agenda/bloedprikken-6/2025-04-09/
LOCATION:Dorpshuis\, Legedyk 43\, Scharnegoutum\, Friesland\, 8629RL\, Nederland
CATEGORIES:Grote Zaal
END:VEVENT
BEGIN:VEVENT
DTSTART;TZID=Europe/Amsterdam:20250409T140000
DTEND;TZID=Europe/Amsterdam:20250409T163000
DTSTAMP:20260422T011939
CREATED:20240915T181526Z
LAST-MODIFIED:20241001T135523Z
UID:10004946-1744207200-1744216200@www.scharnegoutum.nl
SUMMARY:Koersbal
DESCRIPTION:
URL:https://www.scharnegoutum.nl/agenda/koersbal-30/2025-04-09/
LOCATION:Dorpshuis\, Legedyk 43\, Scharnegoutum\, Friesland\, 8629RL\, Nederland
CATEGORIES:Grote Zaal
END:VEVENT
BEGIN:VEVENT
DTSTART;TZID=Europe/Amsterdam:20250409T193000
DTEND;TZID=Europe/Amsterdam:20250409T223000
DTSTAMP:20260422T011939
CREATED:20241117T142150Z
LAST-MODIFIED:20241117T144720Z
UID:10005019-1744227000-1744237800@www.scharnegoutum.nl
SUMMARY:Dames biljarten
DESCRIPTION:
URL:https://www.scharnegoutum.nl/agenda/dames-biljarten/2025-04-09/
LOCATION:Dorpshuis\, Legedyk 43\, Scharnegoutum\, Friesland\, 8629RL\, Nederland
CATEGORIES:Bar
END:VEVENT
BEGIN:VEVENT
DTSTART;TZID=Europe/Amsterdam:20250409T193000
DTEND;TZID=Europe/Amsterdam:20250409T223000
DTSTAMP:20260422T011940
CREATED:20250123T165138Z
LAST-MODIFIED:20250123T165303Z
UID:10005935-1744227000-1744237800@www.scharnegoutum.nl
SUMMARY:Algemene ledenvergadering Dorpsbelang
DESCRIPTION:
URL:https://www.scharnegoutum.nl/agenda/algemene-ledenvergadering-dorpsbelang/
LOCATION:Dorpshuis\, Legedyk 43\, Scharnegoutum\, Friesland\, 8629RL\, Nederland
CATEGORIES:Midden Zaal
END:VEVENT
BEGIN:VEVENT
DTSTART;TZID=Europe/Amsterdam:20250410T133000
DTEND;TZID=Europe/Amsterdam:20250410T153000
DTSTAMP:20260422T011940
CREATED:20250225T175544Z
LAST-MODIFIED:20250225T175544Z
UID:10005072-1744291800-1744299000@www.scharnegoutum.nl
SUMMARY:Fysio Wymbrits "valpreventie"
DESCRIPTION:
URL:https://www.scharnegoutum.nl/agenda/fysio-wymbrits-valpreventie/2025-04-10/
LOCATION:Dorpshuis\, Legedyk 43\, Scharnegoutum\, Friesland\, 8629RL\, Nederland
CATEGORIES:Midden Zaal
END:VEVENT
BEGIN:VEVENT
DTSTART;TZID=Europe/Amsterdam:20250410T153000
DTEND;TZID=Europe/Amsterdam:20250410T183000
DTSTAMP:20260422T011940
CREATED:20240530T182539Z
LAST-MODIFIED:20250331T181219Z
UID:10005680-1744299000-1744309800@www.scharnegoutum.nl
SUMMARY:muziekles
DESCRIPTION:
URL:https://www.scharnegoutum.nl/agenda/muziekles-16-2024-09-12/2025-04-10/
LOCATION:Dorpshuis\, Legedyk 43\, Scharnegoutum\, Friesland\, 8629RL\, Nederland
CATEGORIES:Podium Zaal
END:VEVENT
BEGIN:VEVENT
DTSTART;TZID=Europe/Amsterdam:20250410T191500
DTEND;TZID=Europe/Amsterdam:20250410T220000
DTSTAMP:20260422T011940
CREATED:20250131T192834Z
LAST-MODIFIED:20250131T193249Z
UID:10005938-1744312500-1744322400@www.scharnegoutum.nl
SUMMARY:VVE Vergadering Magna Fossa
DESCRIPTION:
URL:https://www.scharnegoutum.nl/agenda/vve-vergadering-magnafossa/
LOCATION:Dorpshuis\, Legedyk 43\, Scharnegoutum\, Friesland\, 8629RL\, Nederland
CATEGORIES:Midden Zaal
END:VEVENT
BEGIN:VEVENT
DTSTART;TZID=Europe/Amsterdam:20250410T193000
DTEND;TZID=Europe/Amsterdam:20250410T223000
DTSTAMP:20260422T011940
CREATED:20241226T170439Z
LAST-MODIFIED:20241226T170439Z
UID:10005898-1744313400-1744324200@www.scharnegoutum.nl
SUMMARY:BC Scharnegoutum
DESCRIPTION:
URL:https://www.scharnegoutum.nl/agenda/bc-scharnegoutum-5/2025-04-10/
LOCATION:Dorpshuis\, Legedyk 43\, Scharnegoutum\, Friesland\, 8629RL\, Nederland
CATEGORIES:Bar
END:VEVENT
BEGIN:VEVENT
DTSTART;TZID=Europe/Amsterdam:20250411T193000
DTEND;TZID=Europe/Amsterdam:20250411T230000
DTSTAMP:20260422T011940
CREATED:20240519T090243Z
LAST-MODIFIED:20240519T090407Z
UID:10005529-1744399800-1744412400@www.scharnegoutum.nl
SUMMARY:Maatklaverjassen
DESCRIPTION:
URL:https://www.scharnegoutum.nl/agenda/maatklaverjassen-9/2025-04-11/
LOCATION:Dorpshuis\, Legedyk 43\, Scharnegoutum\, Friesland\, 8629RL\, Nederland
CATEGORIES:Midden Zaal
END:VEVENT
BEGIN:VEVENT
DTSTART;TZID=Europe/Amsterdam:20250412T150000
DTEND;TZID=Europe/Amsterdam:20250412T173000
DTSTAMP:20260422T011940
CREATED:20250114T185857Z
LAST-MODIFIED:20250114T185857Z
UID:10005917-1744470000-1744479000@www.scharnegoutum.nl
SUMMARY:Paasmiddag voor ouderen
DESCRIPTION:
URL:https://www.scharnegoutum.nl/agenda/paasmiddag-voor-ouderen-3/
LOCATION:Dorpshuis\, Legedyk 43\, Scharnegoutum\, Friesland\, 8629RL\, Nederland
CATEGORIES:Grote Zaal
END:VEVENT
BEGIN:VEVENT
DTSTART;TZID=Europe/Amsterdam:20250412T200000
DTEND;TZID=Europe/Amsterdam:20250412T235500
DTSTAMP:20260422T011940
CREATED:20240612T171302Z
LAST-MODIFIED:20240612T171302Z
UID:10004878-1744488000-1744502100@www.scharnegoutum.nl
SUMMARY:familiefeest
DESCRIPTION:
URL:https://www.scharnegoutum.nl/agenda/familiefeest-21/
LOCATION:Dorpshuis\, Legedyk 43\, Scharnegoutum\, Friesland\, 8629RL\, Nederland
CATEGORIES:Bar
END:VEVENT
BEGIN:VEVENT
DTSTART;TZID=Europe/Amsterdam:20250414T150000
DTEND;TZID=Europe/Amsterdam:20250414T190000
DTSTAMP:20260422T011940
CREATED:20230331T152659Z
LAST-MODIFIED:20230331T153101Z
UID:10004479-1744642800-1744657200@www.scharnegoutum.nl
SUMMARY:Stal Schukken
DESCRIPTION:
URL:https://www.scharnegoutum.nl/agenda/stal-schukken-3/2025-04-14/
LOCATION:Dorpshuis\, Legedyk 43\, Scharnegoutum\, Friesland\, 8629RL\, Nederland
CATEGORIES:Bar
END:VEVENT
BEGIN:VEVENT
DTSTART;TZID=Europe/Amsterdam:20250414T210000
DTEND;TZID=Europe/Amsterdam:20250414T210000
DTSTAMP:20260422T011940
CREATED:20211119T144027Z
LAST-MODIFIED:20211127T103141Z
UID:10004059-1744664400-1744664400@www.scharnegoutum.nl
SUMMARY:Stadige Strikers
DESCRIPTION:
URL:https://www.scharnegoutum.nl/agenda/dammen/2025-04-14/
LOCATION:Dorpshuis\, Legedyk 43\, Scharnegoutum\, Friesland\, 8629RL\, Nederland
CATEGORIES:Speelzaal
END:VEVENT
BEGIN:VEVENT
DTSTART;TZID=Europe/Amsterdam:20250415T093000
DTEND;TZID=Europe/Amsterdam:20250415T103000
DTSTAMP:20260422T011940
CREATED:20250323T203037Z
LAST-MODIFIED:20250323T203037Z
UID:10005956-1744709400-1744713000@www.scharnegoutum.nl
SUMMARY:Yin Yoga
DESCRIPTION:
URL:https://www.scharnegoutum.nl/agenda/yin-yoga-13/2025-04-15/
LOCATION:Dorpshuis\, Legedyk 43\, Scharnegoutum\, Friesland\, 8629RL\, Nederland
CATEGORIES:Midden Zaal
END:VEVENT
BEGIN:VEVENT
DTSTART;TZID=Europe/Amsterdam:20250415T104500
DTEND;TZID=Europe/Amsterdam:20250415T114500
DTSTAMP:20260422T011940
CREATED:20250323T203526Z
LAST-MODIFIED:20250323T203526Z
UID:10005982-1744713900-1744717500@www.scharnegoutum.nl
SUMMARY:Stoelfit voor ouderen
DESCRIPTION:
URL:https://www.scharnegoutum.nl/agenda/stoelfit-voor-ouderen-12/2025-04-15/
LOCATION:Dorpshuis\, Legedyk 43\, Scharnegoutum\, Friesland\, 8629RL\, Nederland
CATEGORIES:Midden Zaal
END:VEVENT
BEGIN:VEVENT
DTSTART;TZID=Europe/Amsterdam:20250415T193000
DTEND;TZID=Europe/Amsterdam:20250415T223000
DTSTAMP:20260422T011940
CREATED:20250328T191129Z
LAST-MODIFIED:20250403T174017Z
UID:10006049-1744745400-1744756200@www.scharnegoutum.nl
SUMMARY:Natuerstichting
DESCRIPTION:
URL:https://www.scharnegoutum.nl/agenda/natuerstichting-4/
LOCATION:Dorpshuis\, Legedyk 43\, Scharnegoutum\, Friesland\, 8629RL\, Nederland
CATEGORIES:Midden Zaal
END:VEVENT
BEGIN:VEVENT
DTSTART;TZID=Europe/Amsterdam:20250416T190000
DTEND;TZID=Europe/Amsterdam:20250416T233000
DTSTAMP:20260422T011940
CREATED:20241117T141123Z
LAST-MODIFIED:20241124T160735Z
UID:10004996-1744830000-1744846200@www.scharnegoutum.nl
SUMMARY:shantykoor Brûskoppen
DESCRIPTION:
URL:https://www.scharnegoutum.nl/agenda/shantykoor-bruskoppen-14-2025-01-22/2025-04-16/
LOCATION:Dorpshuis\, Legedyk 43\, Scharnegoutum\, Friesland\, 8629RL\, Nederland
CATEGORIES:Grote Zaal
END:VEVENT
BEGIN:VEVENT
DTSTART;TZID=Europe/Amsterdam:20250419T151500
DTEND;TZID=Europe/Amsterdam:20250419T173000
DTSTAMP:20260422T011940
CREATED:20250416T174215Z
LAST-MODIFIED:20250416T174215Z
UID:10005132-1745075700-1745083800@www.scharnegoutum.nl
SUMMARY:Uitvaart bijeenkomst
DESCRIPTION:
URL:https://www.scharnegoutum.nl/agenda/uitvaart-bijeenkomst-5/
LOCATION:Dorpshuis\, Legedyk 43\, Scharnegoutum\, Friesland\, 8629RL\, Nederland
CATEGORIES:Grote Zaal
END:VEVENT
BEGIN:VEVENT
DTSTART;TZID=Europe/Amsterdam:20250421T150000
DTEND;TZID=Europe/Amsterdam:20250421T190000
DTSTAMP:20260422T011940
CREATED:20230331T152659Z
LAST-MODIFIED:20230331T153101Z
UID:10004480-1745247600-1745262000@www.scharnegoutum.nl
SUMMARY:Stal Schukken
DESCRIPTION:
URL:https://www.scharnegoutum.nl/agenda/stal-schukken-3/2025-04-21/
LOCATION:Dorpshuis\, Legedyk 43\, Scharnegoutum\, Friesland\, 8629RL\, Nederland
CATEGORIES:Bar
END:VEVENT
BEGIN:VEVENT
DTSTART;TZID=Europe/Amsterdam:20250421T210000
DTEND;TZID=Europe/Amsterdam:20250421T210000
DTSTAMP:20260422T011940
CREATED:20211119T144027Z
LAST-MODIFIED:20211127T103141Z
UID:10004060-1745269200-1745269200@www.scharnegoutum.nl
SUMMARY:Stadige Strikers
DESCRIPTION:
URL:https://www.scharnegoutum.nl/agenda/dammen/2025-04-21/
LOCATION:Dorpshuis\, Legedyk 43\, Scharnegoutum\, Friesland\, 8629RL\, Nederland
CATEGORIES:Speelzaal
END:VEVENT
BEGIN:VEVENT
DTSTART;TZID=Europe/Amsterdam:20250422T200000
DTEND;TZID=Europe/Amsterdam:20250422T220000
DTSTAMP:20260422T011940
CREATED:20241009T164304Z
LAST-MODIFIED:20250114T192722Z
UID:10005808-1745352000-1745359200@www.scharnegoutum.nl
SUMMARY:Jaarvergadering De Laatste Eer
DESCRIPTION:
URL:https://www.scharnegoutum.nl/agenda/jaarvergadering-de-laatste-eer-3/
LOCATION:Dorpshuis\, Legedyk 43\, Scharnegoutum\, Friesland\, 8629RL\, Nederland
CATEGORIES:Midden Zaal
END:VEVENT
BEGIN:VEVENT
DTSTART;TZID=Europe/Amsterdam:20250423T190000
DTEND;TZID=Europe/Amsterdam:20250423T220000
DTSTAMP:20260422T011940
CREATED:20240627T183512Z
LAST-MODIFIED:20250209T142705Z
UID:10004880-1745434800-1745445600@www.scharnegoutum.nl
SUMMARY:4 mei lezing "Peter Hein"
DESCRIPTION:
URL:https://www.scharnegoutum.nl/agenda/4-mei-lezing/
LOCATION:Dorpshuis\, Legedyk 43\, Scharnegoutum\, Friesland\, 8629RL\, Nederland
CATEGORIES:Grote Zaal
END:VEVENT
BEGIN:VEVENT
DTSTART;TZID=Europe/Amsterdam:20250424T190000
DTEND;TZID=Europe/Amsterdam:20250424T223000
DTSTAMP:20260422T011940
CREATED:20250211T174522Z
LAST-MODIFIED:20250211T174522Z
UID:10005061-1745521200-1745533800@www.scharnegoutum.nl
SUMMARY:Swettewyn
DESCRIPTION:
URL:https://www.scharnegoutum.nl/agenda/swettewyn-8/
LOCATION:Dorpshuis\, Legedyk 43\, Scharnegoutum\, Friesland\, 8629RL\, Nederland
CATEGORIES:Midden Zaal
END:VEVENT
BEGIN:VEVENT
DTSTART;TZID=Europe/Amsterdam:20250424T193000
DTEND;TZID=Europe/Amsterdam:20250424T220000
DTSTAMP:20260422T011940
CREATED:20250225T182233Z
LAST-MODIFIED:20250323T200240Z
UID:10005091-1745523000-1745532000@www.scharnegoutum.nl
SUMMARY:Natuerstichting
DESCRIPTION:
URL:https://www.scharnegoutum.nl/agenda/natuerstichting-3/
LOCATION:Dorpshuis\, Legedyk 43\, Scharnegoutum\, Friesland\, 8629RL\, Nederland
CATEGORIES:Podium Zaal
END:VEVENT
BEGIN:VEVENT
DTSTART;TZID=Europe/Amsterdam:20250426T200000
DTEND;TZID=Europe/Amsterdam:20250426T233000
DTSTAMP:20260422T011940
CREATED:20250416T175150Z
LAST-MODIFIED:20250416T175150Z
UID:10006075-1745697600-1745710200@www.scharnegoutum.nl
SUMMARY:familiefeest
DESCRIPTION:
URL:https://www.scharnegoutum.nl/agenda/familiefeest-27/
LOCATION:Dorpshuis\, Legedyk 43\, Scharnegoutum\, Friesland\, 8629RL\, Nederland
CATEGORIES:Bar
END:VEVENT
END:VCALENDAR