BEGIN:VCALENDAR
VERSION:2.0
PRODID:-//Scharnegoutum | Skearnegoutum - ECPv6.15.20//NONSGML v1.0//EN
CALSCALE:GREGORIAN
METHOD:PUBLISH
X-ORIGINAL-URL:https://www.scharnegoutum.nl
X-WR-CALDESC:Evenementen voor Scharnegoutum | Skearnegoutum
REFRESH-INTERVAL;VALUE=DURATION:PT1H
X-Robots-Tag:noindex
X-PUBLISHED-TTL:PT1H
BEGIN:VTIMEZONE
TZID:Europe/Amsterdam
BEGIN:DAYLIGHT
TZOFFSETFROM:+0100
TZOFFSETTO:+0200
TZNAME:CEST
DTSTART:20250330T010000
END:DAYLIGHT
BEGIN:STANDARD
TZOFFSETFROM:+0200
TZOFFSETTO:+0100
TZNAME:CET
DTSTART:20251026T010000
END:STANDARD
BEGIN:DAYLIGHT
TZOFFSETFROM:+0100
TZOFFSETTO:+0200
TZNAME:CEST
DTSTART:20260329T010000
END:DAYLIGHT
BEGIN:STANDARD
TZOFFSETFROM:+0200
TZOFFSETTO:+0100
TZNAME:CET
DTSTART:20261025T010000
END:STANDARD
BEGIN:DAYLIGHT
TZOFFSETFROM:+0100
TZOFFSETTO:+0200
TZNAME:CEST
DTSTART:20270328T010000
END:DAYLIGHT
BEGIN:STANDARD
TZOFFSETFROM:+0200
TZOFFSETTO:+0100
TZNAME:CET
DTSTART:20271031T010000
END:STANDARD
BEGIN:DAYLIGHT
TZOFFSETFROM:+0100
TZOFFSETTO:+0200
TZNAME:CEST
DTSTART:20280326T010000
END:DAYLIGHT
BEGIN:STANDARD
TZOFFSETFROM:+0200
TZOFFSETTO:+0100
TZNAME:CET
DTSTART:20281029T010000
END:STANDARD
END:VTIMEZONE
BEGIN:VEVENT
DTSTART;TZID=Europe/Amsterdam:20261003T100000
DTEND;TZID=Europe/Amsterdam:20261003T163000
DTSTAMP:20260420T084106
CREATED:20260313T084803Z
LAST-MODIFIED:20260327T191643Z
UID:10007648-1791021600-1791045000@www.scharnegoutum.nl
SUMMARY:Groenekerk "kleanruil"
DESCRIPTION:
URL:https://www.scharnegoutum.nl/agenda/groenekerk-kleanruil/
CATEGORIES:Midden Zaal
END:VEVENT
BEGIN:VEVENT
DTSTART;TZID=Europe/Amsterdam:20261003T160000
DTEND;TZID=Europe/Amsterdam:20261003T233000
DTSTAMP:20260420T084106
CREATED:20260228T130538Z
LAST-MODIFIED:20260228T130538Z
UID:10007635-1791043200-1791070200@www.scharnegoutum.nl
SUMMARY:Inloopcafé
DESCRIPTION:
URL:https://www.scharnegoutum.nl/agenda/inloopcafe/2026-10-03/
CATEGORIES:Bar
END:VEVENT
BEGIN:VEVENT
DTSTART;TZID=Europe/Amsterdam:20261005T190000
DTEND;TZID=Europe/Amsterdam:20261005T230000
DTSTAMP:20260420T084106
CREATED:20251219T130015Z
LAST-MODIFIED:20251219T130015Z
UID:10007069-1791226800-1791241200@www.scharnegoutum.nl
SUMMARY:Fanfare "Swettewyn"
DESCRIPTION:Gegevens:    \n\nWij zijn een Fanfare Korps ontstaan uit het\nsamengaan van Harmonie Sneek en Excelsior\nScharnegoutum. Voor meer informatie op deze\n site het kopje verenigingen/Swettewyn\nWat voor activiteit:       \nmaandagavond is de wekelijkse repetitie \navond.\n\nToegangskosten:     \n\nNVT\n\nKaartenverkoop :    \n\nNVT
URL:https://www.scharnegoutum.nl/agenda/fanfare-swettewyn-2/2026-10-05/
CATEGORIES:Grote Zaal
END:VEVENT
BEGIN:VEVENT
DTSTART;TZID=Europe/Amsterdam:20261007T193000
DTEND;TZID=Europe/Amsterdam:20261007T223000
DTSTAMP:20260420T084106
CREATED:20260327T195607Z
LAST-MODIFIED:20260327T195711Z
UID:10007669-1791401400-1791412200@www.scharnegoutum.nl
SUMMARY:De Keu Keninginnen
DESCRIPTION:Activiteit: 2-wekelijkse competitieavond\nKosten: contributie\nKaartenverkoop: N.V.T.\nBen je geïnterresseerd\, loop dan een keer binnen op één van onze speelavonden of stuur een mailtje.\nVoor meer informatie zie op deze site onder verenigingen/Keukoninginnen  of via facebook: ‘De Keu Keuninginnen Skearnegoutum’.
URL:https://www.scharnegoutum.nl/agenda/de-keu-keninginnen-4/2026-10-07/
CATEGORIES:Bar
END:VEVENT
BEGIN:VEVENT
DTSTART;TZID=Europe/Amsterdam:20261010T140000
DTEND;TZID=Europe/Amsterdam:20261010T190000
DTSTAMP:20260420T084106
CREATED:20260215T145511Z
LAST-MODIFIED:20260215T145511Z
UID:10007631-1791640800-1791658800@www.scharnegoutum.nl
SUMMARY:familie bijeenkomst
DESCRIPTION:
URL:https://www.scharnegoutum.nl/agenda/familie-bijeenkomst/
CATEGORIES:Grote Zaal
END:VEVENT
BEGIN:VEVENT
DTSTART;TZID=Europe/Amsterdam:20261011T130000
DTEND;TZID=Europe/Amsterdam:20261011T180000
DTSTAMP:20260420T084106
CREATED:20260327T192916Z
LAST-MODIFIED:20260327T192916Z
UID:10007663-1791723600-1791741600@www.scharnegoutum.nl
SUMMARY:Oefensessie Shantykoor
DESCRIPTION:
URL:https://www.scharnegoutum.nl/agenda/oefensessie-shantykoor/
CATEGORIES:Grote Zaal
END:VEVENT
BEGIN:VEVENT
DTSTART;TZID=Europe/Amsterdam:20261016T190000
DTEND;TZID=Europe/Amsterdam:20261016T230000
DTSTAMP:20260420T084106
CREATED:20260319T182833Z
LAST-MODIFIED:20260319T182833Z
UID:10007659-1792177200-1792191600@www.scharnegoutum.nl
SUMMARY:BC De Lakenkrakers toernooi
DESCRIPTION:
URL:https://www.scharnegoutum.nl/agenda/bc-de-lakenkrakers-toernooi/
CATEGORIES:Bar
END:VEVENT
BEGIN:VEVENT
DTSTART;TZID=Europe/Amsterdam:20261219T130000
DTEND;TZID=Europe/Amsterdam:20261219T210000
DTSTAMP:20260420T084106
CREATED:20251208T151319Z
LAST-MODIFIED:20251219T123732Z
UID:10007023-1797685200-1797714000@www.scharnegoutum.nl
SUMMARY:Kerstmiddag voor ouderen met broodmaaltijd
DESCRIPTION:“Voor de gemeenteleden 75+ van PKN Scharnegoutum-Loënga waarvoor zij een\npersoonlijke uitnodiging met een opgavestrookje ontvangen. De viering begint\nom 16.00 uur.”
URL:https://www.scharnegoutum.nl/agenda/kerstmiddag-voor-ouderen-met-broodmaaltijd/
CATEGORIES:Grote Zaal
END:VEVENT
BEGIN:VEVENT
DTSTART;TZID=Europe/Amsterdam:20261223T190000
DTEND;TZID=Europe/Amsterdam:20261223T230000
DTSTAMP:20260420T084106
CREATED:20260327T200738Z
LAST-MODIFIED:20260327T200738Z
UID:10007684-1798052400-1798066800@www.scharnegoutum.nl
SUMMARY:Jaarvergadering Brûskoppen
DESCRIPTION:
URL:https://www.scharnegoutum.nl/agenda/jaarvergadering-bruskoppen-2/
CATEGORIES:Grote Zaal
END:VEVENT
BEGIN:VEVENT
DTSTART;VALUE=DATE:20270107
DTEND;VALUE=DATE:20270110
DTSTAMP:20260420T084106
CREATED:20260329T105526Z
LAST-MODIFIED:20260329T105526Z
UID:10007688-1799280000-1799539199@www.scharnegoutum.nl
SUMMARY:Biljarttoernooi 2027
DESCRIPTION:
URL:https://www.scharnegoutum.nl/agenda/biljarttoernooi-2027/
CATEGORIES:Grote Zaal
END:VEVENT
BEGIN:VEVENT
DTSTART;TZID=Europe/Amsterdam:20270123T120000
DTEND;TZID=Europe/Amsterdam:20270123T230000
DTSTAMP:20260420T084106
CREATED:20250907T074321Z
LAST-MODIFIED:20260312T182440Z
UID:10006872-1800705600-1800745200@www.scharnegoutum.nl
SUMMARY:TC Teater
DESCRIPTION:
URL:https://www.scharnegoutum.nl/agenda/tc-teater-primaire/
LOCATION:Dorpshuis\, Legedyk 43\, Scharnegoutum\, Friesland\, 8629RL\, Nederland
CATEGORIES:Grote Zaal
END:VEVENT
BEGIN:VEVENT
DTSTART;VALUE=DATE:20270317
DTEND;VALUE=DATE:20270318
DTSTAMP:20260420T084106
CREATED:20260327T202259Z
LAST-MODIFIED:20260327T202259Z
UID:10007685-1805241600-1805327999@www.scharnegoutum.nl
SUMMARY:Provinciale Staten en Waterschapsverkiezingen
DESCRIPTION:
URL:https://www.scharnegoutum.nl/agenda/provinciale-staten-en-waterschapsverkiezingen-2/
CATEGORIES:Grote Zaal
END:VEVENT
END:VCALENDAR