BEGIN:VCALENDAR
VERSION:2.0
PRODID:-//Scharnegoutum | Skearnegoutum - ECPv6.15.20//NONSGML v1.0//EN
CALSCALE:GREGORIAN
METHOD:PUBLISH
X-ORIGINAL-URL:https://www.scharnegoutum.nl
X-WR-CALDESC:Evenementen voor Scharnegoutum | Skearnegoutum
REFRESH-INTERVAL;VALUE=DURATION:PT1H
X-Robots-Tag:noindex
X-PUBLISHED-TTL:PT1H
BEGIN:VTIMEZONE
TZID:Europe/Amsterdam
BEGIN:DAYLIGHT
TZOFFSETFROM:+0100
TZOFFSETTO:+0200
TZNAME:CEST
DTSTART:20240331T010000
END:DAYLIGHT
BEGIN:STANDARD
TZOFFSETFROM:+0200
TZOFFSETTO:+0100
TZNAME:CET
DTSTART:20241027T010000
END:STANDARD
BEGIN:DAYLIGHT
TZOFFSETFROM:+0100
TZOFFSETTO:+0200
TZNAME:CEST
DTSTART:20250330T010000
END:DAYLIGHT
BEGIN:STANDARD
TZOFFSETFROM:+0200
TZOFFSETTO:+0100
TZNAME:CET
DTSTART:20251026T010000
END:STANDARD
BEGIN:DAYLIGHT
TZOFFSETFROM:+0100
TZOFFSETTO:+0200
TZNAME:CEST
DTSTART:20260329T010000
END:DAYLIGHT
BEGIN:STANDARD
TZOFFSETFROM:+0200
TZOFFSETTO:+0100
TZNAME:CET
DTSTART:20261025T010000
END:STANDARD
END:VTIMEZONE
BEGIN:VEVENT
DTSTART;TZID=Europe/Amsterdam:20250607T100000
DTEND;TZID=Europe/Amsterdam:20250607T120000
DTSTAMP:20260423T001418
CREATED:20240530T180131Z
LAST-MODIFIED:20240530T180131Z
UID:10005542-1749290400-1749297600@www.scharnegoutum.nl
SUMMARY:Putsje café
DESCRIPTION:
URL:https://www.scharnegoutum.nl/agenda/putsje-cafe/2025-06-07/
LOCATION:Dorpshuis\, Legedyk 43\, Scharnegoutum\, Friesland\, 8629RL\, Nederland
CATEGORIES:Bar
END:VEVENT
BEGIN:VEVENT
DTSTART;TZID=Europe/Amsterdam:20250609T150000
DTEND;TZID=Europe/Amsterdam:20250609T190000
DTSTAMP:20260423T001418
CREATED:20230331T152659Z
LAST-MODIFIED:20230331T153101Z
UID:10004487-1749481200-1749495600@www.scharnegoutum.nl
SUMMARY:Stal Schukken
DESCRIPTION:
URL:https://www.scharnegoutum.nl/agenda/stal-schukken-3/2025-06-09/
LOCATION:Dorpshuis\, Legedyk 43\, Scharnegoutum\, Friesland\, 8629RL\, Nederland
CATEGORIES:Bar
END:VEVENT
BEGIN:VEVENT
DTSTART;TZID=Europe/Amsterdam:20250609T210000
DTEND;TZID=Europe/Amsterdam:20250609T210000
DTSTAMP:20260423T001418
CREATED:20211119T144027Z
LAST-MODIFIED:20211127T103141Z
UID:10004067-1749502800-1749502800@www.scharnegoutum.nl
SUMMARY:Stadige Strikers
DESCRIPTION:
URL:https://www.scharnegoutum.nl/agenda/dammen/2025-06-09/
LOCATION:Dorpshuis\, Legedyk 43\, Scharnegoutum\, Friesland\, 8629RL\, Nederland
CATEGORIES:Speelzaal
END:VEVENT
BEGIN:VEVENT
DTSTART;TZID=Europe/Amsterdam:20250610T103000
DTEND;TZID=Europe/Amsterdam:20250610T141500
DTSTAMP:20260423T001418
CREATED:20250331T180817Z
LAST-MODIFIED:20250413T070222Z
UID:10006071-1749551400-1749564900@www.scharnegoutum.nl
SUMMARY:CBS Op'e Hichte
DESCRIPTION:
URL:https://www.scharnegoutum.nl/agenda/musical-ope-hichte-2025-06-10-2025-06-12/2025-06-10/
LOCATION:Dorpshuis\, Legedyk 43\, Scharnegoutum\, Friesland\, 8629RL\, Nederland
CATEGORIES:Podium Zaal
END:VEVENT
BEGIN:VEVENT
DTSTART;TZID=Europe/Amsterdam:20250610T123000
DTEND;TZID=Europe/Amsterdam:20250610T141500
DTSTAMP:20260423T001418
CREATED:20250331T180817Z
LAST-MODIFIED:20250413T070242Z
UID:10006070-1749558600-1749564900@www.scharnegoutum.nl
SUMMARY:CBS Op'e Hichte
DESCRIPTION:
URL:https://www.scharnegoutum.nl/agenda/musical-ope-hichte-2025-06-10/
LOCATION:Dorpshuis\, Legedyk 43\, Scharnegoutum\, Friesland\, 8629RL\, Nederland
CATEGORIES:Podium Zaal
END:VEVENT
BEGIN:VEVENT
DTSTART;TZID=Europe/Amsterdam:20250611T190000
DTEND;TZID=Europe/Amsterdam:20250611T223000
DTSTAMP:20260423T001418
CREATED:20250211T174144Z
LAST-MODIFIED:20250211T174144Z
UID:10005060-1749668400-1749681000@www.scharnegoutum.nl
SUMMARY:Swettewyn
DESCRIPTION:
URL:https://www.scharnegoutum.nl/agenda/swettewyn-7/
LOCATION:Dorpshuis\, Legedyk 43\, Scharnegoutum\, Friesland\, 8629RL\, Nederland
CATEGORIES:Speelzaal
END:VEVENT
BEGIN:VEVENT
DTSTART;TZID=Europe/Amsterdam:20250611T193000
DTEND;TZID=Europe/Amsterdam:20250611T220000
DTSTAMP:20260423T001418
CREATED:20250527T171336Z
LAST-MODIFIED:20250527T171436Z
UID:10005148-1749670200-1749679200@www.scharnegoutum.nl
SUMMARY:Bestuur Dorpsbelang
DESCRIPTION:
URL:https://www.scharnegoutum.nl/agenda/bestuur-dorpsbelang-2/
LOCATION:Dorpshuis\, Legedyk 43\, Scharnegoutum\, Friesland\, 8629RL\, Nederland
CATEGORIES:Podium Zaal
END:VEVENT
BEGIN:VEVENT
DTSTART;TZID=Europe/Amsterdam:20250613T123000
DTEND;TZID=Europe/Amsterdam:20250613T141500
DTSTAMP:20260423T001418
CREATED:20250331T184813Z
LAST-MODIFIED:20250331T185506Z
UID:10005107-1749817800-1749824100@www.scharnegoutum.nl
SUMMARY:CBS Op'e Hichte
DESCRIPTION:
URL:https://www.scharnegoutum.nl/agenda/cbs-ope-hichte-26/2025-06-13/
LOCATION:Dorpshuis\, Legedyk 43\, Scharnegoutum\, Friesland\, 8629RL\, Nederland
CATEGORIES:Podium Zaal
END:VEVENT
BEGIN:VEVENT
DTSTART;TZID=Europe/Amsterdam:20250616T123000
DTEND;TZID=Europe/Amsterdam:20250616T141500
DTSTAMP:20260423T001418
CREATED:20250331T184813Z
LAST-MODIFIED:20250615T105636Z
UID:10005112-1750077000-1750083300@www.scharnegoutum.nl
SUMMARY:CBS Op'e Hichte
DESCRIPTION:
URL:https://www.scharnegoutum.nl/agenda/cbs-ope-hichte-26-2025-06-16/
LOCATION:Dorpshuis\, Legedyk 43\, Scharnegoutum\, Friesland\, 8629RL\, Nederland
CATEGORIES:Podium Zaal
END:VEVENT
BEGIN:VEVENT
DTSTART;TZID=Europe/Amsterdam:20250616T150000
DTEND;TZID=Europe/Amsterdam:20250616T190000
DTSTAMP:20260423T001418
CREATED:20230331T152659Z
LAST-MODIFIED:20230331T153101Z
UID:10004488-1750086000-1750100400@www.scharnegoutum.nl
SUMMARY:Stal Schukken
DESCRIPTION:
URL:https://www.scharnegoutum.nl/agenda/stal-schukken-3/2025-06-16/
LOCATION:Dorpshuis\, Legedyk 43\, Scharnegoutum\, Friesland\, 8629RL\, Nederland
CATEGORIES:Bar
END:VEVENT
BEGIN:VEVENT
DTSTART;TZID=Europe/Amsterdam:20250616T210000
DTEND;TZID=Europe/Amsterdam:20250616T210000
DTSTAMP:20260423T001418
CREATED:20211119T144027Z
LAST-MODIFIED:20211127T103141Z
UID:10004068-1750107600-1750107600@www.scharnegoutum.nl
SUMMARY:Stadige Strikers
DESCRIPTION:
URL:https://www.scharnegoutum.nl/agenda/dammen/2025-06-16/
LOCATION:Dorpshuis\, Legedyk 43\, Scharnegoutum\, Friesland\, 8629RL\, Nederland
CATEGORIES:Speelzaal
END:VEVENT
BEGIN:VEVENT
DTSTART;TZID=Europe/Amsterdam:20250617T093000
DTEND;TZID=Europe/Amsterdam:20250617T103000
DTSTAMP:20260423T001418
CREATED:20250323T203211Z
LAST-MODIFIED:20250323T203211Z
UID:10005967-1750152600-1750156200@www.scharnegoutum.nl
SUMMARY:Yin Yoga
DESCRIPTION:
URL:https://www.scharnegoutum.nl/agenda/yin-yoga-14/
LOCATION:Dorpshuis\, Legedyk 43\, Scharnegoutum\, Friesland\, 8629RL\, Nederland
CATEGORIES:Midden Zaal
END:VEVENT
BEGIN:VEVENT
DTSTART;TZID=Europe/Amsterdam:20250618T140000
DTEND;TZID=Europe/Amsterdam:20250618T180000
DTSTAMP:20260423T001418
CREATED:20250615T105837Z
LAST-MODIFIED:20250615T105837Z
UID:10005151-1750255200-1750269600@www.scharnegoutum.nl
SUMMARY:Uitvaartbijeenkomst
DESCRIPTION:
URL:https://www.scharnegoutum.nl/agenda/uitvaartbijeenkomst-21/
LOCATION:Dorpshuis\, Legedyk 43\, Scharnegoutum\, Friesland\, 8629RL\, Nederland
CATEGORIES:Grote Zaal
END:VEVENT
BEGIN:VEVENT
DTSTART;TZID=Europe/Amsterdam:20250619T103000
DTEND;TZID=Europe/Amsterdam:20250619T141500
DTSTAMP:20260423T001418
CREATED:20250331T184813Z
LAST-MODIFIED:20250615T105558Z
UID:10005114-1750329000-1750342500@www.scharnegoutum.nl
SUMMARY:CBS Op'e Hichte (decor opbouwen)
DESCRIPTION:
URL:https://www.scharnegoutum.nl/agenda/cbs-ope-hichte-26-2025-06-19/
LOCATION:Dorpshuis\, Legedyk 43\, Scharnegoutum\, Friesland\, 8629RL\, Nederland
CATEGORIES:Podium Zaal
END:VEVENT
BEGIN:VEVENT
DTSTART;TZID=Europe/Amsterdam:20250619T153000
DTEND;TZID=Europe/Amsterdam:20250619T183000
DTSTAMP:20260423T001418
CREATED:20240530T182539Z
LAST-MODIFIED:20250331T181017Z
UID:10005691-1750347000-1750357800@www.scharnegoutum.nl
SUMMARY:muziekles
DESCRIPTION:
URL:https://www.scharnegoutum.nl/agenda/muziekles-16-2025-06-19/
LOCATION:Dorpshuis\, Legedyk 43\, Scharnegoutum\, Friesland\, 8629RL\, Nederland
CATEGORIES:Midden Zaal
END:VEVENT
BEGIN:VEVENT
DTSTART;TZID=Europe/Amsterdam:20250620T123000
DTEND;TZID=Europe/Amsterdam:20250620T141500
DTSTAMP:20260423T001418
CREATED:20250331T185836Z
LAST-MODIFIED:20250331T185922Z
UID:10005118-1750422600-1750428900@www.scharnegoutum.nl
SUMMARY:CBS Op'e Hichte
DESCRIPTION:
URL:https://www.scharnegoutum.nl/agenda/cbs-ope-hichte-27/
LOCATION:Dorpshuis\, Legedyk 43\, Scharnegoutum\, Friesland\, 8629RL\, Nederland
CATEGORIES:Podium Zaal
END:VEVENT
BEGIN:VEVENT
DTSTART;TZID=Europe/Amsterdam:20250621T093000
DTEND;TZID=Europe/Amsterdam:20250621T120000
DTSTAMP:20260423T001418
CREATED:20250430T162217Z
LAST-MODIFIED:20250615T105945Z
UID:10006079-1750498200-1750507200@www.scharnegoutum.nl
SUMMARY:ZomerkoorJan Brens
DESCRIPTION:
URL:https://www.scharnegoutum.nl/agenda/zomerorkest-jan-brens/
LOCATION:Dorpshuis\, Legedyk 43\, Scharnegoutum\, Friesland\, 8629RL\, Nederland
CATEGORIES:Midden Zaal
END:VEVENT
BEGIN:VEVENT
DTSTART;TZID=Europe/Amsterdam:20250623T103000
DTEND;TZID=Europe/Amsterdam:20250623T141500
DTSTAMP:20260423T001418
CREATED:20250331T180817Z
LAST-MODIFIED:20250615T105708Z
UID:10005105-1750674600-1750688100@www.scharnegoutum.nl
SUMMARY:CBS Op'e Hichte (schotten en podium delen)
DESCRIPTION:
URL:https://www.scharnegoutum.nl/agenda/musical-ope-hichte-2025-06-10-2025-06-23/
LOCATION:Dorpshuis\, Legedyk 43\, Scharnegoutum\, Friesland\, 8629RL\, Nederland
CATEGORIES:Podium Zaal
END:VEVENT
BEGIN:VEVENT
DTSTART;TZID=Europe/Amsterdam:20250623T150000
DTEND;TZID=Europe/Amsterdam:20250623T190000
DTSTAMP:20260423T001418
CREATED:20230331T152659Z
LAST-MODIFIED:20230331T153101Z
UID:10004489-1750690800-1750705200@www.scharnegoutum.nl
SUMMARY:Stal Schukken
DESCRIPTION:
URL:https://www.scharnegoutum.nl/agenda/stal-schukken-3/2025-06-23/
LOCATION:Dorpshuis\, Legedyk 43\, Scharnegoutum\, Friesland\, 8629RL\, Nederland
CATEGORIES:Bar
END:VEVENT
BEGIN:VEVENT
DTSTART;TZID=Europe/Amsterdam:20250623T210000
DTEND;TZID=Europe/Amsterdam:20250623T210000
DTSTAMP:20260423T001418
CREATED:20211119T144027Z
LAST-MODIFIED:20211127T103141Z
UID:10004069-1750712400-1750712400@www.scharnegoutum.nl
SUMMARY:Stadige Strikers
DESCRIPTION:
URL:https://www.scharnegoutum.nl/agenda/dammen/2025-06-23/
LOCATION:Dorpshuis\, Legedyk 43\, Scharnegoutum\, Friesland\, 8629RL\, Nederland
CATEGORIES:Speelzaal
END:VEVENT
BEGIN:VEVENT
DTSTART;TZID=Europe/Amsterdam:20250626T153000
DTEND;TZID=Europe/Amsterdam:20250626T183000
DTSTAMP:20260423T001418
CREATED:20240530T182539Z
LAST-MODIFIED:20250331T181317Z
UID:10005692-1750951800-1750962600@www.scharnegoutum.nl
SUMMARY:muziekles
DESCRIPTION:
URL:https://www.scharnegoutum.nl/agenda/muziekles-16-2024-09-12-2025-06-26/
LOCATION:Dorpshuis\, Legedyk 43\, Scharnegoutum\, Friesland\, 8629RL\, Nederland
CATEGORIES:Midden Zaal
END:VEVENT
BEGIN:VEVENT
DTSTART;TZID=Europe/Amsterdam:20250630T150000
DTEND;TZID=Europe/Amsterdam:20250630T190000
DTSTAMP:20260423T001418
CREATED:20230331T152659Z
LAST-MODIFIED:20230331T153101Z
UID:10004490-1751295600-1751310000@www.scharnegoutum.nl
SUMMARY:Stal Schukken
DESCRIPTION:
URL:https://www.scharnegoutum.nl/agenda/stal-schukken-3/2025-06-30/
LOCATION:Dorpshuis\, Legedyk 43\, Scharnegoutum\, Friesland\, 8629RL\, Nederland
CATEGORIES:Bar
END:VEVENT
BEGIN:VEVENT
DTSTART;TZID=Europe/Amsterdam:20250630T210000
DTEND;TZID=Europe/Amsterdam:20250630T210000
DTSTAMP:20260423T001418
CREATED:20211119T144027Z
LAST-MODIFIED:20211127T103141Z
UID:10004070-1751317200-1751317200@www.scharnegoutum.nl
SUMMARY:Stadige Strikers
DESCRIPTION:
URL:https://www.scharnegoutum.nl/agenda/dammen/2025-06-30/
LOCATION:Dorpshuis\, Legedyk 43\, Scharnegoutum\, Friesland\, 8629RL\, Nederland
CATEGORIES:Speelzaal
END:VEVENT
BEGIN:VEVENT
DTSTART;TZID=Europe/Amsterdam:20250702T190000
DTEND;TZID=Europe/Amsterdam:20250702T200000
DTSTAMP:20260423T001418
CREATED:20250513T200052Z
LAST-MODIFIED:20250513T200052Z
UID:10006092-1751482800-1751486400@www.scharnegoutum.nl
SUMMARY:overleg Oranjevereniging & dorpshuis
DESCRIPTION:
URL:https://www.scharnegoutum.nl/agenda/overleg-oranjevereniging-dorpshuis/
LOCATION:Dorpshuis\, Legedyk 43\, Scharnegoutum\, Friesland\, 8629RL\, Nederland
CATEGORIES:Bar
END:VEVENT
BEGIN:VEVENT
DTSTART;TZID=Europe/Amsterdam:20250703T123000
DTEND;TZID=Europe/Amsterdam:20250703T141500
DTSTAMP:20260423T001418
CREATED:20250331T182809Z
LAST-MODIFIED:20250331T182809Z
UID:10006069-1751545800-1751552100@www.scharnegoutum.nl
SUMMARY:CBS Op'e Hichte
DESCRIPTION:
URL:https://www.scharnegoutum.nl/agenda/cbs-ope-hichte-25/
LOCATION:Dorpshuis\, Legedyk 43\, Scharnegoutum\, Friesland\, 8629RL\, Nederland
CATEGORIES:Podium Zaal
END:VEVENT
BEGIN:VEVENT
DTSTART;TZID=Europe/Amsterdam:20250703T153000
DTEND;TZID=Europe/Amsterdam:20250703T183000
DTSTAMP:20260423T001418
CREATED:20240530T182539Z
LAST-MODIFIED:20250331T181416Z
UID:10004797-1751556600-1751567400@www.scharnegoutum.nl
SUMMARY:muziekles
DESCRIPTION:
URL:https://www.scharnegoutum.nl/agenda/muziekles-16-2024-09-12-2025-07-03/
LOCATION:Dorpshuis\, Legedyk 43\, Scharnegoutum\, Friesland\, 8629RL\, Nederland
CATEGORIES:Midden Zaal
END:VEVENT
BEGIN:VEVENT
DTSTART;VALUE=DATE:20250708
DTEND;VALUE=DATE:20250709
DTSTAMP:20260423T001418
CREATED:20250331T190253Z
LAST-MODIFIED:20250331T190253Z
UID:10005120-1751932800-1752019199@www.scharnegoutum.nl
SUMMARY:Musical Groep 8 Op'e Hichte
DESCRIPTION:
URL:https://www.scharnegoutum.nl/agenda/musical-groep-8-ope-hichte-2/
LOCATION:Dorpshuis\, Legedyk 43\, Scharnegoutum\, Friesland\, 8629RL\, Nederland
CATEGORIES:Grote Zaal
END:VEVENT
BEGIN:VEVENT
DTSTART;TZID=Europe/Amsterdam:20250710T153000
DTEND;TZID=Europe/Amsterdam:20250710T183000
DTSTAMP:20260423T001418
CREATED:20240530T182539Z
LAST-MODIFIED:20250331T181650Z
UID:10004799-1752161400-1752172200@www.scharnegoutum.nl
SUMMARY:muziekles
DESCRIPTION:
URL:https://www.scharnegoutum.nl/agenda/muziekles-16-2024-09-12-2025-07-10/
LOCATION:Dorpshuis\, Legedyk 43\, Scharnegoutum\, Friesland\, 8629RL\, Nederland
CATEGORIES:Midden Zaal
END:VEVENT
BEGIN:VEVENT
DTSTART;TZID=Europe/Amsterdam:20250825T190000
DTEND;TZID=Europe/Amsterdam:20250825T223000
DTSTAMP:20260423T001418
CREATED:20250804T061544Z
LAST-MODIFIED:20250907T073146Z
UID:10006105-1756148400-1756161000@www.scharnegoutum.nl
SUMMARY:Fanfare "Swettewyn"
DESCRIPTION:Gegevens:    \n\nWij zijn een Fanfare Korps ontstaan uit het\nsamengaan van Harmonie Sneek en Excelsior\nScharnegoutum. Voor meer informatie op deze\n site het kopje verenigingen/Swettewyn\nWat voor activiteit:       \nmaandagavond is de wekelijkse repetitie \navond.\n\nToegangskosten:     \n\nNVT\n\nKaartenverkoop :    \n\nNVT
URL:https://www.scharnegoutum.nl/agenda/swettewyn-10/2025-08-25/
LOCATION:Dorpshuis\, Legedyk 43\, Scharnegoutum\, Friesland\, 8629RL\, Nederland
CATEGORIES:Grote Zaal
END:VEVENT
BEGIN:VEVENT
DTSTART;TZID=Europe/Amsterdam:20250826T093000
DTEND;TZID=Europe/Amsterdam:20250826T103000
DTSTAMP:20260423T001418
CREATED:20250816T185908Z
LAST-MODIFIED:20250818T190739Z
UID:10006513-1756200600-1756204200@www.scharnegoutum.nl
SUMMARY:Yin Yoga
DESCRIPTION:  \nBeste deelnemers aan de yoga en stoelyogalessen in Scharnegoutum. De vakanties zijn bijna voorbij en hopelijk hebben jullie een heerlijke zomer (die nog niet voorbij is). \nVoor de yin yoga zijn nog een paar matjes vrij. Heb je interesse? Dan kun je op dinsdag 26/8 meedoen met de proefles. Deze start om 09.30 en duurt 1 uur. \nVoor de stoelfit lessen (yoga\, ademhaling\, dans en beweging op en rond de stoel) zijn voor komend seizoen ook nog enkele stoelen vrij! \nDe proefles is op dinsdag 26/8\, om 10.45 en de les duurt een uur. \nLesblok 3 start dinsdag 2 september a.s.\ndit zijn 12 lessen van een uur per keer en zijn tot half december. \nVoor meer informatie mag je een mail sturen naar leeuwinnenkracht@gmail.com \nDe lessen worden gegeven door Carla van der Veen\, gecertificeerd yin yoga- en stoelyoga docent .
URL:https://www.scharnegoutum.nl/agenda/yin-yoga-15-3/
LOCATION:Dorpshuis\, Legedyk 43\, Scharnegoutum\, Friesland\, 8629RL\, Nederland
CATEGORIES:Midden Zaal
END:VEVENT
END:VCALENDAR