BEGIN:VCALENDAR
VERSION:2.0
PRODID:-//Scharnegoutum | Skearnegoutum - ECPv6.15.20//NONSGML v1.0//EN
CALSCALE:GREGORIAN
METHOD:PUBLISH
X-ORIGINAL-URL:https://www.scharnegoutum.nl
X-WR-CALDESC:Evenementen voor Scharnegoutum | Skearnegoutum
REFRESH-INTERVAL;VALUE=DURATION:PT1H
X-Robots-Tag:noindex
X-PUBLISHED-TTL:PT1H
BEGIN:VTIMEZONE
TZID:Europe/Amsterdam
BEGIN:DAYLIGHT
TZOFFSETFROM:+0100
TZOFFSETTO:+0200
TZNAME:CEST
DTSTART:20240331T010000
END:DAYLIGHT
BEGIN:STANDARD
TZOFFSETFROM:+0200
TZOFFSETTO:+0100
TZNAME:CET
DTSTART:20241027T010000
END:STANDARD
BEGIN:DAYLIGHT
TZOFFSETFROM:+0100
TZOFFSETTO:+0200
TZNAME:CEST
DTSTART:20250330T010000
END:DAYLIGHT
BEGIN:STANDARD
TZOFFSETFROM:+0200
TZOFFSETTO:+0100
TZNAME:CET
DTSTART:20251026T010000
END:STANDARD
BEGIN:DAYLIGHT
TZOFFSETFROM:+0100
TZOFFSETTO:+0200
TZNAME:CEST
DTSTART:20260329T010000
END:DAYLIGHT
BEGIN:STANDARD
TZOFFSETFROM:+0200
TZOFFSETTO:+0100
TZNAME:CET
DTSTART:20261025T010000
END:STANDARD
END:VTIMEZONE
BEGIN:VEVENT
DTSTART;TZID=Europe/Amsterdam:20250509T123000
DTEND;TZID=Europe/Amsterdam:20250509T141500
DTSTAMP:20260422T030821
CREATED:20250331T182254Z
LAST-MODIFIED:20250331T182254Z
UID:10006051-1746793800-1746800100@www.scharnegoutum.nl
SUMMARY:CBS Op'e Hichte
DESCRIPTION:
URL:https://www.scharnegoutum.nl/agenda/cbs-ope-hichte-23/2025-05-09/
LOCATION:Dorpshuis\, Legedyk 43\, Scharnegoutum\, Friesland\, 8629RL\, Nederland
CATEGORIES:Podium Zaal
END:VEVENT
BEGIN:VEVENT
DTSTART;TZID=Europe/Amsterdam:20250512T150000
DTEND;TZID=Europe/Amsterdam:20250512T190000
DTSTAMP:20260422T030821
CREATED:20230331T152659Z
LAST-MODIFIED:20230331T153101Z
UID:10004483-1747062000-1747076400@www.scharnegoutum.nl
SUMMARY:Stal Schukken
DESCRIPTION:
URL:https://www.scharnegoutum.nl/agenda/stal-schukken-3/2025-05-12/
LOCATION:Dorpshuis\, Legedyk 43\, Scharnegoutum\, Friesland\, 8629RL\, Nederland
CATEGORIES:Bar
END:VEVENT
BEGIN:VEVENT
DTSTART;TZID=Europe/Amsterdam:20250512T153000
DTEND;TZID=Europe/Amsterdam:20250512T173000
DTSTAMP:20260422T030822
CREATED:20250225T175821Z
LAST-MODIFIED:20250225T175821Z
UID:10005086-1747063800-1747071000@www.scharnegoutum.nl
SUMMARY:Fysio Wymbrits "valpreventie"
DESCRIPTION:
URL:https://www.scharnegoutum.nl/agenda/fysio-wymbrits-valpreventie-2/2025-05-12/
LOCATION:Dorpshuis\, Legedyk 43\, Scharnegoutum\, Friesland\, 8629RL\, Nederland
CATEGORIES:Midden Zaal
END:VEVENT
BEGIN:VEVENT
DTSTART;TZID=Europe/Amsterdam:20250512T190000
DTEND;TZID=Europe/Amsterdam:20250512T223000
DTSTAMP:20260422T030822
CREATED:20241226T165317Z
LAST-MODIFIED:20241226T165317Z
UID:10005860-1747076400-1747089000@www.scharnegoutum.nl
SUMMARY:Swettewyn
DESCRIPTION:
URL:https://www.scharnegoutum.nl/agenda/swettewyn-6/2025-05-12/
LOCATION:Dorpshuis\, Legedyk 43\, Scharnegoutum\, Friesland\, 8629RL\, Nederland
CATEGORIES:Grote Zaal
END:VEVENT
BEGIN:VEVENT
DTSTART;TZID=Europe/Amsterdam:20250512T210000
DTEND;TZID=Europe/Amsterdam:20250512T210000
DTSTAMP:20260422T030822
CREATED:20211119T144027Z
LAST-MODIFIED:20211127T103141Z
UID:10004063-1747083600-1747083600@www.scharnegoutum.nl
SUMMARY:Stadige Strikers
DESCRIPTION:
URL:https://www.scharnegoutum.nl/agenda/dammen/2025-05-12/
LOCATION:Dorpshuis\, Legedyk 43\, Scharnegoutum\, Friesland\, 8629RL\, Nederland
CATEGORIES:Speelzaal
END:VEVENT
BEGIN:VEVENT
DTSTART;TZID=Europe/Amsterdam:20250513T093000
DTEND;TZID=Europe/Amsterdam:20250513T103000
DTSTAMP:20260422T030822
CREATED:20250323T203037Z
LAST-MODIFIED:20250323T203037Z
UID:10005960-1747128600-1747132200@www.scharnegoutum.nl
SUMMARY:Yin Yoga
DESCRIPTION:
URL:https://www.scharnegoutum.nl/agenda/yin-yoga-13/2025-05-13/
LOCATION:Dorpshuis\, Legedyk 43\, Scharnegoutum\, Friesland\, 8629RL\, Nederland
CATEGORIES:Midden Zaal
END:VEVENT
BEGIN:VEVENT
DTSTART;TZID=Europe/Amsterdam:20250513T093000
DTEND;TZID=Europe/Amsterdam:20250513T103000
DTSTAMP:20260422T030822
CREATED:20250705T130339Z
LAST-MODIFIED:20250705T130339Z
UID:10005971-1747128600-1747132200@www.scharnegoutum.nl
SUMMARY:Yin Yoga
DESCRIPTION:
URL:https://www.scharnegoutum.nl/agenda/yin-yoga-13/2025-05-13/
LOCATION:Dorpshuis\, Legedyk 43\, Scharnegoutum\, Friesland\, 8629RL\, Nederland
CATEGORIES:Midden Zaal
END:VEVENT
BEGIN:VEVENT
DTSTART;TZID=Europe/Amsterdam:20250513T093000
DTEND;TZID=Europe/Amsterdam:20250513T103000
DTSTAMP:20260422T030822
CREATED:20250705T130340Z
LAST-MODIFIED:20250705T130340Z
UID:10005978-1747128600-1747132200@www.scharnegoutum.nl
SUMMARY:Yin Yoga
DESCRIPTION:
URL:https://www.scharnegoutum.nl/agenda/yin-yoga-13/2025-05-13/
LOCATION:Dorpshuis\, Legedyk 43\, Scharnegoutum\, Friesland\, 8629RL\, Nederland
CATEGORIES:Midden Zaal
END:VEVENT
BEGIN:VEVENT
DTSTART;TZID=Europe/Amsterdam:20250513T093000
DTEND;TZID=Europe/Amsterdam:20250513T103000
DTSTAMP:20260422T030822
CREATED:20250705T130341Z
LAST-MODIFIED:20250705T130341Z
UID:10005994-1747128600-1747132200@www.scharnegoutum.nl
SUMMARY:Yin Yoga
DESCRIPTION:
URL:https://www.scharnegoutum.nl/agenda/yin-yoga-13/2025-05-13/
LOCATION:Dorpshuis\, Legedyk 43\, Scharnegoutum\, Friesland\, 8629RL\, Nederland
CATEGORIES:Midden Zaal
END:VEVENT
BEGIN:VEVENT
DTSTART;TZID=Europe/Amsterdam:20250513T093000
DTEND;TZID=Europe/Amsterdam:20250513T103000
DTSTAMP:20260422T030822
CREATED:20250705T130342Z
LAST-MODIFIED:20250705T130342Z
UID:10006019-1747128600-1747132200@www.scharnegoutum.nl
SUMMARY:Yin Yoga
DESCRIPTION:
URL:https://www.scharnegoutum.nl/agenda/yin-yoga-13/2025-05-13/
LOCATION:Dorpshuis\, Legedyk 43\, Scharnegoutum\, Friesland\, 8629RL\, Nederland
CATEGORIES:Midden Zaal
END:VEVENT
BEGIN:VEVENT
DTSTART;TZID=Europe/Amsterdam:20250513T093000
DTEND;TZID=Europe/Amsterdam:20250513T103000
DTSTAMP:20260422T030822
CREATED:20250705T130342Z
LAST-MODIFIED:20250705T130342Z
UID:10006007-1747128600-1747132200@www.scharnegoutum.nl
SUMMARY:Yin Yoga
DESCRIPTION:
URL:https://www.scharnegoutum.nl/agenda/yin-yoga-13/2025-05-13/
LOCATION:Dorpshuis\, Legedyk 43\, Scharnegoutum\, Friesland\, 8629RL\, Nederland
CATEGORIES:Midden Zaal
END:VEVENT
BEGIN:VEVENT
DTSTART;TZID=Europe/Amsterdam:20250513T104500
DTEND;TZID=Europe/Amsterdam:20250513T114500
DTSTAMP:20260422T030822
CREATED:20250323T203526Z
LAST-MODIFIED:20250323T203526Z
UID:10005986-1747133100-1747136700@www.scharnegoutum.nl
SUMMARY:Stoelfit voor ouderen
DESCRIPTION:
URL:https://www.scharnegoutum.nl/agenda/stoelfit-voor-ouderen-12/2025-05-13/
LOCATION:Dorpshuis\, Legedyk 43\, Scharnegoutum\, Friesland\, 8629RL\, Nederland
CATEGORIES:Midden Zaal
END:VEVENT
BEGIN:VEVENT
DTSTART;TZID=Europe/Amsterdam:20250513T104500
DTEND;TZID=Europe/Amsterdam:20250513T114500
DTSTAMP:20260422T030822
CREATED:20250705T130341Z
LAST-MODIFIED:20250705T130341Z
UID:10006000-1747133100-1747136700@www.scharnegoutum.nl
SUMMARY:Stoelfit voor ouderen
DESCRIPTION:
URL:https://www.scharnegoutum.nl/agenda/stoelfit-voor-ouderen-12/2025-05-13/
LOCATION:Dorpshuis\, Legedyk 43\, Scharnegoutum\, Friesland\, 8629RL\, Nederland
CATEGORIES:Midden Zaal
END:VEVENT
BEGIN:VEVENT
DTSTART;TZID=Europe/Amsterdam:20250513T104500
DTEND;TZID=Europe/Amsterdam:20250513T114500
DTSTAMP:20260422T030822
CREATED:20250705T130342Z
LAST-MODIFIED:20250705T130342Z
UID:10006012-1747133100-1747136700@www.scharnegoutum.nl
SUMMARY:Stoelfit voor ouderen
DESCRIPTION:
URL:https://www.scharnegoutum.nl/agenda/stoelfit-voor-ouderen-12/2025-05-13/
LOCATION:Dorpshuis\, Legedyk 43\, Scharnegoutum\, Friesland\, 8629RL\, Nederland
CATEGORIES:Midden Zaal
END:VEVENT
BEGIN:VEVENT
DTSTART;TZID=Europe/Amsterdam:20250513T104500
DTEND;TZID=Europe/Amsterdam:20250513T114500
DTSTAMP:20260422T030822
CREATED:20250705T130343Z
LAST-MODIFIED:20250705T130343Z
UID:10006023-1747133100-1747136700@www.scharnegoutum.nl
SUMMARY:Stoelfit voor ouderen
DESCRIPTION:
URL:https://www.scharnegoutum.nl/agenda/stoelfit-voor-ouderen-12/2025-05-13/
LOCATION:Dorpshuis\, Legedyk 43\, Scharnegoutum\, Friesland\, 8629RL\, Nederland
CATEGORIES:Midden Zaal
END:VEVENT
BEGIN:VEVENT
DTSTART;TZID=Europe/Amsterdam:20250513T104500
DTEND;TZID=Europe/Amsterdam:20250513T114500
DTSTAMP:20260422T030822
CREATED:20250705T130344Z
LAST-MODIFIED:20250705T130344Z
UID:10006032-1747133100-1747136700@www.scharnegoutum.nl
SUMMARY:Stoelfit voor ouderen
DESCRIPTION:
URL:https://www.scharnegoutum.nl/agenda/stoelfit-voor-ouderen-12/2025-05-13/
LOCATION:Dorpshuis\, Legedyk 43\, Scharnegoutum\, Friesland\, 8629RL\, Nederland
CATEGORIES:Midden Zaal
END:VEVENT
BEGIN:VEVENT
DTSTART;TZID=Europe/Amsterdam:20250513T104500
DTEND;TZID=Europe/Amsterdam:20250513T114500
DTSTAMP:20260422T030822
CREATED:20250705T130344Z
LAST-MODIFIED:20250705T130344Z
UID:10006039-1747133100-1747136700@www.scharnegoutum.nl
SUMMARY:Stoelfit voor ouderen
DESCRIPTION:
URL:https://www.scharnegoutum.nl/agenda/stoelfit-voor-ouderen-12/2025-05-13/
LOCATION:Dorpshuis\, Legedyk 43\, Scharnegoutum\, Friesland\, 8629RL\, Nederland
CATEGORIES:Midden Zaal
END:VEVENT
BEGIN:VEVENT
DTSTART;TZID=Europe/Amsterdam:20250514T090000
DTEND;TZID=Europe/Amsterdam:20250514T093000
DTSTAMP:20260422T030822
CREATED:20240530T180737Z
LAST-MODIFIED:20240530T181030Z
UID:10005580-1747213200-1747215000@www.scharnegoutum.nl
SUMMARY:bloedprikken
DESCRIPTION:
URL:https://www.scharnegoutum.nl/agenda/bloedprikken-5/2025-05-14/
LOCATION:Dorpshuis\, Legedyk 43\, Scharnegoutum\, Friesland\, 8629RL\, Nederland
CATEGORIES:Grote Zaal
END:VEVENT
BEGIN:VEVENT
DTSTART;TZID=Europe/Amsterdam:20250514T090000
DTEND;TZID=Europe/Amsterdam:20250514T093000
DTSTAMP:20260422T030822
CREATED:20240530T181238Z
LAST-MODIFIED:20240530T181410Z
UID:10005622-1747213200-1747215000@www.scharnegoutum.nl
SUMMARY:bloedprikken
DESCRIPTION:
URL:https://www.scharnegoutum.nl/agenda/bloedprikken-6/2025-05-14/
LOCATION:Dorpshuis\, Legedyk 43\, Scharnegoutum\, Friesland\, 8629RL\, Nederland
CATEGORIES:Grote Zaal
END:VEVENT
BEGIN:VEVENT
DTSTART;TZID=Europe/Amsterdam:20250514T190000
DTEND;TZID=Europe/Amsterdam:20250514T233000
DTSTAMP:20260422T030822
CREATED:20241117T141123Z
LAST-MODIFIED:20241124T160735Z
UID:10004998-1747249200-1747265400@www.scharnegoutum.nl
SUMMARY:shantykoor Brûskoppen
DESCRIPTION:
URL:https://www.scharnegoutum.nl/agenda/shantykoor-bruskoppen-14-2025-01-22/2025-05-14/
LOCATION:Dorpshuis\, Legedyk 43\, Scharnegoutum\, Friesland\, 8629RL\, Nederland
CATEGORIES:Grote Zaal
END:VEVENT
BEGIN:VEVENT
DTSTART;TZID=Europe/Amsterdam:20250515T141500
DTEND;TZID=Europe/Amsterdam:20250515T161500
DTSTAMP:20260422T030822
CREATED:20250416T180934Z
LAST-MODIFIED:20250416T180934Z
UID:10006076-1747318500-1747325700@www.scharnegoutum.nl
SUMMARY:Fysio Wymbrits "val preventie"
DESCRIPTION:
URL:https://www.scharnegoutum.nl/agenda/fysio-wymbrits-val-preventie/
LOCATION:Dorpshuis\, Legedyk 43\, Scharnegoutum\, Friesland\, 8629RL\, Nederland
CATEGORIES:Midden Zaal
END:VEVENT
BEGIN:VEVENT
DTSTART;TZID=Europe/Amsterdam:20250515T153000
DTEND;TZID=Europe/Amsterdam:20250515T183000
DTSTAMP:20260422T030822
CREATED:20240530T182539Z
LAST-MODIFIED:20250331T181219Z
UID:10005684-1747323000-1747333800@www.scharnegoutum.nl
SUMMARY:muziekles
DESCRIPTION:
URL:https://www.scharnegoutum.nl/agenda/muziekles-16-2024-09-12/2025-05-15/
LOCATION:Dorpshuis\, Legedyk 43\, Scharnegoutum\, Friesland\, 8629RL\, Nederland
CATEGORIES:Podium Zaal
END:VEVENT
BEGIN:VEVENT
DTSTART;TZID=Europe/Amsterdam:20250515T190000
DTEND;TZID=Europe/Amsterdam:20250515T220000
DTSTAMP:20260422T030822
CREATED:20250507T182017Z
LAST-MODIFIED:20250507T182017Z
UID:10006090-1747335600-1747346400@www.scharnegoutum.nl
SUMMARY:Vergadering activiteitencommissie dorpshuis
DESCRIPTION:
URL:https://www.scharnegoutum.nl/agenda/vergadering-activiteitencommissie-dorpshuis-2/
LOCATION:Dorpshuis\, Legedyk 43\, Scharnegoutum\, Friesland\, 8629RL\, Nederland
CATEGORIES:Bar
END:VEVENT
BEGIN:VEVENT
DTSTART;TZID=Europe/Amsterdam:20250518T101500
DTEND;TZID=Europe/Amsterdam:20250518T123000
DTSTAMP:20260422T030822
CREATED:20250110T091746Z
LAST-MODIFIED:20250110T091746Z
UID:10005913-1747563300-1747571400@www.scharnegoutum.nl
SUMMARY:Gemeenteochtend PKN
DESCRIPTION:
URL:https://www.scharnegoutum.nl/agenda/gemeenteochtend-pkn/
LOCATION:Dorpshuis\, Legedyk 43\, Scharnegoutum\, Friesland\, 8629RL\, Nederland
CATEGORIES:Grote Zaal
END:VEVENT
BEGIN:VEVENT
DTSTART;TZID=Europe/Amsterdam:20250518T153000
DTEND;TZID=Europe/Amsterdam:20250518T193000
DTSTAMP:20260422T030822
CREATED:20250509T190028Z
LAST-MODIFIED:20250509T190028Z
UID:10006091-1747582200-1747596600@www.scharnegoutum.nl
SUMMARY:familiefeest
DESCRIPTION:
URL:https://www.scharnegoutum.nl/agenda/familiefeest-28/
LOCATION:Dorpshuis\, Legedyk 43\, Scharnegoutum\, Friesland\, 8629RL\, Nederland
CATEGORIES:Bar
END:VEVENT
BEGIN:VEVENT
DTSTART;TZID=Europe/Amsterdam:20250519T150000
DTEND;TZID=Europe/Amsterdam:20250519T190000
DTSTAMP:20260422T030822
CREATED:20230331T152659Z
LAST-MODIFIED:20230331T153101Z
UID:10004484-1747666800-1747681200@www.scharnegoutum.nl
SUMMARY:Stal Schukken
DESCRIPTION:
URL:https://www.scharnegoutum.nl/agenda/stal-schukken-3/2025-05-19/
LOCATION:Dorpshuis\, Legedyk 43\, Scharnegoutum\, Friesland\, 8629RL\, Nederland
CATEGORIES:Bar
END:VEVENT
BEGIN:VEVENT
DTSTART;TZID=Europe/Amsterdam:20250519T210000
DTEND;TZID=Europe/Amsterdam:20250519T210000
DTSTAMP:20260422T030822
CREATED:20211119T144027Z
LAST-MODIFIED:20211127T103141Z
UID:10004064-1747688400-1747688400@www.scharnegoutum.nl
SUMMARY:Stadige Strikers
DESCRIPTION:
URL:https://www.scharnegoutum.nl/agenda/dammen/2025-05-19/
LOCATION:Dorpshuis\, Legedyk 43\, Scharnegoutum\, Friesland\, 8629RL\, Nederland
CATEGORIES:Speelzaal
END:VEVENT
BEGIN:VEVENT
DTSTART;TZID=Europe/Amsterdam:20250520T123000
DTEND;TZID=Europe/Amsterdam:20250520T141500
DTSTAMP:20260422T030822
CREATED:20250331T182645Z
LAST-MODIFIED:20250413T065446Z
UID:10006060-1747744200-1747750500@www.scharnegoutum.nl
SUMMARY:CBS Op'e Hichte
DESCRIPTION:
URL:https://www.scharnegoutum.nl/agenda/cbs-ope-hichte-24/
LOCATION:Dorpshuis\, Legedyk 43\, Scharnegoutum\, Friesland\, 8629RL\, Nederland
CATEGORIES:Podium Zaal
END:VEVENT
BEGIN:VEVENT
DTSTART;TZID=Europe/Amsterdam:20250521T213000
DTEND;TZID=Europe/Amsterdam:20250521T233000
DTSTAMP:20260422T030822
CREATED:20241117T142452Z
LAST-MODIFIED:20250328T190453Z
UID:10005022-1747863000-1747870200@www.scharnegoutum.nl
SUMMARY:Nazit Brûskoppen & Martens Cantorij
DESCRIPTION:
URL:https://www.scharnegoutum.nl/agenda/optreden-bruskoppen-martens-cantorij/
LOCATION:Dorpshuis\, Legedyk 43\, Scharnegoutum\, Friesland\, 8629RL\, Nederland
CATEGORIES:Grote Zaal
END:VEVENT
BEGIN:VEVENT
DTSTART;TZID=Europe/Amsterdam:20250523T170000
DTEND;TZID=Europe/Amsterdam:20250523T230000
DTSTAMP:20260422T030822
CREATED:20250331T184921Z
LAST-MODIFIED:20250331T184921Z
UID:10005116-1748019600-1748041200@www.scharnegoutum.nl
SUMMARY:Vrijwilligersavond dorpshuis
DESCRIPTION:
URL:https://www.scharnegoutum.nl/agenda/vrijwilligersavond-dorpshuis/
LOCATION:Dorpshuis\, Legedyk 43\, Scharnegoutum\, Friesland\, 8629RL\, Nederland
CATEGORIES:Grote Zaal
END:VEVENT
END:VCALENDAR