BEGIN:VCALENDAR
VERSION:2.0
PRODID:-//Scharnegoutum | Skearnegoutum - ECPv6.15.20//NONSGML v1.0//EN
CALSCALE:GREGORIAN
METHOD:PUBLISH
X-WR-CALNAME:Scharnegoutum | Skearnegoutum
X-ORIGINAL-URL:https://www.scharnegoutum.nl
X-WR-CALDESC:Evenementen voor Scharnegoutum | Skearnegoutum
REFRESH-INTERVAL;VALUE=DURATION:PT1H
X-Robots-Tag:noindex
X-PUBLISHED-TTL:PT1H
BEGIN:VTIMEZONE
TZID:Europe/Amsterdam
BEGIN:DAYLIGHT
TZOFFSETFROM:+0100
TZOFFSETTO:+0200
TZNAME:CEST
DTSTART:20240331T010000
END:DAYLIGHT
BEGIN:STANDARD
TZOFFSETFROM:+0200
TZOFFSETTO:+0100
TZNAME:CET
DTSTART:20241027T010000
END:STANDARD
BEGIN:DAYLIGHT
TZOFFSETFROM:+0100
TZOFFSETTO:+0200
TZNAME:CEST
DTSTART:20250330T010000
END:DAYLIGHT
BEGIN:STANDARD
TZOFFSETFROM:+0200
TZOFFSETTO:+0100
TZNAME:CET
DTSTART:20251026T010000
END:STANDARD
BEGIN:DAYLIGHT
TZOFFSETFROM:+0100
TZOFFSETTO:+0200
TZNAME:CEST
DTSTART:20260329T010000
END:DAYLIGHT
BEGIN:STANDARD
TZOFFSETFROM:+0200
TZOFFSETTO:+0100
TZNAME:CET
DTSTART:20261025T010000
END:STANDARD
END:VTIMEZONE
BEGIN:VEVENT
DTSTART;TZID=Europe/Amsterdam:20250401T093000
DTEND;TZID=Europe/Amsterdam:20250401T103000
DTSTAMP:20260421T195851
CREATED:20250121T192919Z
LAST-MODIFIED:20250121T192919Z
UID:10005927-1743499800-1743503400@www.scharnegoutum.nl
SUMMARY:Yin Yoga
DESCRIPTION:
URL:https://www.scharnegoutum.nl/agenda/yin-yoga-11/2025-04-01/
LOCATION:Dorpshuis\, Legedyk 43\, Scharnegoutum\, Friesland\, 8629RL\, Nederland
CATEGORIES:Midden Zaal
END:VEVENT
BEGIN:VEVENT
DTSTART;TZID=Europe/Amsterdam:20250401T104500
DTEND;TZID=Europe/Amsterdam:20250401T114500
DTSTAMP:20260421T195851
CREATED:20250121T193339Z
LAST-MODIFIED:20250121T193339Z
UID:10005933-1743504300-1743507900@www.scharnegoutum.nl
SUMMARY:Stoelfit voor ouderen
DESCRIPTION:
URL:https://www.scharnegoutum.nl/agenda/stoelfit-voor-ouderen-10/2025-04-01/
LOCATION:Dorpshuis\, Legedyk 43\, Scharnegoutum\, Friesland\, 8629RL\, Nederland
CATEGORIES:Midden Zaal
END:VEVENT
BEGIN:VEVENT
DTSTART;TZID=Europe/Amsterdam:20250401T190000
DTEND;TZID=Europe/Amsterdam:20250401T223000
DTSTAMP:20260421T195851
CREATED:20241226T165608Z
LAST-MODIFIED:20241226T165608Z
UID:10005882-1743534000-1743546600@www.scharnegoutum.nl
SUMMARY:De Lakenkrakers
DESCRIPTION:
URL:https://www.scharnegoutum.nl/agenda/de-lakenkrakers-5/2025-04-01/
LOCATION:Dorpshuis\, Legedyk 43\, Scharnegoutum\, Friesland\, 8629RL\, Nederland
CATEGORIES:Bar
END:VEVENT
BEGIN:VEVENT
DTSTART;TZID=Europe/Amsterdam:20250402T090000
DTEND;TZID=Europe/Amsterdam:20250402T093000
DTSTAMP:20260421T195851
CREATED:20240530T180737Z
LAST-MODIFIED:20240530T181030Z
UID:10005574-1743584400-1743586200@www.scharnegoutum.nl
SUMMARY:bloedprikken
DESCRIPTION:
URL:https://www.scharnegoutum.nl/agenda/bloedprikken-5/2025-04-02/
LOCATION:Dorpshuis\, Legedyk 43\, Scharnegoutum\, Friesland\, 8629RL\, Nederland
CATEGORIES:Grote Zaal
END:VEVENT
BEGIN:VEVENT
DTSTART;TZID=Europe/Amsterdam:20250402T090000
DTEND;TZID=Europe/Amsterdam:20250402T093000
DTSTAMP:20260421T195851
CREATED:20240530T181238Z
LAST-MODIFIED:20240530T181410Z
UID:10005616-1743584400-1743586200@www.scharnegoutum.nl
SUMMARY:bloedprikken
DESCRIPTION:
URL:https://www.scharnegoutum.nl/agenda/bloedprikken-6/2025-04-02/
LOCATION:Dorpshuis\, Legedyk 43\, Scharnegoutum\, Friesland\, 8629RL\, Nederland
CATEGORIES:Grote Zaal
END:VEVENT
BEGIN:VEVENT
DTSTART;TZID=Europe/Amsterdam:20250402T170000
DTEND;TZID=Europe/Amsterdam:20250402T200000
DTSTAMP:20260421T195851
CREATED:20250324T180647Z
LAST-MODIFIED:20250324T180705Z
UID:10006044-1743613200-1743624000@www.scharnegoutum.nl
SUMMARY:Opbouwen theater Tersoal
DESCRIPTION:
URL:https://www.scharnegoutum.nl/agenda/opbouwen-theater-tersoal/
LOCATION:Dorpshuis\, Legedyk 43\, Scharnegoutum\, Friesland\, 8629RL\, Nederland
CATEGORIES:Podium Zaal
END:VEVENT
BEGIN:VEVENT
DTSTART;TZID=Europe/Amsterdam:20250402T190000
DTEND;TZID=Europe/Amsterdam:20250402T233000
DTSTAMP:20260421T195851
CREATED:20241117T141123Z
LAST-MODIFIED:20241124T160735Z
UID:10004995-1743620400-1743636600@www.scharnegoutum.nl
SUMMARY:shantykoor Brûskoppen
DESCRIPTION:
URL:https://www.scharnegoutum.nl/agenda/shantykoor-bruskoppen-14-2025-01-22/2025-04-02/
LOCATION:Dorpshuis\, Legedyk 43\, Scharnegoutum\, Friesland\, 8629RL\, Nederland
CATEGORIES:Grote Zaal
END:VEVENT
BEGIN:VEVENT
DTSTART;TZID=Europe/Amsterdam:20250403T133000
DTEND;TZID=Europe/Amsterdam:20250403T153000
DTSTAMP:20260421T195851
CREATED:20250225T175544Z
LAST-MODIFIED:20250225T175544Z
UID:10005071-1743687000-1743694200@www.scharnegoutum.nl
SUMMARY:Fysio Wymbrits "valpreventie"
DESCRIPTION:
URL:https://www.scharnegoutum.nl/agenda/fysio-wymbrits-valpreventie/2025-04-03/
LOCATION:Dorpshuis\, Legedyk 43\, Scharnegoutum\, Friesland\, 8629RL\, Nederland
CATEGORIES:Midden Zaal
END:VEVENT
BEGIN:VEVENT
DTSTART;TZID=Europe/Amsterdam:20250403T153000
DTEND;TZID=Europe/Amsterdam:20250403T183000
DTSTAMP:20260421T195851
CREATED:20240530T182539Z
LAST-MODIFIED:20250324T180759Z
UID:10005690-1743694200-1743705000@www.scharnegoutum.nl
SUMMARY:muziekles
DESCRIPTION:
URL:https://www.scharnegoutum.nl/agenda/muziekles-16-2025-04-03/
LOCATION:Dorpshuis\, Legedyk 43\, Scharnegoutum\, Friesland\, 8629RL\, Nederland
CATEGORIES:Midden Zaal
END:VEVENT
BEGIN:VEVENT
DTSTART;TZID=Europe/Amsterdam:20250403T190000
DTEND;TZID=Europe/Amsterdam:20250403T220000
DTSTAMP:20260421T195851
CREATED:20250324T181302Z
LAST-MODIFIED:20250324T181302Z
UID:10006045-1743706800-1743717600@www.scharnegoutum.nl
SUMMARY:Oefensessie Theater
DESCRIPTION:
URL:https://www.scharnegoutum.nl/agenda/oefensessie-theater/
LOCATION:Dorpshuis\, Legedyk 43\, Scharnegoutum\, Friesland\, 8629RL\, Nederland
CATEGORIES:Podium Zaal
END:VEVENT
BEGIN:VEVENT
DTSTART;TZID=Europe/Amsterdam:20250403T193000
DTEND;TZID=Europe/Amsterdam:20250403T223000
DTSTAMP:20260421T195851
CREATED:20241226T170439Z
LAST-MODIFIED:20241226T170439Z
UID:10005897-1743708600-1743719400@www.scharnegoutum.nl
SUMMARY:BC Scharnegoutum
DESCRIPTION:
URL:https://www.scharnegoutum.nl/agenda/bc-scharnegoutum-5/2025-04-03/
LOCATION:Dorpshuis\, Legedyk 43\, Scharnegoutum\, Friesland\, 8629RL\, Nederland
CATEGORIES:Bar
END:VEVENT
BEGIN:VEVENT
DTSTART;TZID=Europe/Amsterdam:20250404T163000
DTEND;TZID=Europe/Amsterdam:20250404T203000
DTSTAMP:20260421T195851
CREATED:20240513T173025Z
LAST-MODIFIED:20240519T083713Z
UID:10005481-1743784200-1743798600@www.scharnegoutum.nl
SUMMARY:etentje Graach Dien
DESCRIPTION:
URL:https://www.scharnegoutum.nl/agenda/etentje-graach-dien-9/2025-04-04/
LOCATION:Dorpshuis\, Legedyk 43\, Scharnegoutum\, Friesland\, 8629RL\, Nederland
CATEGORIES:Grote Zaal
END:VEVENT
BEGIN:VEVENT
DTSTART;TZID=Europe/Amsterdam:20250404T201500
DTEND;TZID=Europe/Amsterdam:20250404T223000
DTSTAMP:20260421T195851
CREATED:20250225T191623Z
LAST-MODIFIED:20250225T191623Z
UID:10005943-1743797700-1743805800@www.scharnegoutum.nl
SUMMARY:Theater "Sytse pakt ut"
DESCRIPTION:
URL:https://www.scharnegoutum.nl/agenda/theater-sytse-pakt-ut/
LOCATION:Dorpshuis\, Legedyk 43\, Scharnegoutum\, Friesland\, 8629RL\, Nederland
CATEGORIES:Grote Zaal
END:VEVENT
BEGIN:VEVENT
DTSTART;TZID=Europe/Amsterdam:20250405T090000
DTEND;TZID=Europe/Amsterdam:20250405T103000
DTSTAMP:20260421T195851
CREATED:20250304T182204Z
LAST-MODIFIED:20250304T182418Z
UID:10005946-1743843600-1743849000@www.scharnegoutum.nl
SUMMARY:Fries Blazers Ensemble
DESCRIPTION:
URL:https://www.scharnegoutum.nl/agenda/fries-blazers-ensemble-2/
LOCATION:Dorpshuis\, Legedyk 43\, Scharnegoutum\, Friesland\, 8629RL\, Nederland
CATEGORIES:Speelzaal
END:VEVENT
BEGIN:VEVENT
DTSTART;TZID=Europe/Amsterdam:20250405T100000
DTEND;TZID=Europe/Amsterdam:20250405T120000
DTSTAMP:20260421T195852
CREATED:20240530T180131Z
LAST-MODIFIED:20240530T180131Z
UID:10005540-1743847200-1743854400@www.scharnegoutum.nl
SUMMARY:Putsje café
DESCRIPTION:
URL:https://www.scharnegoutum.nl/agenda/putsje-cafe/2025-04-05/
LOCATION:Dorpshuis\, Legedyk 43\, Scharnegoutum\, Friesland\, 8629RL\, Nederland
CATEGORIES:Bar
END:VEVENT
BEGIN:VEVENT
DTSTART;TZID=Europe/Amsterdam:20250405T130000
DTEND;TZID=Europe/Amsterdam:20250405T160000
DTSTAMP:20260421T195852
CREATED:20250328T185211Z
LAST-MODIFIED:20250328T185211Z
UID:10006048-1743858000-1743868800@www.scharnegoutum.nl
SUMMARY:EHBO Cursus RTC Rally
DESCRIPTION:
URL:https://www.scharnegoutum.nl/agenda/ehbo-cursus-rtc-rally/
LOCATION:Dorpshuis\, Legedyk 43\, Scharnegoutum\, Friesland\, 8629RL\, Nederland
CATEGORIES:Midden Zaal
END:VEVENT
BEGIN:VEVENT
DTSTART;TZID=Europe/Amsterdam:20250405T140000
DTEND;TZID=Europe/Amsterdam:20250405T160000
DTSTAMP:20260421T195852
CREATED:20250304T182451Z
LAST-MODIFIED:20250304T182451Z
UID:10005947-1743861600-1743868800@www.scharnegoutum.nl
SUMMARY:Fries Blazers Ensemble
DESCRIPTION:
URL:https://www.scharnegoutum.nl/agenda/fries-blazers-ensemble-3/
LOCATION:Dorpshuis\, Legedyk 43\, Scharnegoutum\, Friesland\, 8629RL\, Nederland
CATEGORIES:Speelzaal
END:VEVENT
BEGIN:VEVENT
DTSTART;TZID=Europe/Amsterdam:20250405T160000
DTEND;TZID=Europe/Amsterdam:20250405T230000
DTSTAMP:20260421T195852
CREATED:20240927T164927Z
LAST-MODIFIED:20241117T131420Z
UID:10005797-1743868800-1743894000@www.scharnegoutum.nl
SUMMARY:Inloopcafe
DESCRIPTION:
URL:https://www.scharnegoutum.nl/agenda/inloopcafe-3/2025-04-05/
LOCATION:Dorpshuis\, Legedyk 43\, Scharnegoutum\, Friesland\, 8629RL\, Nederland
CATEGORIES:Bar
END:VEVENT
BEGIN:VEVENT
DTSTART;TZID=Europe/Amsterdam:20250407T130000
DTEND;TZID=Europe/Amsterdam:20250407T163000
DTSTAMP:20260421T195852
CREATED:20241226T165109Z
LAST-MODIFIED:20241226T165109Z
UID:10005842-1744030800-1744043400@www.scharnegoutum.nl
SUMMARY:Stal Schukken
DESCRIPTION:
URL:https://www.scharnegoutum.nl/agenda/stal-schukken-7/2025-04-07/
LOCATION:Dorpshuis\, Legedyk 43\, Scharnegoutum\, Friesland\, 8629RL\, Nederland
CATEGORIES:Bar
END:VEVENT
BEGIN:VEVENT
DTSTART;TZID=Europe/Amsterdam:20250407T150000
DTEND;TZID=Europe/Amsterdam:20250407T190000
DTSTAMP:20260421T195852
CREATED:20230331T152659Z
LAST-MODIFIED:20230331T153101Z
UID:10004478-1744038000-1744052400@www.scharnegoutum.nl
SUMMARY:Stal Schukken
DESCRIPTION:
URL:https://www.scharnegoutum.nl/agenda/stal-schukken-3/2025-04-07/
LOCATION:Dorpshuis\, Legedyk 43\, Scharnegoutum\, Friesland\, 8629RL\, Nederland
CATEGORIES:Bar
END:VEVENT
BEGIN:VEVENT
DTSTART;TZID=Europe/Amsterdam:20250407T153000
DTEND;TZID=Europe/Amsterdam:20250407T173000
DTSTAMP:20260421T195852
CREATED:20250225T175821Z
LAST-MODIFIED:20250225T175821Z
UID:10005083-1744039800-1744047000@www.scharnegoutum.nl
SUMMARY:Fysio Wymbrits "valpreventie"
DESCRIPTION:
URL:https://www.scharnegoutum.nl/agenda/fysio-wymbrits-valpreventie-2/2025-04-07/
LOCATION:Dorpshuis\, Legedyk 43\, Scharnegoutum\, Friesland\, 8629RL\, Nederland
CATEGORIES:Midden Zaal
END:VEVENT
BEGIN:VEVENT
DTSTART;TZID=Europe/Amsterdam:20250407T190000
DTEND;TZID=Europe/Amsterdam:20250407T223000
DTSTAMP:20260421T195852
CREATED:20241226T165317Z
LAST-MODIFIED:20241226T165317Z
UID:10005856-1744052400-1744065000@www.scharnegoutum.nl
SUMMARY:Swettewyn
DESCRIPTION:
URL:https://www.scharnegoutum.nl/agenda/swettewyn-6/2025-04-07/
LOCATION:Dorpshuis\, Legedyk 43\, Scharnegoutum\, Friesland\, 8629RL\, Nederland
CATEGORIES:Grote Zaal
END:VEVENT
BEGIN:VEVENT
DTSTART;TZID=Europe/Amsterdam:20250407T210000
DTEND;TZID=Europe/Amsterdam:20250407T210000
DTSTAMP:20260421T195852
CREATED:20211119T144027Z
LAST-MODIFIED:20211127T103141Z
UID:10004058-1744059600-1744059600@www.scharnegoutum.nl
SUMMARY:Stadige Strikers
DESCRIPTION:
URL:https://www.scharnegoutum.nl/agenda/dammen/2025-04-07/
LOCATION:Dorpshuis\, Legedyk 43\, Scharnegoutum\, Friesland\, 8629RL\, Nederland
CATEGORIES:Speelzaal
END:VEVENT
BEGIN:VEVENT
DTSTART;TZID=Europe/Amsterdam:20250408T093000
DTEND;TZID=Europe/Amsterdam:20250408T103000
DTSTAMP:20260421T195852
CREATED:20250323T202508Z
LAST-MODIFIED:20250323T202508Z
UID:10005954-1744104600-1744108200@www.scharnegoutum.nl
SUMMARY:Yin Yoga
DESCRIPTION:
URL:https://www.scharnegoutum.nl/agenda/yin-yoga-12/
LOCATION:Dorpshuis\, Legedyk 43\, Scharnegoutum\, Friesland\, 8629RL\, Nederland
CATEGORIES:Bar
END:VEVENT
BEGIN:VEVENT
DTSTART;TZID=Europe/Amsterdam:20250408T104500
DTEND;TZID=Europe/Amsterdam:20250408T114500
DTSTAMP:20260421T195852
CREATED:20250323T202624Z
LAST-MODIFIED:20250323T202624Z
UID:10005955-1744109100-1744112700@www.scharnegoutum.nl
SUMMARY:Stoelfit voor ouderen
DESCRIPTION:
URL:https://www.scharnegoutum.nl/agenda/stoelfit-voor-ouderen-11/
LOCATION:Dorpshuis\, Legedyk 43\, Scharnegoutum\, Friesland\, 8629RL\, Nederland
CATEGORIES:Bar
END:VEVENT
BEGIN:VEVENT
DTSTART;TZID=Europe/Amsterdam:20250408T120000
DTEND;TZID=Europe/Amsterdam:20250408T170000
DTSTAMP:20260421T195852
CREATED:20250119T110203Z
LAST-MODIFIED:20250323T202754Z
UID:10005921-1744113600-1744131600@www.scharnegoutum.nl
SUMMARY:SWF Sociaal Collectief teater "Het meisje van de Radio"
DESCRIPTION:
URL:https://www.scharnegoutum.nl/agenda/swf-sociaal-collectief-theater/
LOCATION:Dorpshuis\, Legedyk 43\, Scharnegoutum\, Friesland\, 8629RL\, Nederland
CATEGORIES:Grote Zaal
END:VEVENT
BEGIN:VEVENT
DTSTART;TZID=Europe/Amsterdam:20250409T140000
DTEND;TZID=Europe/Amsterdam:20250409T163000
DTSTAMP:20260421T195852
CREATED:20240915T181526Z
LAST-MODIFIED:20241001T135523Z
UID:10004946-1744207200-1744216200@www.scharnegoutum.nl
SUMMARY:Koersbal
DESCRIPTION:
URL:https://www.scharnegoutum.nl/agenda/koersbal-30/2025-04-09/
LOCATION:Dorpshuis\, Legedyk 43\, Scharnegoutum\, Friesland\, 8629RL\, Nederland
CATEGORIES:Grote Zaal
END:VEVENT
BEGIN:VEVENT
DTSTART;TZID=Europe/Amsterdam:20250409T193000
DTEND;TZID=Europe/Amsterdam:20250409T223000
DTSTAMP:20260421T195852
CREATED:20241117T142150Z
LAST-MODIFIED:20241117T144720Z
UID:10005019-1744227000-1744237800@www.scharnegoutum.nl
SUMMARY:Dames biljarten
DESCRIPTION:
URL:https://www.scharnegoutum.nl/agenda/dames-biljarten/2025-04-09/
LOCATION:Dorpshuis\, Legedyk 43\, Scharnegoutum\, Friesland\, 8629RL\, Nederland
CATEGORIES:Bar
END:VEVENT
BEGIN:VEVENT
DTSTART;TZID=Europe/Amsterdam:20250409T193000
DTEND;TZID=Europe/Amsterdam:20250409T223000
DTSTAMP:20260421T195852
CREATED:20250123T165138Z
LAST-MODIFIED:20250123T165303Z
UID:10005935-1744227000-1744237800@www.scharnegoutum.nl
SUMMARY:Algemene ledenvergadering Dorpsbelang
DESCRIPTION:
URL:https://www.scharnegoutum.nl/agenda/algemene-ledenvergadering-dorpsbelang/
LOCATION:Dorpshuis\, Legedyk 43\, Scharnegoutum\, Friesland\, 8629RL\, Nederland
CATEGORIES:Midden Zaal
END:VEVENT
BEGIN:VEVENT
DTSTART;TZID=Europe/Amsterdam:20250410T153000
DTEND;TZID=Europe/Amsterdam:20250410T183000
DTSTAMP:20260421T195852
CREATED:20240530T182539Z
LAST-MODIFIED:20250331T181219Z
UID:10005680-1744299000-1744309800@www.scharnegoutum.nl
SUMMARY:muziekles
DESCRIPTION:
URL:https://www.scharnegoutum.nl/agenda/muziekles-16-2024-09-12/2025-04-10/
LOCATION:Dorpshuis\, Legedyk 43\, Scharnegoutum\, Friesland\, 8629RL\, Nederland
CATEGORIES:Podium Zaal
END:VEVENT
END:VCALENDAR