BEGIN:VCALENDAR
VERSION:2.0
PRODID:-//Scharnegoutum | Skearnegoutum - ECPv6.15.20//NONSGML v1.0//EN
CALSCALE:GREGORIAN
METHOD:PUBLISH
X-WR-CALNAME:Scharnegoutum | Skearnegoutum
X-ORIGINAL-URL:https://www.scharnegoutum.nl
X-WR-CALDESC:Evenementen voor Scharnegoutum | Skearnegoutum
REFRESH-INTERVAL;VALUE=DURATION:PT1H
X-Robots-Tag:noindex
X-PUBLISHED-TTL:PT1H
BEGIN:VTIMEZONE
TZID:Europe/Amsterdam
BEGIN:DAYLIGHT
TZOFFSETFROM:+0100
TZOFFSETTO:+0200
TZNAME:CEST
DTSTART:20240331T010000
END:DAYLIGHT
BEGIN:STANDARD
TZOFFSETFROM:+0200
TZOFFSETTO:+0100
TZNAME:CET
DTSTART:20241027T010000
END:STANDARD
BEGIN:DAYLIGHT
TZOFFSETFROM:+0100
TZOFFSETTO:+0200
TZNAME:CEST
DTSTART:20250330T010000
END:DAYLIGHT
BEGIN:STANDARD
TZOFFSETFROM:+0200
TZOFFSETTO:+0100
TZNAME:CET
DTSTART:20251026T010000
END:STANDARD
BEGIN:DAYLIGHT
TZOFFSETFROM:+0100
TZOFFSETTO:+0200
TZNAME:CEST
DTSTART:20260329T010000
END:DAYLIGHT
BEGIN:STANDARD
TZOFFSETFROM:+0200
TZOFFSETTO:+0100
TZNAME:CET
DTSTART:20261025T010000
END:STANDARD
END:VTIMEZONE
BEGIN:VEVENT
DTSTART;TZID=Europe/Amsterdam:20250312T090000
DTEND;TZID=Europe/Amsterdam:20250312T093000
DTSTAMP:20260421T193909
CREATED:20240530T180737Z
LAST-MODIFIED:20240530T181030Z
UID:10005571-1741770000-1741771800@www.scharnegoutum.nl
SUMMARY:bloedprikken
DESCRIPTION:
URL:https://www.scharnegoutum.nl/agenda/bloedprikken-5/2025-03-12/
LOCATION:Dorpshuis\, Legedyk 43\, Scharnegoutum\, Friesland\, 8629RL\, Nederland
CATEGORIES:Grote Zaal
END:VEVENT
BEGIN:VEVENT
DTSTART;TZID=Europe/Amsterdam:20250312T090000
DTEND;TZID=Europe/Amsterdam:20250312T093000
DTSTAMP:20260421T193909
CREATED:20240530T181238Z
LAST-MODIFIED:20240530T181410Z
UID:10005613-1741770000-1741771800@www.scharnegoutum.nl
SUMMARY:bloedprikken
DESCRIPTION:
URL:https://www.scharnegoutum.nl/agenda/bloedprikken-6/2025-03-12/
LOCATION:Dorpshuis\, Legedyk 43\, Scharnegoutum\, Friesland\, 8629RL\, Nederland
CATEGORIES:Grote Zaal
END:VEVENT
BEGIN:VEVENT
DTSTART;TZID=Europe/Amsterdam:20250312T140000
DTEND;TZID=Europe/Amsterdam:20250312T163000
DTSTAMP:20260421T193909
CREATED:20240915T181526Z
LAST-MODIFIED:20241001T135523Z
UID:10004944-1741788000-1741797000@www.scharnegoutum.nl
SUMMARY:Koersbal
DESCRIPTION:
URL:https://www.scharnegoutum.nl/agenda/koersbal-30/2025-03-12/
LOCATION:Dorpshuis\, Legedyk 43\, Scharnegoutum\, Friesland\, 8629RL\, Nederland
CATEGORIES:Grote Zaal
END:VEVENT
BEGIN:VEVENT
DTSTART;TZID=Europe/Amsterdam:20250312T193000
DTEND;TZID=Europe/Amsterdam:20250312T223000
DTSTAMP:20260421T193909
CREATED:20241117T142150Z
LAST-MODIFIED:20241117T144720Z
UID:10005017-1741807800-1741818600@www.scharnegoutum.nl
SUMMARY:Dames biljarten
DESCRIPTION:
URL:https://www.scharnegoutum.nl/agenda/dames-biljarten/2025-03-12/
LOCATION:Dorpshuis\, Legedyk 43\, Scharnegoutum\, Friesland\, 8629RL\, Nederland
CATEGORIES:Bar
END:VEVENT
BEGIN:VEVENT
DTSTART;TZID=Europe/Amsterdam:20250313T133000
DTEND;TZID=Europe/Amsterdam:20250313T153000
DTSTAMP:20260421T193909
CREATED:20250225T175544Z
LAST-MODIFIED:20250225T175544Z
UID:10005068-1741872600-1741879800@www.scharnegoutum.nl
SUMMARY:Fysio Wymbrits "valpreventie"
DESCRIPTION:
URL:https://www.scharnegoutum.nl/agenda/fysio-wymbrits-valpreventie/2025-03-13/
LOCATION:Dorpshuis\, Legedyk 43\, Scharnegoutum\, Friesland\, 8629RL\, Nederland
CATEGORIES:Midden Zaal
END:VEVENT
BEGIN:VEVENT
DTSTART;TZID=Europe/Amsterdam:20250313T153000
DTEND;TZID=Europe/Amsterdam:20250313T183000
DTSTAMP:20260421T193909
CREATED:20240530T182539Z
LAST-MODIFIED:20250331T181219Z
UID:10005677-1741879800-1741890600@www.scharnegoutum.nl
SUMMARY:muziekles
DESCRIPTION:
URL:https://www.scharnegoutum.nl/agenda/muziekles-16-2024-09-12/2025-03-13/
LOCATION:Dorpshuis\, Legedyk 43\, Scharnegoutum\, Friesland\, 8629RL\, Nederland
CATEGORIES:Podium Zaal
END:VEVENT
BEGIN:VEVENT
DTSTART;TZID=Europe/Amsterdam:20250313T193000
DTEND;TZID=Europe/Amsterdam:20250313T223000
DTSTAMP:20260421T193909
CREATED:20241226T170439Z
LAST-MODIFIED:20241226T170439Z
UID:10005894-1741894200-1741905000@www.scharnegoutum.nl
SUMMARY:BC Scharnegoutum
DESCRIPTION:
URL:https://www.scharnegoutum.nl/agenda/bc-scharnegoutum-5/2025-03-13/
LOCATION:Dorpshuis\, Legedyk 43\, Scharnegoutum\, Friesland\, 8629RL\, Nederland
CATEGORIES:Bar
END:VEVENT
BEGIN:VEVENT
DTSTART;TZID=Europe/Amsterdam:20250314T193000
DTEND;TZID=Europe/Amsterdam:20250314T230000
DTSTAMP:20260421T193909
CREATED:20240519T090054Z
LAST-MODIFIED:20240519T090054Z
UID:10005527-1741980600-1741993200@www.scharnegoutum.nl
SUMMARY:Klaverjassen
DESCRIPTION:
URL:https://www.scharnegoutum.nl/agenda/klaverjassen-16/2025-03-14/
LOCATION:Dorpshuis\, Legedyk 43\, Scharnegoutum\, Friesland\, 8629RL\, Nederland
CATEGORIES:Midden Zaal
END:VEVENT
BEGIN:VEVENT
DTSTART;TZID=Europe/Amsterdam:20250317T130000
DTEND;TZID=Europe/Amsterdam:20250317T163000
DTSTAMP:20260421T193909
CREATED:20241226T165109Z
LAST-MODIFIED:20241226T165109Z
UID:10005839-1742216400-1742229000@www.scharnegoutum.nl
SUMMARY:Stal Schukken
DESCRIPTION:
URL:https://www.scharnegoutum.nl/agenda/stal-schukken-7/2025-03-17/
LOCATION:Dorpshuis\, Legedyk 43\, Scharnegoutum\, Friesland\, 8629RL\, Nederland
CATEGORIES:Bar
END:VEVENT
BEGIN:VEVENT
DTSTART;TZID=Europe/Amsterdam:20250317T140000
DTEND;TZID=Europe/Amsterdam:20250317T180000
DTSTAMP:20260421T193909
CREATED:20230331T152659Z
LAST-MODIFIED:20230331T153101Z
UID:10004475-1742220000-1742234400@www.scharnegoutum.nl
SUMMARY:Stal Schukken
DESCRIPTION:
URL:https://www.scharnegoutum.nl/agenda/stal-schukken-3/2025-03-17/
LOCATION:Dorpshuis\, Legedyk 43\, Scharnegoutum\, Friesland\, 8629RL\, Nederland
CATEGORIES:Bar
END:VEVENT
BEGIN:VEVENT
DTSTART;TZID=Europe/Amsterdam:20250317T153000
DTEND;TZID=Europe/Amsterdam:20250317T173000
DTSTAMP:20260421T193909
CREATED:20250225T175821Z
LAST-MODIFIED:20250225T175821Z
UID:10005080-1742225400-1742232600@www.scharnegoutum.nl
SUMMARY:Fysio Wymbrits "valpreventie"
DESCRIPTION:
URL:https://www.scharnegoutum.nl/agenda/fysio-wymbrits-valpreventie-2/2025-03-17/
LOCATION:Dorpshuis\, Legedyk 43\, Scharnegoutum\, Friesland\, 8629RL\, Nederland
CATEGORIES:Midden Zaal
END:VEVENT
BEGIN:VEVENT
DTSTART;TZID=Europe/Amsterdam:20250317T190000
DTEND;TZID=Europe/Amsterdam:20250317T223000
DTSTAMP:20260421T193909
CREATED:20241226T165317Z
LAST-MODIFIED:20241226T165317Z
UID:10005853-1742238000-1742250600@www.scharnegoutum.nl
SUMMARY:Swettewyn
DESCRIPTION:
URL:https://www.scharnegoutum.nl/agenda/swettewyn-6/2025-03-17/
LOCATION:Dorpshuis\, Legedyk 43\, Scharnegoutum\, Friesland\, 8629RL\, Nederland
CATEGORIES:Grote Zaal
END:VEVENT
BEGIN:VEVENT
DTSTART;TZID=Europe/Amsterdam:20250317T193000
DTEND;TZID=Europe/Amsterdam:20250317T200000
DTSTAMP:20260421T193909
CREATED:20250314T180417Z
LAST-MODIFIED:20250314T180417Z
UID:10005949-1742239800-1742241600@www.scharnegoutum.nl
SUMMARY:Dorpsbelang
DESCRIPTION:
URL:https://www.scharnegoutum.nl/agenda/dorpsbelang-2/
LOCATION:Dorpshuis\, Legedyk 43\, Scharnegoutum\, Friesland\, 8629RL\, Nederland
CATEGORIES:Podium Zaal
END:VEVENT
BEGIN:VEVENT
DTSTART;TZID=Europe/Amsterdam:20250317T200000
DTEND;TZID=Europe/Amsterdam:20250317T200000
DTSTAMP:20260421T193909
CREATED:20211119T144027Z
LAST-MODIFIED:20211127T103141Z
UID:10004055-1742241600-1742241600@www.scharnegoutum.nl
SUMMARY:Stadige Strikers
DESCRIPTION:
URL:https://www.scharnegoutum.nl/agenda/dammen/2025-03-17/
LOCATION:Dorpshuis\, Legedyk 43\, Scharnegoutum\, Friesland\, 8629RL\, Nederland
CATEGORIES:Speelzaal
END:VEVENT
BEGIN:VEVENT
DTSTART;TZID=Europe/Amsterdam:20250317T200000
DTEND;TZID=Europe/Amsterdam:20250317T230000
DTSTAMP:20260421T193909
CREATED:20240608T175117Z
LAST-MODIFIED:20240608T175117Z
UID:10004872-1742241600-1742252400@www.scharnegoutum.nl
SUMMARY:De Stadige Strikers
DESCRIPTION:
URL:https://www.scharnegoutum.nl/agenda/de-stadige-strikers-5/2025-03-17/
LOCATION:Dorpshuis\, Legedyk 43\, Scharnegoutum\, Friesland\, 8629RL\, Nederland
CATEGORIES:Speelzaal
END:VEVENT
BEGIN:VEVENT
DTSTART;TZID=Europe/Amsterdam:20250318T093000
DTEND;TZID=Europe/Amsterdam:20250318T103000
DTSTAMP:20260421T193909
CREATED:20250121T192919Z
LAST-MODIFIED:20250121T192919Z
UID:10005925-1742290200-1742293800@www.scharnegoutum.nl
SUMMARY:Yin Yoga
DESCRIPTION:
URL:https://www.scharnegoutum.nl/agenda/yin-yoga-11/2025-03-18/
LOCATION:Dorpshuis\, Legedyk 43\, Scharnegoutum\, Friesland\, 8629RL\, Nederland
CATEGORIES:Midden Zaal
END:VEVENT
BEGIN:VEVENT
DTSTART;TZID=Europe/Amsterdam:20250318T104500
DTEND;TZID=Europe/Amsterdam:20250318T114500
DTSTAMP:20260421T193909
CREATED:20250121T193339Z
LAST-MODIFIED:20250121T193339Z
UID:10005931-1742294700-1742298300@www.scharnegoutum.nl
SUMMARY:Stoelfit voor ouderen
DESCRIPTION:
URL:https://www.scharnegoutum.nl/agenda/stoelfit-voor-ouderen-10/2025-03-18/
LOCATION:Dorpshuis\, Legedyk 43\, Scharnegoutum\, Friesland\, 8629RL\, Nederland
CATEGORIES:Midden Zaal
END:VEVENT
BEGIN:VEVENT
DTSTART;TZID=Europe/Amsterdam:20250318T190000
DTEND;TZID=Europe/Amsterdam:20250318T223000
DTSTAMP:20260421T193909
CREATED:20241226T165608Z
LAST-MODIFIED:20241226T165608Z
UID:10005880-1742324400-1742337000@www.scharnegoutum.nl
SUMMARY:De Lakenkrakers
DESCRIPTION:
URL:https://www.scharnegoutum.nl/agenda/de-lakenkrakers-5/2025-03-18/
LOCATION:Dorpshuis\, Legedyk 43\, Scharnegoutum\, Friesland\, 8629RL\, Nederland
CATEGORIES:Bar
END:VEVENT
BEGIN:VEVENT
DTSTART;TZID=Europe/Amsterdam:20250318T193000
DTEND;TZID=Europe/Amsterdam:20250318T220000
DTSTAMP:20260421T193909
CREATED:20250311T182657Z
LAST-MODIFIED:20250311T182734Z
UID:10005948-1742326200-1742335200@www.scharnegoutum.nl
SUMMARY:Bestuursvergadering dorpshuis
DESCRIPTION:
URL:https://www.scharnegoutum.nl/agenda/bestuursvergadering-dorpshuis-10/
LOCATION:Dorpshuis\, Legedyk 43\, Scharnegoutum\, Friesland\, 8629RL\, Nederland
CATEGORIES:Podium Zaal
END:VEVENT
BEGIN:VEVENT
DTSTART;TZID=Europe/Amsterdam:20250319T190000
DTEND;TZID=Europe/Amsterdam:20250319T233000
DTSTAMP:20260421T193909
CREATED:20241117T141123Z
LAST-MODIFIED:20241124T160735Z
UID:10004994-1742410800-1742427000@www.scharnegoutum.nl
SUMMARY:shantykoor Brûskoppen
DESCRIPTION:
URL:https://www.scharnegoutum.nl/agenda/shantykoor-bruskoppen-14-2025-01-22/2025-03-19/
LOCATION:Dorpshuis\, Legedyk 43\, Scharnegoutum\, Friesland\, 8629RL\, Nederland
CATEGORIES:Grote Zaal
END:VEVENT
BEGIN:VEVENT
DTSTART;TZID=Europe/Amsterdam:20250320T193000
DTEND;TZID=Europe/Amsterdam:20250320T223000
DTSTAMP:20260421T193909
CREATED:20250123T164919Z
LAST-MODIFIED:20250123T164947Z
UID:10005934-1742499000-1742509800@www.scharnegoutum.nl
SUMMARY:Bestuursvergadering Dorpsbelang
DESCRIPTION:
URL:https://www.scharnegoutum.nl/agenda/bestuursvergadering-dorpsbelang-5/
LOCATION:Dorpshuis\, Legedyk 43\, Scharnegoutum\, Friesland\, 8629RL\, Nederland
CATEGORIES:Podium Zaal
END:VEVENT
BEGIN:VEVENT
DTSTART;TZID=Europe/Amsterdam:20250322T100000
DTEND;TZID=Europe/Amsterdam:20250322T120000
DTSTAMP:20260421T193909
CREATED:20250304T182038Z
LAST-MODIFIED:20250323T195359Z
UID:10005944-1742637600-1742644800@www.scharnegoutum.nl
SUMMARY:Fries Blazers Ensemble
DESCRIPTION:
URL:https://www.scharnegoutum.nl/agenda/fries-blazers-ensemble/2025-03-22/
LOCATION:Dorpshuis\, Legedyk 43\, Scharnegoutum\, Friesland\, 8629RL\, Nederland
CATEGORIES:Grote Zaal
END:VEVENT
BEGIN:VEVENT
DTSTART;TZID=Europe/Amsterdam:20250323T153000
DTEND;TZID=Europe/Amsterdam:20250323T183000
DTSTAMP:20260421T193909
CREATED:20250114T191530Z
LAST-MODIFIED:20250114T191530Z
UID:10005919-1742743800-1742754600@www.scharnegoutum.nl
SUMMARY:familiefeest
DESCRIPTION:
URL:https://www.scharnegoutum.nl/agenda/familiefeest-25/
LOCATION:Dorpshuis\, Legedyk 43\, Scharnegoutum\, Friesland\, 8629RL\, Nederland
CATEGORIES:Bar
END:VEVENT
BEGIN:VEVENT
DTSTART;TZID=Europe/Amsterdam:20250324T140000
DTEND;TZID=Europe/Amsterdam:20250324T180000
DTSTAMP:20260421T193909
CREATED:20230331T152659Z
LAST-MODIFIED:20230331T153101Z
UID:10004476-1742824800-1742839200@www.scharnegoutum.nl
SUMMARY:Stal Schukken
DESCRIPTION:
URL:https://www.scharnegoutum.nl/agenda/stal-schukken-3/2025-03-24/
LOCATION:Dorpshuis\, Legedyk 43\, Scharnegoutum\, Friesland\, 8629RL\, Nederland
CATEGORIES:Bar
END:VEVENT
BEGIN:VEVENT
DTSTART;TZID=Europe/Amsterdam:20250324T200000
DTEND;TZID=Europe/Amsterdam:20250324T200000
DTSTAMP:20260421T193909
CREATED:20211119T144027Z
LAST-MODIFIED:20211127T103141Z
UID:10004056-1742846400-1742846400@www.scharnegoutum.nl
SUMMARY:Stadige Strikers
DESCRIPTION:
URL:https://www.scharnegoutum.nl/agenda/dammen/2025-03-24/
LOCATION:Dorpshuis\, Legedyk 43\, Scharnegoutum\, Friesland\, 8629RL\, Nederland
CATEGORIES:Speelzaal
END:VEVENT
BEGIN:VEVENT
DTSTART;TZID=Europe/Amsterdam:20250326T100000
DTEND;TZID=Europe/Amsterdam:20250326T120000
DTSTAMP:20260421T193909
CREATED:20241203T183327Z
LAST-MODIFIED:20241203T183327Z
UID:10005827-1742983200-1742990400@www.scharnegoutum.nl
SUMMARY:Rondom 10
DESCRIPTION:
URL:https://www.scharnegoutum.nl/agenda/rondom-10-5/
LOCATION:Dorpshuis\, Legedyk 43\, Scharnegoutum\, Friesland\, 8629RL\, Nederland
CATEGORIES:Midden Zaal
END:VEVENT
BEGIN:VEVENT
DTSTART;TZID=Europe/Amsterdam:20250328T153000
DTEND;TZID=Europe/Amsterdam:20250328T173000
DTSTAMP:20260421T193909
CREATED:20250323T210432Z
LAST-MODIFIED:20250323T210432Z
UID:10006040-1743175800-1743183000@www.scharnegoutum.nl
SUMMARY:Uitvaartbijeenkomst
DESCRIPTION:
URL:https://www.scharnegoutum.nl/agenda/uitvaartbijeenkomst-20/
LOCATION:Dorpshuis\, Legedyk 43\, Scharnegoutum\, Friesland\, 8629RL\, Nederland
CATEGORIES:Grote Zaal
END:VEVENT
BEGIN:VEVENT
DTSTART;TZID=Europe/Amsterdam:20250328T190000
DTEND;TZID=Europe/Amsterdam:20250328T233000
DTSTAMP:20260421T193909
CREATED:20250212T203458Z
LAST-MODIFIED:20250212T203458Z
UID:10005065-1743188400-1743204600@www.scharnegoutum.nl
SUMMARY:Biljarttoernooi Lakenkrakers~BC Scharnegoutum
DESCRIPTION:
URL:https://www.scharnegoutum.nl/agenda/biljarttoernooi-lakenkrakersbc-scharnegoutum/
LOCATION:Dorpshuis\, Legedyk 43\, Scharnegoutum\, Friesland\, 8629RL\, Nederland
CATEGORIES:Bar
END:VEVENT
BEGIN:VEVENT
DTSTART;TZID=Europe/Amsterdam:20250329T160000
DTEND;TZID=Europe/Amsterdam:20250329T220000
DTSTAMP:20260421T193909
CREATED:20241029T184818Z
LAST-MODIFIED:20241119T175438Z
UID:10005816-1743264000-1743285600@www.scharnegoutum.nl
SUMMARY:Familiefeest
DESCRIPTION:
URL:https://www.scharnegoutum.nl/agenda/familiefeest-12/
LOCATION:Dorpshuis\, Legedyk 43\, Scharnegoutum\, Friesland\, 8629RL\, Nederland
CATEGORIES:Grote Zaal
END:VEVENT
BEGIN:VEVENT
DTSTART;TZID=Europe/Amsterdam:20250331T150000
DTEND;TZID=Europe/Amsterdam:20250331T190000
DTSTAMP:20260421T193909
CREATED:20230331T152659Z
LAST-MODIFIED:20230331T153101Z
UID:10004477-1743433200-1743447600@www.scharnegoutum.nl
SUMMARY:Stal Schukken
DESCRIPTION:
URL:https://www.scharnegoutum.nl/agenda/stal-schukken-3/2025-03-31/
LOCATION:Dorpshuis\, Legedyk 43\, Scharnegoutum\, Friesland\, 8629RL\, Nederland
CATEGORIES:Bar
END:VEVENT
END:VCALENDAR