BEGIN:VCALENDAR
VERSION:2.0
PRODID:-//Scharnegoutum | Skearnegoutum - ECPv6.15.20//NONSGML v1.0//EN
CALSCALE:GREGORIAN
METHOD:PUBLISH
X-WR-CALNAME:Scharnegoutum | Skearnegoutum
X-ORIGINAL-URL:https://www.scharnegoutum.nl
X-WR-CALDESC:Evenementen voor Scharnegoutum | Skearnegoutum
REFRESH-INTERVAL;VALUE=DURATION:PT1H
X-Robots-Tag:noindex
X-PUBLISHED-TTL:PT1H
BEGIN:VTIMEZONE
TZID:Europe/Amsterdam
BEGIN:DAYLIGHT
TZOFFSETFROM:+0100
TZOFFSETTO:+0200
TZNAME:CEST
DTSTART:20250330T010000
END:DAYLIGHT
BEGIN:STANDARD
TZOFFSETFROM:+0200
TZOFFSETTO:+0100
TZNAME:CET
DTSTART:20251026T010000
END:STANDARD
BEGIN:DAYLIGHT
TZOFFSETFROM:+0100
TZOFFSETTO:+0200
TZNAME:CEST
DTSTART:20260329T010000
END:DAYLIGHT
BEGIN:STANDARD
TZOFFSETFROM:+0200
TZOFFSETTO:+0100
TZNAME:CET
DTSTART:20261025T010000
END:STANDARD
BEGIN:DAYLIGHT
TZOFFSETFROM:+0100
TZOFFSETTO:+0200
TZNAME:CEST
DTSTART:20270328T010000
END:DAYLIGHT
BEGIN:STANDARD
TZOFFSETFROM:+0200
TZOFFSETTO:+0100
TZNAME:CET
DTSTART:20271031T010000
END:STANDARD
END:VTIMEZONE
BEGIN:VEVENT
DTSTART;TZID=Europe/Amsterdam:20260513T103000
DTEND;TZID=Europe/Amsterdam:20260513T141500
DTSTAMP:20260419T220351
CREATED:20260419T173030Z
LAST-MODIFIED:20260419T173030Z
UID:10007776-1778668200-1778681700@www.scharnegoutum.nl
SUMMARY:Oefensessie musical Op'e Hichte groep 8
DESCRIPTION:
URL:https://www.scharnegoutum.nl/agenda/oefensessie-musical-ope-hichte-groep-8-2/2026-05-13/
CATEGORIES:Podium Zaal
END:VEVENT
BEGIN:VEVENT
DTSTART;TZID=Europe/Amsterdam:20260519T193000
DTEND;TZID=Europe/Amsterdam:20260519T220000
DTSTAMP:20260419T220351
CREATED:20260329T101515Z
LAST-MODIFIED:20260329T101515Z
UID:10007687-1779219000-1779228000@www.scharnegoutum.nl
SUMMARY:Bestuursvergadering dorpshuis
DESCRIPTION:
URL:https://www.scharnegoutum.nl/agenda/bestuursvergadering-dorpshuis/
CATEGORIES:Podium Zaal
END:VEVENT
BEGIN:VEVENT
DTSTART;TZID=Europe/Amsterdam:20260616T193000
DTEND;TZID=Europe/Amsterdam:20260616T220000
DTSTAMP:20260419T220351
CREATED:20260412T073802Z
LAST-MODIFIED:20260412T073802Z
UID:10007699-1781638200-1781647200@www.scharnegoutum.nl
SUMMARY:Vergadering Natuerstichting
DESCRIPTION:
URL:https://www.scharnegoutum.nl/agenda/vergadering-natuerstichting/
CATEGORIES:Podium Zaal
END:VEVENT
END:VCALENDAR