BEGIN:VCALENDAR
VERSION:2.0
PRODID:-//Scharnegoutum | Skearnegoutum - ECPv6.15.20//NONSGML v1.0//EN
CALSCALE:GREGORIAN
METHOD:PUBLISH
X-ORIGINAL-URL:https://www.scharnegoutum.nl
X-WR-CALDESC:Evenementen voor Scharnegoutum | Skearnegoutum
REFRESH-INTERVAL;VALUE=DURATION:PT1H
X-Robots-Tag:noindex
X-PUBLISHED-TTL:PT1H
BEGIN:VTIMEZONE
TZID:Europe/Amsterdam
BEGIN:DAYLIGHT
TZOFFSETFROM:+0100
TZOFFSETTO:+0200
TZNAME:CEST
DTSTART:20230326T010000
END:DAYLIGHT
BEGIN:STANDARD
TZOFFSETFROM:+0200
TZOFFSETTO:+0100
TZNAME:CET
DTSTART:20231029T010000
END:STANDARD
BEGIN:DAYLIGHT
TZOFFSETFROM:+0100
TZOFFSETTO:+0200
TZNAME:CEST
DTSTART:20240331T010000
END:DAYLIGHT
BEGIN:STANDARD
TZOFFSETFROM:+0200
TZOFFSETTO:+0100
TZNAME:CET
DTSTART:20241027T010000
END:STANDARD
BEGIN:DAYLIGHT
TZOFFSETFROM:+0100
TZOFFSETTO:+0200
TZNAME:CEST
DTSTART:20250330T010000
END:DAYLIGHT
BEGIN:STANDARD
TZOFFSETFROM:+0200
TZOFFSETTO:+0100
TZNAME:CET
DTSTART:20251026T010000
END:STANDARD
BEGIN:DAYLIGHT
TZOFFSETFROM:+0100
TZOFFSETTO:+0200
TZNAME:CEST
DTSTART:20260329T010000
END:DAYLIGHT
BEGIN:STANDARD
TZOFFSETFROM:+0200
TZOFFSETTO:+0100
TZNAME:CET
DTSTART:20261025T010000
END:STANDARD
END:VTIMEZONE
BEGIN:VEVENT
DTSTART;TZID=Europe/Amsterdam:20250204T193000
DTEND;TZID=Europe/Amsterdam:20250204T223000
DTSTAMP:20260422T103016
CREATED:20250111T175247Z
LAST-MODIFIED:20250111T175247Z
UID:10005915-1738697400-1738708200@www.scharnegoutum.nl
SUMMARY:Bestuursvergadering dorpshuis
DESCRIPTION:
URL:https://www.scharnegoutum.nl/agenda/bestuursvergadering-dorpshuis-9/
LOCATION:Dorpshuis\, Legedyk 43\, Scharnegoutum\, Friesland\, 8629RL\, Nederland
CATEGORIES:Podium Zaal
END:VEVENT
BEGIN:VEVENT
DTSTART;TZID=Europe/Amsterdam:20250122T193000
DTEND;TZID=Europe/Amsterdam:20250122T223000
DTSTAMP:20260422T103016
CREATED:20250114T191853Z
LAST-MODIFIED:20250114T191853Z
UID:10005920-1737574200-1737585000@www.scharnegoutum.nl
SUMMARY:Bestuursvergadering dorpsbelang
DESCRIPTION:
URL:https://www.scharnegoutum.nl/agenda/bestuursvergadering-dorpsbelang-4/
LOCATION:Dorpshuis\, Legedyk 43\, Scharnegoutum\, Friesland\, 8629RL\, Nederland
CATEGORIES:Podium Zaal
END:VEVENT
BEGIN:VEVENT
DTSTART;TZID=Europe/Amsterdam:20250120T200000
DTEND;TZID=Europe/Amsterdam:20250120T223000
DTSTAMP:20260422T103016
CREATED:20250114T190045Z
LAST-MODIFIED:20250114T190045Z
UID:10005918-1737403200-1737412200@www.scharnegoutum.nl
SUMMARY:Vergadering activiteitencomissie
DESCRIPTION:
URL:https://www.scharnegoutum.nl/agenda/vergadering-activiteitencomissie-2/
LOCATION:Dorpshuis\, Legedyk 43\, Scharnegoutum\, Friesland\, 8629RL\, Nederland
CATEGORIES:Podium Zaal
END:VEVENT
BEGIN:VEVENT
DTSTART;TZID=Europe/Amsterdam:20241217T193000
DTEND;TZID=Europe/Amsterdam:20241217T213000
DTSTAMP:20260422T103016
CREATED:20241214T141947Z
LAST-MODIFIED:20241214T141947Z
UID:10005828-1734463800-1734471000@www.scharnegoutum.nl
SUMMARY:Bestuursvergadering dorpshuis
DESCRIPTION:
URL:https://www.scharnegoutum.nl/agenda/bestuursvergadering-dorpshuis-8/
LOCATION:Dorpshuis\, Legedyk 43\, Scharnegoutum\, Friesland\, 8629RL\, Nederland
CATEGORIES:Podium Zaal
END:VEVENT
END:VCALENDAR