BEGIN:VCALENDAR
VERSION:2.0
PRODID:-//Scharnegoutum | Skearnegoutum - ECPv6.15.20//NONSGML v1.0//EN
CALSCALE:GREGORIAN
METHOD:PUBLISH
X-ORIGINAL-URL:https://www.scharnegoutum.nl
X-WR-CALDESC:Evenementen voor Scharnegoutum | Skearnegoutum
REFRESH-INTERVAL;VALUE=DURATION:PT1H
X-Robots-Tag:noindex
X-PUBLISHED-TTL:PT1H
BEGIN:VTIMEZONE
TZID:Europe/Amsterdam
BEGIN:DAYLIGHT
TZOFFSETFROM:+0100
TZOFFSETTO:+0200
TZNAME:CEST
DTSTART:20240331T010000
END:DAYLIGHT
BEGIN:STANDARD
TZOFFSETFROM:+0200
TZOFFSETTO:+0100
TZNAME:CET
DTSTART:20241027T010000
END:STANDARD
BEGIN:DAYLIGHT
TZOFFSETFROM:+0100
TZOFFSETTO:+0200
TZNAME:CEST
DTSTART:20250330T010000
END:DAYLIGHT
BEGIN:STANDARD
TZOFFSETFROM:+0200
TZOFFSETTO:+0100
TZNAME:CET
DTSTART:20251026T010000
END:STANDARD
BEGIN:DAYLIGHT
TZOFFSETFROM:+0100
TZOFFSETTO:+0200
TZNAME:CEST
DTSTART:20260329T010000
END:DAYLIGHT
BEGIN:STANDARD
TZOFFSETFROM:+0200
TZOFFSETTO:+0100
TZNAME:CET
DTSTART:20261025T010000
END:STANDARD
BEGIN:DAYLIGHT
TZOFFSETFROM:+0100
TZOFFSETTO:+0200
TZNAME:CEST
DTSTART:20270328T010000
END:DAYLIGHT
BEGIN:STANDARD
TZOFFSETFROM:+0200
TZOFFSETTO:+0100
TZNAME:CET
DTSTART:20271031T010000
END:STANDARD
END:VTIMEZONE
BEGIN:VEVENT
DTSTART;TZID=Europe/Amsterdam:20260420T200000
DTEND;TZID=Europe/Amsterdam:20260420T220000
DTSTAMP:20260421T112210
CREATED:20260124T150455Z
LAST-MODIFIED:20260124T150455Z
UID:10007605-1776715200-1776722400@www.scharnegoutum.nl
SUMMARY:Vergadering activiteitencommissie
DESCRIPTION:
URL:https://www.scharnegoutum.nl/agenda/vergadering-activiteitencommissie/2026-04-20/
CATEGORIES:Podium Zaal
END:VEVENT
BEGIN:VEVENT
DTSTART;TZID=Europe/Amsterdam:20260417T123000
DTEND;TZID=Europe/Amsterdam:20260417T141500
DTSTAMP:20260421T112210
CREATED:20260412T081317Z
LAST-MODIFIED:20260412T081317Z
UID:10007746-1776429000-1776435300@www.scharnegoutum.nl
SUMMARY:Oefensessie musical Op'e Hichte groep 8
DESCRIPTION:
URL:https://www.scharnegoutum.nl/agenda/oefensessie-musical-ope-hichte-groep-8/2026-04-17/
CATEGORIES:Podium Zaal
END:VEVENT
BEGIN:VEVENT
DTSTART;TZID=Europe/Amsterdam:20260416T153000
DTEND;TZID=Europe/Amsterdam:20260416T183000
DTSTAMP:20260421T112210
CREATED:20251219T131927Z
LAST-MODIFIED:20251219T131927Z
UID:10007428-1776353400-1776364200@www.scharnegoutum.nl
SUMMARY:Muziekles
DESCRIPTION:Deze muzieklessen worden verzorgd door Jan Hibma\, docent groot en klein koper aan het kunstencentrum Atrium Sneek. (www.Kunstencentrumatrium.nl) \nDe lessen zijn op afspraak\, dus de lestijd is in overleg\, en in principe zijn de lessen individueel maar ook groepslessen zijn in te passen.\nEr is mogelijkheid om op elk gewenst koperblaasinstrument les te krijgen waaronder trompet\, bugel\, euphonium\, trombone enz.\nBuiten deze donderdagmiddag zijn er ook andere mogelijkheden om les te volgen.\nHeb je interesse dan is dit je kans om eens kennis te maken met een fantastische hobby\, waarbij het ook mogelijk is om een proefles te volgen. Een instrument wordt geregeld.\nKom op de donderdagmiddag vanaf 16.00 uur eens langs voor een kennismaking.\nVoor informatie Jan Hibma 06 50828310 of stuur een mailtje naar:  jan.hibma@cks.nl\n\n\n\n\n Toevoegen aan kalender
URL:https://www.scharnegoutum.nl/agenda/muziekles/2026-04-16/
CATEGORIES:Podium Zaal
END:VEVENT
BEGIN:VEVENT
DTSTART;TZID=Europe/Amsterdam:20260413T214500
DTEND;TZID=Europe/Amsterdam:20260413T221500
DTSTAMP:20260421T112210
CREATED:20260409T183656Z
LAST-MODIFIED:20260409T183656Z
UID:10007696-1776116700-1776118500@www.scharnegoutum.nl
SUMMARY:Overleg fanfare Swettewyn
DESCRIPTION:
URL:https://www.scharnegoutum.nl/agenda/overleg-fanfare-swettewyn/
CATEGORIES:Podium Zaal
END:VEVENT
BEGIN:VEVENT
DTSTART;TZID=Europe/Amsterdam:20260407T193000
DTEND;TZID=Europe/Amsterdam:20260407T213000
DTSTAMP:20260421T112210
CREATED:20260319T182503Z
LAST-MODIFIED:20260321T180714Z
UID:10007657-1775590200-1775597400@www.scharnegoutum.nl
SUMMARY:Natuerstichting
DESCRIPTION:
URL:https://www.scharnegoutum.nl/agenda/natuerstichting/
CATEGORIES:Podium Zaal
END:VEVENT
BEGIN:VEVENT
DTSTART;TZID=Europe/Amsterdam:20260324T193000
DTEND;TZID=Europe/Amsterdam:20260324T213000
DTSTAMP:20260421T112210
CREATED:20260319T182551Z
LAST-MODIFIED:20260321T180759Z
UID:10007658-1774380600-1774387800@www.scharnegoutum.nl
SUMMARY:Bestuur dorpshuis
DESCRIPTION:
URL:https://www.scharnegoutum.nl/agenda/bestuur-dorpshuis/
CATEGORIES:Podium Zaal
END:VEVENT
BEGIN:VEVENT
DTSTART;TZID=Europe/Amsterdam:20260309T183000
DTEND;TZID=Europe/Amsterdam:20260309T193000
DTSTAMP:20260421T112210
CREATED:20260305T192622Z
LAST-MODIFIED:20260305T192622Z
UID:10007639-1773081000-1773084600@www.scharnegoutum.nl
SUMMARY:vergadering Swettewyn
DESCRIPTION:
URL:https://www.scharnegoutum.nl/agenda/vergadering-swettewyn/
CATEGORIES:Podium Zaal
END:VEVENT
BEGIN:VEVENT
DTSTART;TZID=Europe/Amsterdam:20260224T193000
DTEND;TZID=Europe/Amsterdam:20260224T213000
DTSTAMP:20260421T112210
CREATED:20260118T162543Z
LAST-MODIFIED:20260118T162543Z
UID:10007598-1771961400-1771968600@www.scharnegoutum.nl
SUMMARY:Vergadering Dorpsbelang
DESCRIPTION:
URL:https://www.scharnegoutum.nl/agenda/vergadering-dorpsbelang-2/
CATEGORIES:Podium Zaal
END:VEVENT
BEGIN:VEVENT
DTSTART;TZID=Europe/Amsterdam:20260210T193000
DTEND;TZID=Europe/Amsterdam:20260210T220000
DTSTAMP:20260421T112210
CREATED:20251224T100201Z
LAST-MODIFIED:20251224T100201Z
UID:10007464-1770751800-1770760800@www.scharnegoutum.nl
SUMMARY:Vergadering bestuur Dorpshuis
DESCRIPTION:
URL:https://www.scharnegoutum.nl/agenda/vergadering-bestuur-dorpshuis-2/
CATEGORIES:Podium Zaal
END:VEVENT
BEGIN:VEVENT
DTSTART;TZID=Europe/Amsterdam:20260119T200000
DTEND;TZID=Europe/Amsterdam:20260119T220000
DTSTAMP:20260421T112210
CREATED:20251205T081652Z
LAST-MODIFIED:20251205T081652Z
UID:10007009-1768852800-1768860000@www.scharnegoutum.nl
SUMMARY:Vergadering activiteitencommissie
DESCRIPTION:
URL:https://www.scharnegoutum.nl/agenda/vergadering-activiteitencommissie-12/
CATEGORIES:Podium Zaal
END:VEVENT
BEGIN:VEVENT
DTSTART;TZID=Europe/Amsterdam:20260113T193000
DTEND;TZID=Europe/Amsterdam:20260113T220000
DTSTAMP:20260421T112210
CREATED:20251210T083714Z
LAST-MODIFIED:20251210T083714Z
UID:10007027-1768332600-1768341600@www.scharnegoutum.nl
SUMMARY:vergadering dorpsbelang
DESCRIPTION:
URL:https://www.scharnegoutum.nl/agenda/vergadering-dorpsbelang/
CATEGORIES:Podium Zaal
END:VEVENT
BEGIN:VEVENT
DTSTART;TZID=Europe/Amsterdam:20251218T153000
DTEND;TZID=Europe/Amsterdam:20251218T183000
DTSTAMP:20260421T112210
CREATED:20251205T080754Z
LAST-MODIFIED:20251205T080755Z
UID:10006325-1766071800-1766082600@www.scharnegoutum.nl
SUMMARY:Muziekles
DESCRIPTION:Deze muzieklessen worden verzorgd door Jan Hibma\, docent groot en klein koper aan het kunstencentrum Atrium Sneek. (www.Kunstencentrumatrium.nl) \nDe lessen zijn op afspraak\, dus de lestijd is in overleg\, en in principe zijn de lessen individueel maar ook groepslessen zijn in te passen.\nEr is mogelijkheid om op elk gewenst koperblaasinstrument les te krijgen waaronder trompet\, bugel\, euphonium\, trombone enz.\nBuiten deze donderdagmiddag zijn er ook andere mogelijkheden om les te volgen.\nHeb je interesse dan is dit je kans om eens kennis te maken met een fantastische hobby\, waarbij het ook mogelijk is om een proefles te volgen. Een instrument wordt geregeld.\nKom op de donderdagmiddag vanaf 16.00 uur eens langs voor een kennismaking.\nVoor informatie Jan Hibma 06 50828310 of stuur een mailtje naar:  jan.hibma@cks.nl
URL:https://www.scharnegoutum.nl/agenda/muziekles-18-2/2025-12-18/
LOCATION:Dorpshuis\, Legedyk 43\, Scharnegoutum\, Friesland\, 8629RL\, Nederland
CATEGORIES:Podium Zaal
END:VEVENT
BEGIN:VEVENT
DTSTART;TZID=Europe/Amsterdam:20251218T153000
DTEND;TZID=Europe/Amsterdam:20251218T183000
DTSTAMP:20260421T112210
CREATED:20250807T065725Z
LAST-MODIFIED:20251205T081522Z
UID:10007008-1766071800-1766082600@www.scharnegoutum.nl
SUMMARY:Muziekles
DESCRIPTION:Deze muzieklessen worden verzorgd door Jan Hibma\, docent groot en klein koper aan het kunstencentrum Atrium Sneek. (www.Kunstencentrumatrium.nl) \nDe lessen zijn op afspraak\, dus de lestijd is in overleg\, en in principe zijn de lessen individueel maar ook groepslessen zijn in te passen.\nEr is mogelijkheid om op elk gewenst koperblaasinstrument les te krijgen waaronder trompet\, bugel\, euphonium\, trombone enz.\nBuiten deze donderdagmiddag zijn er ook andere mogelijkheden om les te volgen.\nHeb je interesse dan is dit je kans om eens kennis te maken met een fantastische hobby\, waarbij het ook mogelijk is om een proefles te volgen. Een instrument wordt geregeld.\nKom op de donderdagmiddag vanaf 16.00 uur eens langs voor een kennismaking.\nVoor informatie Jan Hibma 06 50828310 of stuur een mailtje naar:  jan.hibma@cks.nl
URL:https://www.scharnegoutum.nl/agenda/muziekles-18/2025-12-18/
LOCATION:Dorpshuis\, Legedyk 43\, Scharnegoutum\, Friesland\, 8629RL\, Nederland
CATEGORIES:Podium Zaal
END:VEVENT
BEGIN:VEVENT
DTSTART;TZID=Europe/Amsterdam:20251217T190000
DTEND;TZID=Europe/Amsterdam:20251217T200000
DTSTAMP:20260421T112210
CREATED:20251210T083023Z
LAST-MODIFIED:20251210T083023Z
UID:10007025-1765998000-1766001600@www.scharnegoutum.nl
SUMMARY:RTC Rally Sneek
DESCRIPTION:
URL:https://www.scharnegoutum.nl/agenda/rtc-rally-sneek/
CATEGORIES:Podium Zaal
END:VEVENT
BEGIN:VEVENT
DTSTART;TZID=Europe/Amsterdam:20251209T190000
DTEND;TZID=Europe/Amsterdam:20251209T200000
DTSTAMP:20260421T112210
CREATED:20251208T182109Z
LAST-MODIFIED:20251208T182109Z
UID:10007024-1765306800-1765310400@www.scharnegoutum.nl
SUMMARY:Overleg dorpshuis
DESCRIPTION:
URL:https://www.scharnegoutum.nl/agenda/overleg-dorpshuis/
CATEGORIES:Podium Zaal
END:VEVENT
BEGIN:VEVENT
DTSTART;TZID=Europe/Amsterdam:20251201T200000
DTEND;TZID=Europe/Amsterdam:20251201T223000
DTSTAMP:20260421T112210
CREATED:20251118T180219Z
LAST-MODIFIED:20251118T180219Z
UID:10006995-1764619200-1764628200@www.scharnegoutum.nl
SUMMARY:Vergadering activiteitencommissie
DESCRIPTION:
URL:https://www.scharnegoutum.nl/agenda/vergadering-activiteitencommissie-11/
CATEGORIES:Podium Zaal
END:VEVENT
BEGIN:VEVENT
DTSTART;TZID=Europe/Amsterdam:20251110T200000
DTEND;TZID=Europe/Amsterdam:20251110T220000
DTSTAMP:20260421T112210
CREATED:20251007T172249Z
LAST-MODIFIED:20251007T172249Z
UID:10006913-1762804800-1762812000@www.scharnegoutum.nl
SUMMARY:Vergadering activiteitencommissie
DESCRIPTION:
URL:https://www.scharnegoutum.nl/agenda/vergadering-activiteitencommissie-10/
LOCATION:Dorpshuis\, Legedyk 43\, Scharnegoutum\, Friesland\, 8629RL\, Nederland
CATEGORIES:Podium Zaal
END:VEVENT
BEGIN:VEVENT
DTSTART;TZID=Europe/Amsterdam:20251104T193000
DTEND;TZID=Europe/Amsterdam:20251104T220000
DTSTAMP:20260421T112210
CREATED:20250925T174923Z
LAST-MODIFIED:20250925T174923Z
UID:10006904-1762284600-1762293600@www.scharnegoutum.nl
SUMMARY:Vergadering bestuur dorpshuis
DESCRIPTION:
URL:https://www.scharnegoutum.nl/agenda/vergadering-bestuur-dorpshuis-14/
LOCATION:Dorpshuis\, Legedyk 43\, Scharnegoutum\, Friesland\, 8629RL\, Nederland
CATEGORIES:Podium Zaal
END:VEVENT
BEGIN:VEVENT
DTSTART;TZID=Europe/Amsterdam:20251103T193000
DTEND;TZID=Europe/Amsterdam:20251103T223000
DTSTAMP:20260421T112210
CREATED:20250904T184423Z
LAST-MODIFIED:20250904T184423Z
UID:10006863-1762198200-1762209000@www.scharnegoutum.nl
SUMMARY:Vergadering Dorpsbelang
DESCRIPTION:
URL:https://www.scharnegoutum.nl/agenda/vergadering-dorpsbelang-12/
LOCATION:Dorpshuis\, Legedyk 43\, Scharnegoutum\, Friesland\, 8629RL\, Nederland
CATEGORIES:Podium Zaal
END:VEVENT
BEGIN:VEVENT
DTSTART;TZID=Europe/Amsterdam:20251028T193000
DTEND;TZID=Europe/Amsterdam:20251028T223000
DTSTAMP:20260421T112211
CREATED:20250904T184308Z
LAST-MODIFIED:20250911T170750Z
UID:10006862-1761679800-1761690600@www.scharnegoutum.nl
SUMMARY:Vergadering Dorpsbelang
DESCRIPTION:
URL:https://www.scharnegoutum.nl/agenda/vergadering-dorpsbelang-11/
LOCATION:Dorpshuis\, Legedyk 43\, Scharnegoutum\, Friesland\, 8629RL\, Nederland
CATEGORIES:Podium Zaal
END:VEVENT
BEGIN:VEVENT
DTSTART;TZID=Europe/Amsterdam:20251022T193000
DTEND;TZID=Europe/Amsterdam:20251022T220000
DTSTAMP:20260421T112211
CREATED:20251002T172657Z
LAST-MODIFIED:20251002T172657Z
UID:10006911-1761161400-1761170400@www.scharnegoutum.nl
SUMMARY:Vergadering Dorpsbelang
DESCRIPTION:
URL:https://www.scharnegoutum.nl/agenda/vergadering-dorpsbelang-13/
LOCATION:Dorpshuis\, Legedyk 43\, Scharnegoutum\, Friesland\, 8629RL\, Nederland
CATEGORIES:Podium Zaal
END:VEVENT
BEGIN:VEVENT
DTSTART;TZID=Europe/Amsterdam:20251016T193000
DTEND;TZID=Europe/Amsterdam:20251016T213000
DTSTAMP:20260421T112211
CREATED:20250913T064342Z
LAST-MODIFIED:20250913T064342Z
UID:10006902-1760643000-1760650200@www.scharnegoutum.nl
SUMMARY:Vergadering Natuerstichting
DESCRIPTION:
URL:https://www.scharnegoutum.nl/agenda/vergadering-natuerstichting-6/
LOCATION:Dorpshuis\, Legedyk 43\, Scharnegoutum\, Friesland\, 8629RL\, Nederland
CATEGORIES:Podium Zaal
END:VEVENT
BEGIN:VEVENT
DTSTART;TZID=Europe/Amsterdam:20251006T190000
DTEND;TZID=Europe/Amsterdam:20251006T223000
DTSTAMP:20260421T112211
CREATED:20250827T182311Z
LAST-MODIFIED:20250827T182311Z
UID:10006783-1759777200-1759789800@www.scharnegoutum.nl
SUMMARY:Vergadering activiteitencomissie
DESCRIPTION:
URL:https://www.scharnegoutum.nl/agenda/vergadering-activiteitencomissie-3/
LOCATION:Dorpshuis\, Legedyk 43\, Scharnegoutum\, Friesland\, 8629RL\, Nederland
CATEGORIES:Podium Zaal
END:VEVENT
BEGIN:VEVENT
DTSTART;TZID=Europe/Amsterdam:20250923T193000
DTEND;TZID=Europe/Amsterdam:20250923T220000
DTSTAMP:20260421T112211
CREATED:20250902T201944Z
LAST-MODIFIED:20250902T201944Z
UID:10006792-1758655800-1758664800@www.scharnegoutum.nl
SUMMARY:Vergadering bestuur Dorpshuis
DESCRIPTION:
URL:https://www.scharnegoutum.nl/agenda/vergadering-bestuur-dorpshuis-13/
LOCATION:Dorpshuis\, Legedyk 43\, Scharnegoutum\, Friesland\, 8629RL\, Nederland
CATEGORIES:Podium Zaal
END:VEVENT
BEGIN:VEVENT
DTSTART;TZID=Europe/Amsterdam:20250904T193000
DTEND;TZID=Europe/Amsterdam:20250904T220000
DTSTAMP:20260421T112211
CREATED:20250902T194814Z
LAST-MODIFIED:20250902T194814Z
UID:10006786-1757014200-1757023200@www.scharnegoutum.nl
SUMMARY:vergadering Natuerstichting
DESCRIPTION:
URL:https://www.scharnegoutum.nl/agenda/vergadering-natuerstichting-5/
LOCATION:Dorpshuis\, Legedyk 43\, Scharnegoutum\, Friesland\, 8629RL\, Nederland
CATEGORIES:Podium Zaal
END:VEVENT
BEGIN:VEVENT
DTSTART;TZID=Europe/Amsterdam:20250902T193000
DTEND;TZID=Europe/Amsterdam:20250902T223000
DTSTAMP:20260421T112211
CREATED:20250830T102336Z
LAST-MODIFIED:20250830T102336Z
UID:10006784-1756841400-1756852200@www.scharnegoutum.nl
SUMMARY:Vergadering dorpsbelang
DESCRIPTION:
URL:https://www.scharnegoutum.nl/agenda/vergadering-dorpsbelang-10/
LOCATION:Dorpshuis\, Legedyk 43\, Scharnegoutum\, Friesland\, 8629RL\, Nederland
CATEGORIES:Podium Zaal
END:VEVENT
BEGIN:VEVENT
DTSTART;TZID=Europe/Amsterdam:20250827T190000
DTEND;TZID=Europe/Amsterdam:20250827T203000
DTSTAMP:20260421T112211
CREATED:20250825T175915Z
LAST-MODIFIED:20250825T180018Z
UID:10006781-1756321200-1756326600@www.scharnegoutum.nl
SUMMARY:Vergadering Oranjevereniging
DESCRIPTION:
URL:https://www.scharnegoutum.nl/agenda/vergadering-oranjevereniging-3/
LOCATION:Dorpshuis\, Legedyk 43\, Scharnegoutum\, Friesland\, 8629RL\, Nederland
CATEGORIES:Podium Zaal
END:VEVENT
BEGIN:VEVENT
DTSTART;TZID=Europe/Amsterdam:20250707T103000
DTEND;TZID=Europe/Amsterdam:20250707T141500
DTSTAMP:20260421T112211
CREATED:20250331T182645Z
LAST-MODIFIED:20250413T070043Z
UID:10006068-1751884200-1751897700@www.scharnegoutum.nl
SUMMARY:CBS Op'e Hichte
DESCRIPTION:
URL:https://www.scharnegoutum.nl/agenda/cbs-ope-hichte-24-2025-06-30/2025-07-07/
LOCATION:Dorpshuis\, Legedyk 43\, Scharnegoutum\, Friesland\, 8629RL\, Nederland
CATEGORIES:Podium Zaal
END:VEVENT
BEGIN:VEVENT
DTSTART;TZID=Europe/Amsterdam:20250703T123000
DTEND;TZID=Europe/Amsterdam:20250703T141500
DTSTAMP:20260421T112211
CREATED:20250331T182809Z
LAST-MODIFIED:20250331T182809Z
UID:10006069-1751545800-1751552100@www.scharnegoutum.nl
SUMMARY:CBS Op'e Hichte
DESCRIPTION:
URL:https://www.scharnegoutum.nl/agenda/cbs-ope-hichte-25/
LOCATION:Dorpshuis\, Legedyk 43\, Scharnegoutum\, Friesland\, 8629RL\, Nederland
CATEGORIES:Podium Zaal
END:VEVENT
BEGIN:VEVENT
DTSTART;TZID=Europe/Amsterdam:20250627T123000
DTEND;TZID=Europe/Amsterdam:20250627T141500
DTSTAMP:20260421T112211
CREATED:20250331T184813Z
LAST-MODIFIED:20250331T185506Z
UID:10005109-1751027400-1751033700@www.scharnegoutum.nl
SUMMARY:CBS Op'e Hichte
DESCRIPTION:
URL:https://www.scharnegoutum.nl/agenda/cbs-ope-hichte-26/2025-06-27/
LOCATION:Dorpshuis\, Legedyk 43\, Scharnegoutum\, Friesland\, 8629RL\, Nederland
CATEGORIES:Podium Zaal
END:VEVENT
END:VCALENDAR