BEGIN:VCALENDAR
VERSION:2.0
PRODID:-//Scharnegoutum | Skearnegoutum - ECPv6.15.20//NONSGML v1.0//EN
CALSCALE:GREGORIAN
METHOD:PUBLISH
X-ORIGINAL-URL:https://www.scharnegoutum.nl
X-WR-CALDESC:Evenementen voor Scharnegoutum | Skearnegoutum
REFRESH-INTERVAL;VALUE=DURATION:PT1H
X-Robots-Tag:noindex
X-PUBLISHED-TTL:PT1H
BEGIN:VTIMEZONE
TZID:Europe/Amsterdam
BEGIN:DAYLIGHT
TZOFFSETFROM:+0100
TZOFFSETTO:+0200
TZNAME:CEST
DTSTART:20240331T010000
END:DAYLIGHT
BEGIN:STANDARD
TZOFFSETFROM:+0200
TZOFFSETTO:+0100
TZNAME:CET
DTSTART:20241027T010000
END:STANDARD
BEGIN:DAYLIGHT
TZOFFSETFROM:+0100
TZOFFSETTO:+0200
TZNAME:CEST
DTSTART:20250330T010000
END:DAYLIGHT
BEGIN:STANDARD
TZOFFSETFROM:+0200
TZOFFSETTO:+0100
TZNAME:CET
DTSTART:20251026T010000
END:STANDARD
BEGIN:DAYLIGHT
TZOFFSETFROM:+0100
TZOFFSETTO:+0200
TZNAME:CEST
DTSTART:20260329T010000
END:DAYLIGHT
BEGIN:STANDARD
TZOFFSETFROM:+0200
TZOFFSETTO:+0100
TZNAME:CET
DTSTART:20261025T010000
END:STANDARD
END:VTIMEZONE
BEGIN:VEVENT
DTSTART;TZID=Europe/Amsterdam:20251014T093000
DTEND;TZID=Europe/Amsterdam:20251014T103000
DTSTAMP:20260422T031142
CREATED:20250816T185736Z
LAST-MODIFIED:20250816T185737Z
UID:10006520-1760434200-1760437800@www.scharnegoutum.nl
SUMMARY:Yin Yoga
DESCRIPTION:Beste deelnemers aan de yoga en stoelyogalessen in Scharnegoutum. De vakanties zijn bijna voorbij en hopelijk hebben jullie een heerlijke zomer (die nog niet voorbij is). \nVoor de yin yoga zijn nog een paar matjes vrij. Heb je interesse? Dan kun je op dinsdag 26/8 meedoen met de proefles. Deze start om 09.30 en duurt 1 uur. \nVoor de stoelfit lessen (yoga\, ademhaling\, dans en beweging op en rond de stoel) zijn voor komend seizoen ook nog enkele stoelen vrij! \nDe proefles is op dinsdag 26/8\, om 10.45 en de les duurt een uur. \nLesblok 3 start dinsdag 2 september a.s.\ndit zijn 12 lessen van een uur per keer en zijn tot half december. \nVoor meer informatie mag je een mail sturen naar leeuwinnenkracht@gmail.com \nDe lessen worden gegeven door Carla van der Veen\, gecertificeerd yin yoga- en stoelyoga docent .
URL:https://www.scharnegoutum.nl/agenda/yin-yoga-15-2/2025-10-14/
LOCATION:Dorpshuis\, Legedyk 43\, Scharnegoutum\, Friesland\, 8629RL\, Nederland
CATEGORIES:Midden Zaal
END:VEVENT
BEGIN:VEVENT
DTSTART;TZID=Europe/Amsterdam:20251014T104500
DTEND;TZID=Europe/Amsterdam:20251014T114500
DTSTAMP:20260422T031142
CREATED:20250818T190018Z
LAST-MODIFIED:20250818T190020Z
UID:10006604-1760438700-1760442300@www.scharnegoutum.nl
SUMMARY:Stoelfit voor ouderen
DESCRIPTION:Beste deelnemers aan de yoga en stoelyogalessen in Scharnegoutum. De vakanties zijn bijna voorbij en hopelijk hebben jullie een heerlijke zomer (die nog niet voorbij is). \nVoor de yin yoga zijn nog een paar matjes vrij. Heb je interesse? Dan kun je op dinsdag 26/8 meedoen met de proefles. Deze start om 09.30 en duurt 1 uur. \nVoor de stoelfit lessen (yoga\, ademhaling\, dans en beweging op en rond de stoel) zijn voor komend seizoen ook nog enkele stoelen vrij! \nDe proefles is op dinsdag 26/8\, om 10.45 en de les duurt een uur. \nLesblok 3 start dinsdag 2 september a.s.\ndit zijn 12 lessen van een uur per keer en zijn tot half december. \nVoor meer informatie mag je een mail sturen naar leeuwinnenkracht@gmail.com \nDe lessen worden gegeven door Carla van der Veen\, gecertificeerd yin yoga- en stoelyoga docent .
URL:https://www.scharnegoutum.nl/agenda/stoelfit-voor-ouderen-13-2/2025-10-14/
LOCATION:Dorpshuis\, Legedyk 43\, Scharnegoutum\, Friesland\, 8629RL\, Nederland
CATEGORIES:Midden Zaal
END:VEVENT
BEGIN:VEVENT
DTSTART;TZID=Europe/Amsterdam:20251014T191500
DTEND;TZID=Europe/Amsterdam:20251014T210000
DTSTAMP:20260422T031142
CREATED:20250818T191737Z
LAST-MODIFIED:20250818T191737Z
UID:10006737-1760469300-1760475600@www.scharnegoutum.nl
SUMMARY:Vergadering GGD Fryslân\, regio Zuidwest
DESCRIPTION:
URL:https://www.scharnegoutum.nl/agenda/vergadering-ggd-fryslan-regio-zuidwest/
LOCATION:Dorpshuis\, Legedyk 43\, Scharnegoutum\, Friesland\, 8629RL\, Nederland
CATEGORIES:Midden Zaal
END:VEVENT
BEGIN:VEVENT
DTSTART;TZID=Europe/Amsterdam:20251015T120000
DTEND;TZID=Europe/Amsterdam:20251015T133000
DTSTAMP:20260422T031142
CREATED:20251009T181519Z
LAST-MODIFIED:20251009T182018Z
UID:10006915-1760529600-1760535000@www.scharnegoutum.nl
SUMMARY:Bijeenkomst Huisartsen & Fysio Wymbrits
DESCRIPTION:
URL:https://www.scharnegoutum.nl/agenda/bijeenkomst-huisartsen-fysio-wymbrits/
LOCATION:Dorpshuis\, Legedyk 43\, Scharnegoutum\, Friesland\, 8629RL\, Nederland
CATEGORIES:Midden Zaal
END:VEVENT
BEGIN:VEVENT
DTSTART;TZID=Europe/Amsterdam:20251015T150000
DTEND;TZID=Europe/Amsterdam:20251015T163000
DTSTAMP:20260422T031142
CREATED:20250918T182959Z
LAST-MODIFIED:20250918T183000Z
UID:10006798-1760540400-1760545800@www.scharnegoutum.nl
SUMMARY:Fysio Wymbrits "cursus valpreventie"
DESCRIPTION:
URL:https://www.scharnegoutum.nl/agenda/fysio-wymbrits-cursus-valpreventie-5/
LOCATION:Dorpshuis\, Legedyk 43\, Scharnegoutum\, Friesland\, 8629RL\, Nederland
CATEGORIES:Midden Zaal
END:VEVENT
BEGIN:VEVENT
DTSTART;TZID=Europe/Amsterdam:20251017T100000
DTEND;TZID=Europe/Amsterdam:20251017T120000
DTSTAMP:20260422T031142
CREATED:20250903T190325Z
LAST-MODIFIED:20250904T190025Z
UID:10006866-1760695200-1760702400@www.scharnegoutum.nl
SUMMARY:Fysio Wymbrits "cursus valpreventie"
DESCRIPTION:
URL:https://www.scharnegoutum.nl/agenda/fysio-wymbrits-cursus-valpreventie-2/2025-10-17/
LOCATION:Dorpshuis\, Legedyk 43\, Scharnegoutum\, Friesland\, 8629RL\, Nederland
CATEGORIES:Midden Zaal
END:VEVENT
END:VCALENDAR