BEGIN:VCALENDAR
VERSION:2.0
PRODID:-//Scharnegoutum | Skearnegoutum - ECPv6.15.20//NONSGML v1.0//EN
CALSCALE:GREGORIAN
METHOD:PUBLISH
X-ORIGINAL-URL:https://www.scharnegoutum.nl
X-WR-CALDESC:Evenementen voor Scharnegoutum | Skearnegoutum
REFRESH-INTERVAL;VALUE=DURATION:PT1H
X-Robots-Tag:noindex
X-PUBLISHED-TTL:PT1H
BEGIN:VTIMEZONE
TZID:Europe/Amsterdam
BEGIN:DAYLIGHT
TZOFFSETFROM:+0100
TZOFFSETTO:+0200
TZNAME:CEST
DTSTART:20240331T010000
END:DAYLIGHT
BEGIN:STANDARD
TZOFFSETFROM:+0200
TZOFFSETTO:+0100
TZNAME:CET
DTSTART:20241027T010000
END:STANDARD
BEGIN:DAYLIGHT
TZOFFSETFROM:+0100
TZOFFSETTO:+0200
TZNAME:CEST
DTSTART:20250330T010000
END:DAYLIGHT
BEGIN:STANDARD
TZOFFSETFROM:+0200
TZOFFSETTO:+0100
TZNAME:CET
DTSTART:20251026T010000
END:STANDARD
BEGIN:DAYLIGHT
TZOFFSETFROM:+0100
TZOFFSETTO:+0200
TZNAME:CEST
DTSTART:20260329T010000
END:DAYLIGHT
BEGIN:STANDARD
TZOFFSETFROM:+0200
TZOFFSETTO:+0100
TZNAME:CET
DTSTART:20261025T010000
END:STANDARD
END:VTIMEZONE
BEGIN:VEVENT
DTSTART;TZID=Europe/Amsterdam:20250520T093000
DTEND;TZID=Europe/Amsterdam:20250520T103000
DTSTAMP:20260422T103625
CREATED:20250323T203037Z
LAST-MODIFIED:20250323T203037Z
UID:10005961-1747733400-1747737000@www.scharnegoutum.nl
SUMMARY:Yin Yoga
DESCRIPTION:
URL:https://www.scharnegoutum.nl/agenda/yin-yoga-13/2025-05-20/
LOCATION:Dorpshuis\, Legedyk 43\, Scharnegoutum\, Friesland\, 8629RL\, Nederland
CATEGORIES:Midden Zaal
END:VEVENT
BEGIN:VEVENT
DTSTART;TZID=Europe/Amsterdam:20250520T093000
DTEND;TZID=Europe/Amsterdam:20250520T103000
DTSTAMP:20260422T103625
CREATED:20250705T130339Z
LAST-MODIFIED:20250705T130339Z
UID:10005972-1747733400-1747737000@www.scharnegoutum.nl
SUMMARY:Yin Yoga
DESCRIPTION:
URL:https://www.scharnegoutum.nl/agenda/yin-yoga-13/2025-05-20/
LOCATION:Dorpshuis\, Legedyk 43\, Scharnegoutum\, Friesland\, 8629RL\, Nederland
CATEGORIES:Midden Zaal
END:VEVENT
BEGIN:VEVENT
DTSTART;TZID=Europe/Amsterdam:20250520T093000
DTEND;TZID=Europe/Amsterdam:20250520T103000
DTSTAMP:20260422T103625
CREATED:20250705T130340Z
LAST-MODIFIED:20250705T130340Z
UID:10005979-1747733400-1747737000@www.scharnegoutum.nl
SUMMARY:Yin Yoga
DESCRIPTION:
URL:https://www.scharnegoutum.nl/agenda/yin-yoga-13/2025-05-20/
LOCATION:Dorpshuis\, Legedyk 43\, Scharnegoutum\, Friesland\, 8629RL\, Nederland
CATEGORIES:Midden Zaal
END:VEVENT
BEGIN:VEVENT
DTSTART;TZID=Europe/Amsterdam:20250520T093000
DTEND;TZID=Europe/Amsterdam:20250520T103000
DTSTAMP:20260422T103625
CREATED:20250705T130341Z
LAST-MODIFIED:20250705T130341Z
UID:10005995-1747733400-1747737000@www.scharnegoutum.nl
SUMMARY:Yin Yoga
DESCRIPTION:
URL:https://www.scharnegoutum.nl/agenda/yin-yoga-13/2025-05-20/
LOCATION:Dorpshuis\, Legedyk 43\, Scharnegoutum\, Friesland\, 8629RL\, Nederland
CATEGORIES:Midden Zaal
END:VEVENT
BEGIN:VEVENT
DTSTART;TZID=Europe/Amsterdam:20250520T093000
DTEND;TZID=Europe/Amsterdam:20250520T103000
DTSTAMP:20260422T103626
CREATED:20250705T130342Z
LAST-MODIFIED:20250705T130342Z
UID:10006008-1747733400-1747737000@www.scharnegoutum.nl
SUMMARY:Yin Yoga
DESCRIPTION:
URL:https://www.scharnegoutum.nl/agenda/yin-yoga-13/2025-05-20/
LOCATION:Dorpshuis\, Legedyk 43\, Scharnegoutum\, Friesland\, 8629RL\, Nederland
CATEGORIES:Midden Zaal
END:VEVENT
BEGIN:VEVENT
DTSTART;TZID=Europe/Amsterdam:20250520T104500
DTEND;TZID=Europe/Amsterdam:20250520T114500
DTSTAMP:20260422T103626
CREATED:20250323T203526Z
LAST-MODIFIED:20250323T203526Z
UID:10005987-1747737900-1747741500@www.scharnegoutum.nl
SUMMARY:Stoelfit voor ouderen
DESCRIPTION:
URL:https://www.scharnegoutum.nl/agenda/stoelfit-voor-ouderen-12/2025-05-20/
LOCATION:Dorpshuis\, Legedyk 43\, Scharnegoutum\, Friesland\, 8629RL\, Nederland
CATEGORIES:Midden Zaal
END:VEVENT
BEGIN:VEVENT
DTSTART;TZID=Europe/Amsterdam:20250520T104500
DTEND;TZID=Europe/Amsterdam:20250520T114500
DTSTAMP:20260422T103626
CREATED:20250705T130341Z
LAST-MODIFIED:20250705T130341Z
UID:10006001-1747737900-1747741500@www.scharnegoutum.nl
SUMMARY:Stoelfit voor ouderen
DESCRIPTION:
URL:https://www.scharnegoutum.nl/agenda/stoelfit-voor-ouderen-12/2025-05-20/
LOCATION:Dorpshuis\, Legedyk 43\, Scharnegoutum\, Friesland\, 8629RL\, Nederland
CATEGORIES:Midden Zaal
END:VEVENT
BEGIN:VEVENT
DTSTART;TZID=Europe/Amsterdam:20250520T104500
DTEND;TZID=Europe/Amsterdam:20250520T114500
DTSTAMP:20260422T103626
CREATED:20250705T130342Z
LAST-MODIFIED:20250705T130342Z
UID:10006013-1747737900-1747741500@www.scharnegoutum.nl
SUMMARY:Stoelfit voor ouderen
DESCRIPTION:
URL:https://www.scharnegoutum.nl/agenda/stoelfit-voor-ouderen-12/2025-05-20/
LOCATION:Dorpshuis\, Legedyk 43\, Scharnegoutum\, Friesland\, 8629RL\, Nederland
CATEGORIES:Midden Zaal
END:VEVENT
BEGIN:VEVENT
DTSTART;TZID=Europe/Amsterdam:20250520T104500
DTEND;TZID=Europe/Amsterdam:20250520T114500
DTSTAMP:20260422T103626
CREATED:20250705T130343Z
LAST-MODIFIED:20250705T130343Z
UID:10006024-1747737900-1747741500@www.scharnegoutum.nl
SUMMARY:Stoelfit voor ouderen
DESCRIPTION:
URL:https://www.scharnegoutum.nl/agenda/stoelfit-voor-ouderen-12/2025-05-20/
LOCATION:Dorpshuis\, Legedyk 43\, Scharnegoutum\, Friesland\, 8629RL\, Nederland
CATEGORIES:Midden Zaal
END:VEVENT
BEGIN:VEVENT
DTSTART;TZID=Europe/Amsterdam:20250520T104500
DTEND;TZID=Europe/Amsterdam:20250520T114500
DTSTAMP:20260422T103626
CREATED:20250705T130344Z
LAST-MODIFIED:20250705T130344Z
UID:10006033-1747737900-1747741500@www.scharnegoutum.nl
SUMMARY:Stoelfit voor ouderen
DESCRIPTION:
URL:https://www.scharnegoutum.nl/agenda/stoelfit-voor-ouderen-12/2025-05-20/
LOCATION:Dorpshuis\, Legedyk 43\, Scharnegoutum\, Friesland\, 8629RL\, Nederland
CATEGORIES:Midden Zaal
END:VEVENT
END:VCALENDAR