BEGIN:VCALENDAR
VERSION:2.0
PRODID:-//Scharnegoutum | Skearnegoutum - ECPv6.15.20//NONSGML v1.0//EN
CALSCALE:GREGORIAN
METHOD:PUBLISH
X-ORIGINAL-URL:https://www.scharnegoutum.nl
X-WR-CALDESC:Evenementen voor Scharnegoutum | Skearnegoutum
REFRESH-INTERVAL;VALUE=DURATION:PT1H
X-Robots-Tag:noindex
X-PUBLISHED-TTL:PT1H
BEGIN:VTIMEZONE
TZID:Europe/Amsterdam
BEGIN:DAYLIGHT
TZOFFSETFROM:+0100
TZOFFSETTO:+0200
TZNAME:CEST
DTSTART:20230326T010000
END:DAYLIGHT
BEGIN:STANDARD
TZOFFSETFROM:+0200
TZOFFSETTO:+0100
TZNAME:CET
DTSTART:20231029T010000
END:STANDARD
BEGIN:DAYLIGHT
TZOFFSETFROM:+0100
TZOFFSETTO:+0200
TZNAME:CEST
DTSTART:20240331T010000
END:DAYLIGHT
BEGIN:STANDARD
TZOFFSETFROM:+0200
TZOFFSETTO:+0100
TZNAME:CET
DTSTART:20241027T010000
END:STANDARD
BEGIN:DAYLIGHT
TZOFFSETFROM:+0100
TZOFFSETTO:+0200
TZNAME:CEST
DTSTART:20250330T010000
END:DAYLIGHT
BEGIN:STANDARD
TZOFFSETFROM:+0200
TZOFFSETTO:+0100
TZNAME:CET
DTSTART:20251026T010000
END:STANDARD
BEGIN:DAYLIGHT
TZOFFSETFROM:+0100
TZOFFSETTO:+0200
TZNAME:CEST
DTSTART:20260329T010000
END:DAYLIGHT
BEGIN:STANDARD
TZOFFSETFROM:+0200
TZOFFSETTO:+0100
TZNAME:CET
DTSTART:20261025T010000
END:STANDARD
END:VTIMEZONE
BEGIN:VEVENT
DTSTART;TZID=Europe/Amsterdam:20250626T153000
DTEND;TZID=Europe/Amsterdam:20250626T183000
DTSTAMP:20260420T070601
CREATED:20240530T182539Z
LAST-MODIFIED:20250331T181317Z
UID:10005692-1750951800-1750962600@www.scharnegoutum.nl
SUMMARY:muziekles
DESCRIPTION:
URL:https://www.scharnegoutum.nl/agenda/muziekles-16-2024-09-12-2025-06-26/
LOCATION:Dorpshuis\, Legedyk 43\, Scharnegoutum\, Friesland\, 8629RL\, Nederland
CATEGORIES:Midden Zaal
END:VEVENT
BEGIN:VEVENT
DTSTART;TZID=Europe/Amsterdam:20250621T093000
DTEND;TZID=Europe/Amsterdam:20250621T120000
DTSTAMP:20260420T070601
CREATED:20250430T162217Z
LAST-MODIFIED:20250615T105945Z
UID:10006079-1750498200-1750507200@www.scharnegoutum.nl
SUMMARY:ZomerkoorJan Brens
DESCRIPTION:
URL:https://www.scharnegoutum.nl/agenda/zomerorkest-jan-brens/
LOCATION:Dorpshuis\, Legedyk 43\, Scharnegoutum\, Friesland\, 8629RL\, Nederland
CATEGORIES:Midden Zaal
END:VEVENT
BEGIN:VEVENT
DTSTART;TZID=Europe/Amsterdam:20250619T153000
DTEND;TZID=Europe/Amsterdam:20250619T183000
DTSTAMP:20260420T070601
CREATED:20240530T182539Z
LAST-MODIFIED:20250331T181017Z
UID:10005691-1750347000-1750357800@www.scharnegoutum.nl
SUMMARY:muziekles
DESCRIPTION:
URL:https://www.scharnegoutum.nl/agenda/muziekles-16-2025-06-19/
LOCATION:Dorpshuis\, Legedyk 43\, Scharnegoutum\, Friesland\, 8629RL\, Nederland
CATEGORIES:Midden Zaal
END:VEVENT
BEGIN:VEVENT
DTSTART;TZID=Europe/Amsterdam:20250617T104500
DTEND;TZID=Europe/Amsterdam:20250617T114500
DTSTAMP:20260420T070601
CREATED:20250323T203526Z
LAST-MODIFIED:20250323T203526Z
UID:10005990-1750157100-1750160700@www.scharnegoutum.nl
SUMMARY:Stoelfit voor ouderen
DESCRIPTION:
URL:https://www.scharnegoutum.nl/agenda/stoelfit-voor-ouderen-12/2025-06-17/
LOCATION:Dorpshuis\, Legedyk 43\, Scharnegoutum\, Friesland\, 8629RL\, Nederland
CATEGORIES:Midden Zaal
END:VEVENT
BEGIN:VEVENT
DTSTART;TZID=Europe/Amsterdam:20250617T093000
DTEND;TZID=Europe/Amsterdam:20250617T103000
DTSTAMP:20260420T070601
CREATED:20250323T203211Z
LAST-MODIFIED:20250323T203211Z
UID:10005967-1750152600-1750156200@www.scharnegoutum.nl
SUMMARY:Yin Yoga
DESCRIPTION:
URL:https://www.scharnegoutum.nl/agenda/yin-yoga-14/
LOCATION:Dorpshuis\, Legedyk 43\, Scharnegoutum\, Friesland\, 8629RL\, Nederland
CATEGORIES:Midden Zaal
END:VEVENT
BEGIN:VEVENT
DTSTART;TZID=Europe/Amsterdam:20250614T093000
DTEND;TZID=Europe/Amsterdam:20250614T120000
DTSTAMP:20260420T070601
CREATED:20250430T162058Z
LAST-MODIFIED:20250608T111758Z
UID:10006078-1749893400-1749902400@www.scharnegoutum.nl
SUMMARY:Zomerkoor Jan Brens
DESCRIPTION:
URL:https://www.scharnegoutum.nl/agenda/zomerkoor-jan-brens/2025-06-14/
LOCATION:Dorpshuis\, Legedyk 43\, Scharnegoutum\, Friesland\, 8629RL\, Nederland
CATEGORIES:Midden Zaal
END:VEVENT
BEGIN:VEVENT
DTSTART;TZID=Europe/Amsterdam:20250515T141500
DTEND;TZID=Europe/Amsterdam:20250515T161500
DTSTAMP:20260420T070601
CREATED:20250416T180934Z
LAST-MODIFIED:20250416T180934Z
UID:10006076-1747318500-1747325700@www.scharnegoutum.nl
SUMMARY:Fysio Wymbrits "val preventie"
DESCRIPTION:
URL:https://www.scharnegoutum.nl/agenda/fysio-wymbrits-val-preventie/
LOCATION:Dorpshuis\, Legedyk 43\, Scharnegoutum\, Friesland\, 8629RL\, Nederland
CATEGORIES:Midden Zaal
END:VEVENT
BEGIN:VEVENT
DTSTART;TZID=Europe/Amsterdam:20250512T153000
DTEND;TZID=Europe/Amsterdam:20250512T173000
DTSTAMP:20260420T070601
CREATED:20250225T175821Z
LAST-MODIFIED:20250225T175821Z
UID:10005086-1747063800-1747071000@www.scharnegoutum.nl
SUMMARY:Fysio Wymbrits "valpreventie"
DESCRIPTION:
URL:https://www.scharnegoutum.nl/agenda/fysio-wymbrits-valpreventie-2/2025-05-12/
LOCATION:Dorpshuis\, Legedyk 43\, Scharnegoutum\, Friesland\, 8629RL\, Nederland
CATEGORIES:Midden Zaal
END:VEVENT
BEGIN:VEVENT
DTSTART;TZID=Europe/Amsterdam:20250508T133000
DTEND;TZID=Europe/Amsterdam:20250508T153000
DTSTAMP:20260420T070601
CREATED:20250225T175544Z
LAST-MODIFIED:20250225T175544Z
UID:10005075-1746711000-1746718200@www.scharnegoutum.nl
SUMMARY:Fysio Wymbrits "valpreventie"
DESCRIPTION:
URL:https://www.scharnegoutum.nl/agenda/fysio-wymbrits-valpreventie/2025-05-08/
LOCATION:Dorpshuis\, Legedyk 43\, Scharnegoutum\, Friesland\, 8629RL\, Nederland
CATEGORIES:Midden Zaal
END:VEVENT
BEGIN:VEVENT
DTSTART;TZID=Europe/Amsterdam:20250505T131500
DTEND;TZID=Europe/Amsterdam:20250505T151500
DTSTAMP:20260420T070601
CREATED:20250225T175821Z
LAST-MODIFIED:20250416T175909Z
UID:10005089-1746450900-1746458100@www.scharnegoutum.nl
SUMMARY:Fysio Wymbrits "valpreventie"
DESCRIPTION:
URL:https://www.scharnegoutum.nl/agenda/fysio-wymbrits-valpreventie-2-2025-05-05/
LOCATION:Dorpshuis\, Legedyk 43\, Scharnegoutum\, Friesland\, 8629RL\, Nederland
CATEGORIES:Midden Zaal
END:VEVENT
BEGIN:VEVENT
DTSTART;TZID=Europe/Amsterdam:20250427T140000
DTEND;TZID=Europe/Amsterdam:20250427T153000
DTSTAMP:20260420T070601
CREATED:20250406T072459Z
LAST-MODIFIED:20250406T072459Z
UID:10005131-1745762400-1745767800@www.scharnegoutum.nl
SUMMARY:Fries Blazers Ensemble
DESCRIPTION:
URL:https://www.scharnegoutum.nl/agenda/fries-blazers-ensemble-4/
LOCATION:Dorpshuis\, Legedyk 43\, Scharnegoutum\, Friesland\, 8629RL\, Nederland
CATEGORIES:Midden Zaal
END:VEVENT
BEGIN:VEVENT
DTSTART;TZID=Europe/Amsterdam:20250424T190000
DTEND;TZID=Europe/Amsterdam:20250424T223000
DTSTAMP:20260420T070601
CREATED:20250211T174522Z
LAST-MODIFIED:20250211T174522Z
UID:10005061-1745521200-1745533800@www.scharnegoutum.nl
SUMMARY:Swettewyn
DESCRIPTION:
URL:https://www.scharnegoutum.nl/agenda/swettewyn-8/
LOCATION:Dorpshuis\, Legedyk 43\, Scharnegoutum\, Friesland\, 8629RL\, Nederland
CATEGORIES:Midden Zaal
END:VEVENT
BEGIN:VEVENT
DTSTART;TZID=Europe/Amsterdam:20250422T200000
DTEND;TZID=Europe/Amsterdam:20250422T220000
DTSTAMP:20260420T070601
CREATED:20241009T164304Z
LAST-MODIFIED:20250114T192722Z
UID:10005808-1745352000-1745359200@www.scharnegoutum.nl
SUMMARY:Jaarvergadering De Laatste Eer
DESCRIPTION:
URL:https://www.scharnegoutum.nl/agenda/jaarvergadering-de-laatste-eer-3/
LOCATION:Dorpshuis\, Legedyk 43\, Scharnegoutum\, Friesland\, 8629RL\, Nederland
CATEGORIES:Midden Zaal
END:VEVENT
BEGIN:VEVENT
DTSTART;TZID=Europe/Amsterdam:20250415T193000
DTEND;TZID=Europe/Amsterdam:20250415T223000
DTSTAMP:20260420T070601
CREATED:20250328T191129Z
LAST-MODIFIED:20250403T174017Z
UID:10006049-1744745400-1744756200@www.scharnegoutum.nl
SUMMARY:Natuerstichting
DESCRIPTION:
URL:https://www.scharnegoutum.nl/agenda/natuerstichting-4/
LOCATION:Dorpshuis\, Legedyk 43\, Scharnegoutum\, Friesland\, 8629RL\, Nederland
CATEGORIES:Midden Zaal
END:VEVENT
BEGIN:VEVENT
DTSTART;TZID=Europe/Amsterdam:20250411T193000
DTEND;TZID=Europe/Amsterdam:20250411T230000
DTSTAMP:20260420T070601
CREATED:20240519T090243Z
LAST-MODIFIED:20240519T090407Z
UID:10005529-1744399800-1744412400@www.scharnegoutum.nl
SUMMARY:Maatklaverjassen
DESCRIPTION:
URL:https://www.scharnegoutum.nl/agenda/maatklaverjassen-9/2025-04-11/
LOCATION:Dorpshuis\, Legedyk 43\, Scharnegoutum\, Friesland\, 8629RL\, Nederland
CATEGORIES:Midden Zaal
END:VEVENT
BEGIN:VEVENT
DTSTART;TZID=Europe/Amsterdam:20250410T191500
DTEND;TZID=Europe/Amsterdam:20250410T220000
DTSTAMP:20260420T070601
CREATED:20250131T192834Z
LAST-MODIFIED:20250131T193249Z
UID:10005938-1744312500-1744322400@www.scharnegoutum.nl
SUMMARY:VVE Vergadering Magna Fossa
DESCRIPTION:
URL:https://www.scharnegoutum.nl/agenda/vve-vergadering-magnafossa/
LOCATION:Dorpshuis\, Legedyk 43\, Scharnegoutum\, Friesland\, 8629RL\, Nederland
CATEGORIES:Midden Zaal
END:VEVENT
BEGIN:VEVENT
DTSTART;TZID=Europe/Amsterdam:20250409T193000
DTEND;TZID=Europe/Amsterdam:20250409T223000
DTSTAMP:20260420T070601
CREATED:20250123T165138Z
LAST-MODIFIED:20250123T165303Z
UID:10005935-1744227000-1744237800@www.scharnegoutum.nl
SUMMARY:Algemene ledenvergadering Dorpsbelang
DESCRIPTION:
URL:https://www.scharnegoutum.nl/agenda/algemene-ledenvergadering-dorpsbelang/
LOCATION:Dorpshuis\, Legedyk 43\, Scharnegoutum\, Friesland\, 8629RL\, Nederland
CATEGORIES:Midden Zaal
END:VEVENT
BEGIN:VEVENT
DTSTART;TZID=Europe/Amsterdam:20250405T130000
DTEND;TZID=Europe/Amsterdam:20250405T160000
DTSTAMP:20260420T070601
CREATED:20250328T185211Z
LAST-MODIFIED:20250328T185211Z
UID:10006048-1743858000-1743868800@www.scharnegoutum.nl
SUMMARY:EHBO Cursus RTC Rally
DESCRIPTION:
URL:https://www.scharnegoutum.nl/agenda/ehbo-cursus-rtc-rally/
LOCATION:Dorpshuis\, Legedyk 43\, Scharnegoutum\, Friesland\, 8629RL\, Nederland
CATEGORIES:Midden Zaal
END:VEVENT
BEGIN:VEVENT
DTSTART;TZID=Europe/Amsterdam:20250403T153000
DTEND;TZID=Europe/Amsterdam:20250403T183000
DTSTAMP:20260420T070601
CREATED:20240530T182539Z
LAST-MODIFIED:20250324T180759Z
UID:10005690-1743694200-1743705000@www.scharnegoutum.nl
SUMMARY:muziekles
DESCRIPTION:
URL:https://www.scharnegoutum.nl/agenda/muziekles-16-2025-04-03/
LOCATION:Dorpshuis\, Legedyk 43\, Scharnegoutum\, Friesland\, 8629RL\, Nederland
CATEGORIES:Midden Zaal
END:VEVENT
BEGIN:VEVENT
DTSTART;TZID=Europe/Amsterdam:20250401T104500
DTEND;TZID=Europe/Amsterdam:20250401T114500
DTSTAMP:20260420T070601
CREATED:20250121T193339Z
LAST-MODIFIED:20250121T193339Z
UID:10005933-1743504300-1743507900@www.scharnegoutum.nl
SUMMARY:Stoelfit voor ouderen
DESCRIPTION:
URL:https://www.scharnegoutum.nl/agenda/stoelfit-voor-ouderen-10/2025-04-01/
LOCATION:Dorpshuis\, Legedyk 43\, Scharnegoutum\, Friesland\, 8629RL\, Nederland
CATEGORIES:Midden Zaal
END:VEVENT
BEGIN:VEVENT
DTSTART;TZID=Europe/Amsterdam:20250401T093000
DTEND;TZID=Europe/Amsterdam:20250401T103000
DTSTAMP:20260420T070601
CREATED:20250121T192919Z
LAST-MODIFIED:20250121T192919Z
UID:10005927-1743499800-1743503400@www.scharnegoutum.nl
SUMMARY:Yin Yoga
DESCRIPTION:
URL:https://www.scharnegoutum.nl/agenda/yin-yoga-11/2025-04-01/
LOCATION:Dorpshuis\, Legedyk 43\, Scharnegoutum\, Friesland\, 8629RL\, Nederland
CATEGORIES:Midden Zaal
END:VEVENT
BEGIN:VEVENT
DTSTART;TZID=Europe/Amsterdam:20250326T100000
DTEND;TZID=Europe/Amsterdam:20250326T120000
DTSTAMP:20260420T070601
CREATED:20241203T183327Z
LAST-MODIFIED:20241203T183327Z
UID:10005827-1742983200-1742990400@www.scharnegoutum.nl
SUMMARY:Rondom 10
DESCRIPTION:
URL:https://www.scharnegoutum.nl/agenda/rondom-10-5/
LOCATION:Dorpshuis\, Legedyk 43\, Scharnegoutum\, Friesland\, 8629RL\, Nederland
CATEGORIES:Midden Zaal
END:VEVENT
BEGIN:VEVENT
DTSTART;TZID=Europe/Amsterdam:20250314T193000
DTEND;TZID=Europe/Amsterdam:20250314T230000
DTSTAMP:20260420T070601
CREATED:20240519T090054Z
LAST-MODIFIED:20240519T090054Z
UID:10005527-1741980600-1741993200@www.scharnegoutum.nl
SUMMARY:Klaverjassen
DESCRIPTION:
URL:https://www.scharnegoutum.nl/agenda/klaverjassen-16/2025-03-14/
LOCATION:Dorpshuis\, Legedyk 43\, Scharnegoutum\, Friesland\, 8629RL\, Nederland
CATEGORIES:Midden Zaal
END:VEVENT
BEGIN:VEVENT
DTSTART;TZID=Europe/Amsterdam:20250305T100000
DTEND;TZID=Europe/Amsterdam:20250305T120000
DTSTAMP:20260420T070601
CREATED:20241103T182646Z
LAST-MODIFIED:20241103T182646Z
UID:10005820-1741168800-1741176000@www.scharnegoutum.nl
SUMMARY:Rondom 10
DESCRIPTION:
URL:https://www.scharnegoutum.nl/agenda/rondom-10-4/2025-03-05/
LOCATION:Dorpshuis\, Legedyk 43\, Scharnegoutum\, Friesland\, 8629RL\, Nederland
CATEGORIES:Midden Zaal
END:VEVENT
BEGIN:VEVENT
DTSTART;TZID=Europe/Amsterdam:20250211T104500
DTEND;TZID=Europe/Amsterdam:20250211T114500
DTSTAMP:20260420T070601
CREATED:20241226T171159Z
LAST-MODIFIED:20241226T171159Z
UID:10005911-1739270700-1739274300@www.scharnegoutum.nl
SUMMARY:Stoelfit voor ouderen
DESCRIPTION:
URL:https://www.scharnegoutum.nl/agenda/stoelfit-voor-ouderen-9/2025-02-11/
LOCATION:Dorpshuis\, Legedyk 43\, Scharnegoutum\, Friesland\, 8629RL\, Nederland
CATEGORIES:Midden Zaal
END:VEVENT
BEGIN:VEVENT
DTSTART;TZID=Europe/Amsterdam:20250211T093000
DTEND;TZID=Europe/Amsterdam:20250211T103000
DTSTAMP:20260420T070601
CREATED:20241226T171100Z
LAST-MODIFIED:20250107T190720Z
UID:10005905-1739266200-1739269800@www.scharnegoutum.nl
SUMMARY:Yin Yoga
DESCRIPTION:
URL:https://www.scharnegoutum.nl/agenda/yoga-4/2025-02-11/
LOCATION:Dorpshuis\, Legedyk 43\, Scharnegoutum\, Friesland\, 8629RL\, Nederland
CATEGORIES:Midden Zaal
END:VEVENT
BEGIN:VEVENT
DTSTART;TZID=Europe/Amsterdam:20250210T170000
DTEND;TZID=Europe/Amsterdam:20250210T180000
DTSTAMP:20260420T070601
CREATED:20250204T175151Z
LAST-MODIFIED:20250204T175351Z
UID:10005051-1739206800-1739210400@www.scharnegoutum.nl
SUMMARY:Uitvaartbijeenkomst
DESCRIPTION:
URL:https://www.scharnegoutum.nl/agenda/uitvaartbijeenkomst-18/
LOCATION:Dorpshuis\, Legedyk 43\, Scharnegoutum\, Friesland\, 8629RL\, Nederland
CATEGORIES:Midden Zaal
END:VEVENT
BEGIN:VEVENT
DTSTART;TZID=Europe/Amsterdam:20241211T193000
DTEND;TZID=Europe/Amsterdam:20241211T233000
DTSTAMP:20260420T070601
CREATED:20241124T160639Z
LAST-MODIFIED:20241124T160639Z
UID:10005824-1733945400-1733959800@www.scharnegoutum.nl
SUMMARY:Extra oefenavond Shantykoor
DESCRIPTION:
URL:https://www.scharnegoutum.nl/agenda/extra-oefenavond-shantykoor/
LOCATION:Dorpshuis\, Legedyk 43\, Scharnegoutum\, Friesland\, 8629RL\, Nederland
CATEGORIES:Midden Zaal
END:VEVENT
BEGIN:VEVENT
DTSTART;TZID=Europe/Amsterdam:20241210T104500
DTEND;TZID=Europe/Amsterdam:20241210T114500
DTSTAMP:20260420T070601
CREATED:20240901T150132Z
LAST-MODIFIED:20241022T153540Z
UID:10005783-1733827500-1733831100@www.scharnegoutum.nl
SUMMARY:Stoelyoga voor ouderen
DESCRIPTION:
URL:https://www.scharnegoutum.nl/agenda/stoelyoga-voor-ouderen/2024-12-10/
LOCATION:Dorpshuis\, Legedyk 43\, Scharnegoutum\, Friesland\, 8629RL\, Nederland
CATEGORIES:Midden Zaal
END:VEVENT
BEGIN:VEVENT
DTSTART;TZID=Europe/Amsterdam:20241210T093000
DTEND;TZID=Europe/Amsterdam:20241210T103000
DTSTAMP:20260420T070601
CREATED:20240901T145807Z
LAST-MODIFIED:20241022T153354Z
UID:10005774-1733823000-1733826600@www.scharnegoutum.nl
SUMMARY:Yoga
DESCRIPTION:
URL:https://www.scharnegoutum.nl/agenda/yoga-2/2024-12-10/
LOCATION:Dorpshuis\, Legedyk 43\, Scharnegoutum\, Friesland\, 8629RL\, Nederland
CATEGORIES:Midden Zaal
END:VEVENT
END:VCALENDAR