BEGIN:VCALENDAR
VERSION:2.0
PRODID:-//Scharnegoutum | Skearnegoutum - ECPv6.15.20//NONSGML v1.0//EN
CALSCALE:GREGORIAN
METHOD:PUBLISH
X-ORIGINAL-URL:https://www.scharnegoutum.nl
X-WR-CALDESC:Evenementen voor Scharnegoutum | Skearnegoutum
REFRESH-INTERVAL;VALUE=DURATION:PT1H
X-Robots-Tag:noindex
X-PUBLISHED-TTL:PT1H
BEGIN:VTIMEZONE
TZID:Europe/Amsterdam
BEGIN:DAYLIGHT
TZOFFSETFROM:+0100
TZOFFSETTO:+0200
TZNAME:CEST
DTSTART:20240331T010000
END:DAYLIGHT
BEGIN:STANDARD
TZOFFSETFROM:+0200
TZOFFSETTO:+0100
TZNAME:CET
DTSTART:20241027T010000
END:STANDARD
BEGIN:DAYLIGHT
TZOFFSETFROM:+0100
TZOFFSETTO:+0200
TZNAME:CEST
DTSTART:20250330T010000
END:DAYLIGHT
BEGIN:STANDARD
TZOFFSETFROM:+0200
TZOFFSETTO:+0100
TZNAME:CET
DTSTART:20251026T010000
END:STANDARD
BEGIN:DAYLIGHT
TZOFFSETFROM:+0100
TZOFFSETTO:+0200
TZNAME:CEST
DTSTART:20260329T010000
END:DAYLIGHT
BEGIN:STANDARD
TZOFFSETFROM:+0200
TZOFFSETTO:+0100
TZNAME:CET
DTSTART:20261025T010000
END:STANDARD
END:VTIMEZONE
BEGIN:VEVENT
DTSTART;TZID=Europe/Amsterdam:20251208T190000
DTEND;TZID=Europe/Amsterdam:20251208T223000
DTSTAMP:20260423T000856
CREATED:20250804T061544Z
LAST-MODIFIED:20250907T073146Z
UID:10006119-1765220400-1765233000@www.scharnegoutum.nl
SUMMARY:Fanfare "Swettewyn"
DESCRIPTION:Gegevens:    \n\nWij zijn een Fanfare Korps ontstaan uit het\nsamengaan van Harmonie Sneek en Excelsior\nScharnegoutum. Voor meer informatie op deze\n site het kopje verenigingen/Swettewyn\nWat voor activiteit:       \nmaandagavond is de wekelijkse repetitie \navond.\n\nToegangskosten:     \n\nNVT\n\nKaartenverkoop :    \n\nNVT
URL:https://www.scharnegoutum.nl/agenda/swettewyn-10/2025-12-08/
LOCATION:Dorpshuis\, Legedyk 43\, Scharnegoutum\, Friesland\, 8629RL\, Nederland
CATEGORIES:Grote Zaal
END:VEVENT
BEGIN:VEVENT
DTSTART;TZID=Europe/Amsterdam:20251210T090000
DTEND;TZID=Europe/Amsterdam:20251210T093000
DTSTAMP:20260423T000856
CREATED:20240530T181238Z
LAST-MODIFIED:20240530T181410Z
UID:10005652-1765357200-1765359000@www.scharnegoutum.nl
SUMMARY:bloedprikken
DESCRIPTION:
URL:https://www.scharnegoutum.nl/agenda/bloedprikken-6/2025-12-10/
LOCATION:Dorpshuis\, Legedyk 43\, Scharnegoutum\, Friesland\, 8629RL\, Nederland
CATEGORIES:Grote Zaal
END:VEVENT
BEGIN:VEVENT
DTSTART;TZID=Europe/Amsterdam:20251214T150000
DTEND;TZID=Europe/Amsterdam:20251214T203000
DTSTAMP:20260423T000856
CREATED:20250519T180646Z
LAST-MODIFIED:20250927T112609Z
UID:10006098-1765724400-1765744200@www.scharnegoutum.nl
SUMMARY:Winter bingo
DESCRIPTION:Winterbingo 14 december van 16.00-19.30 uur\nWat voor activiteit: Deze bingo wordt georganiseerd door de activiteiten commissie en is altijd heel gezellig en het hele gezin kan eraan meedoen. We hebben weer mooie prijzen en spelen 5 rondjes. Tussendoor is er een lopend buffet met soep met stokbrood\, salades\, patat\, frikandellen en hamburgers.\nToegangskosten: €10\,00 voor kinderen en volwassenen €17\,50\, max 80 aanmeldingen en vol=vol\nKaartenverkoop: activiteitencommissie@scharnegoutum.nl en aanmelden voor 23 november
URL:https://www.scharnegoutum.nl/agenda/winter-bingo/
LOCATION:Dorpshuis\, Legedyk 43\, Scharnegoutum\, Friesland\, 8629RL\, Nederland
CATEGORIES:Grote Zaal
END:VEVENT
END:VCALENDAR