BEGIN:VCALENDAR
VERSION:2.0
PRODID:-//Scharnegoutum | Skearnegoutum - ECPv6.15.20//NONSGML v1.0//EN
CALSCALE:GREGORIAN
METHOD:PUBLISH
X-ORIGINAL-URL:https://www.scharnegoutum.nl
X-WR-CALDESC:Evenementen voor Scharnegoutum | Skearnegoutum
REFRESH-INTERVAL;VALUE=DURATION:PT1H
X-Robots-Tag:noindex
X-PUBLISHED-TTL:PT1H
BEGIN:VTIMEZONE
TZID:Europe/Amsterdam
BEGIN:DAYLIGHT
TZOFFSETFROM:+0100
TZOFFSETTO:+0200
TZNAME:CEST
DTSTART:20240331T010000
END:DAYLIGHT
BEGIN:STANDARD
TZOFFSETFROM:+0200
TZOFFSETTO:+0100
TZNAME:CET
DTSTART:20241027T010000
END:STANDARD
BEGIN:DAYLIGHT
TZOFFSETFROM:+0100
TZOFFSETTO:+0200
TZNAME:CEST
DTSTART:20250330T010000
END:DAYLIGHT
BEGIN:STANDARD
TZOFFSETFROM:+0200
TZOFFSETTO:+0100
TZNAME:CET
DTSTART:20251026T010000
END:STANDARD
BEGIN:DAYLIGHT
TZOFFSETFROM:+0100
TZOFFSETTO:+0200
TZNAME:CEST
DTSTART:20260329T010000
END:DAYLIGHT
BEGIN:STANDARD
TZOFFSETFROM:+0200
TZOFFSETTO:+0100
TZNAME:CET
DTSTART:20261025T010000
END:STANDARD
END:VTIMEZONE
BEGIN:VEVENT
DTSTART;TZID=Europe/Amsterdam:20251126T090000
DTEND;TZID=Europe/Amsterdam:20251126T093000
DTSTAMP:20260422T191807
CREATED:20240530T181238Z
LAST-MODIFIED:20240530T181410Z
UID:10005650-1764147600-1764149400@www.scharnegoutum.nl
SUMMARY:bloedprikken
DESCRIPTION:
URL:https://www.scharnegoutum.nl/agenda/bloedprikken-6/2025-11-26/
LOCATION:Dorpshuis\, Legedyk 43\, Scharnegoutum\, Friesland\, 8629RL\, Nederland
CATEGORIES:Grote Zaal
END:VEVENT
BEGIN:VEVENT
DTSTART;TZID=Europe/Amsterdam:20251128T163000
DTEND;TZID=Europe/Amsterdam:20251128T203000
DTSTAMP:20260422T191807
CREATED:20251123T160902Z
LAST-MODIFIED:20251123T160903Z
UID:10005145-1764347400-1764361800@www.scharnegoutum.nl
SUMMARY:Graach Dien\, Mei-inoar ite. Samen aan tafel voor senioren.
DESCRIPTION:Graach Dien\, Mei-inoar ite. Samen aan tafel voor senioren.\nEen gezellig samenzijn met lopend buffet voor de groep 55 plus. \nKosten voor deelname bedraagt € 17\,50 inclusief een comsumptie. \nInloop vanaf 17.00 uur. Opgave voor de dinsdag voorafgaande aan de \nmaaltijd bij: \nAnna Luimstra 0515-420163\, anna.luimstra@gmail.com \nJoke Leeverink 0515-411329\, jokeleeverink@gmail.com \nBaukje de Groot 0515-422351 en/of Geart Bos 0515-416753.
URL:https://www.scharnegoutum.nl/agenda/graach-dien-mei-inoar-ite-samen-aan-tafel-voor-senioren/2025-11-28/
LOCATION:Dorpshuis\, Legedyk 43\, Scharnegoutum\, Friesland\, 8629RL\, Nederland
CATEGORIES:Grote Zaal
END:VEVENT
BEGIN:VEVENT
DTSTART;TZID=Europe/Amsterdam:20251130T150000
DTEND;TZID=Europe/Amsterdam:20251130T203000
DTSTAMP:20260422T191807
CREATED:20251009T180638Z
LAST-MODIFIED:20251009T180638Z
UID:10006914-1764514800-1764534600@www.scharnegoutum.nl
SUMMARY:Familiefeest
DESCRIPTION:
URL:https://www.scharnegoutum.nl/agenda/familiefeest-30/
LOCATION:Dorpshuis\, Legedyk 43\, Scharnegoutum\, Friesland\, 8629RL\, Nederland
CATEGORIES:Grote Zaal
END:VEVENT
END:VCALENDAR