BEGIN:VCALENDAR
VERSION:2.0
PRODID:-//Scharnegoutum | Skearnegoutum - ECPv6.15.20//NONSGML v1.0//EN
CALSCALE:GREGORIAN
METHOD:PUBLISH
X-ORIGINAL-URL:https://www.scharnegoutum.nl
X-WR-CALDESC:Evenementen voor Scharnegoutum | Skearnegoutum
REFRESH-INTERVAL;VALUE=DURATION:PT1H
X-Robots-Tag:noindex
X-PUBLISHED-TTL:PT1H
BEGIN:VTIMEZONE
TZID:Europe/Amsterdam
BEGIN:DAYLIGHT
TZOFFSETFROM:+0100
TZOFFSETTO:+0200
TZNAME:CEST
DTSTART:20240331T010000
END:DAYLIGHT
BEGIN:STANDARD
TZOFFSETFROM:+0200
TZOFFSETTO:+0100
TZNAME:CET
DTSTART:20241027T010000
END:STANDARD
BEGIN:DAYLIGHT
TZOFFSETFROM:+0100
TZOFFSETTO:+0200
TZNAME:CEST
DTSTART:20250330T010000
END:DAYLIGHT
BEGIN:STANDARD
TZOFFSETFROM:+0200
TZOFFSETTO:+0100
TZNAME:CET
DTSTART:20251026T010000
END:STANDARD
BEGIN:DAYLIGHT
TZOFFSETFROM:+0100
TZOFFSETTO:+0200
TZNAME:CEST
DTSTART:20260329T010000
END:DAYLIGHT
BEGIN:STANDARD
TZOFFSETFROM:+0200
TZOFFSETTO:+0100
TZNAME:CET
DTSTART:20261025T010000
END:STANDARD
END:VTIMEZONE
BEGIN:VEVENT
DTSTART;TZID=Europe/Amsterdam:20250127T190000
DTEND;TZID=Europe/Amsterdam:20250127T223000
DTSTAMP:20260421T214357
CREATED:20241226T165317Z
LAST-MODIFIED:20241226T165317Z
UID:10005847-1738004400-1738017000@www.scharnegoutum.nl
SUMMARY:Swettewyn
DESCRIPTION:
URL:https://www.scharnegoutum.nl/agenda/swettewyn-6/2025-01-27/
LOCATION:Dorpshuis\, Legedyk 43\, Scharnegoutum\, Friesland\, 8629RL\, Nederland
CATEGORIES:Grote Zaal
END:VEVENT
BEGIN:VEVENT
DTSTART;TZID=Europe/Amsterdam:20250129T090000
DTEND;TZID=Europe/Amsterdam:20250129T093000
DTSTAMP:20260421T214357
CREATED:20240530T180737Z
LAST-MODIFIED:20240530T181030Z
UID:10005565-1738141200-1738143000@www.scharnegoutum.nl
SUMMARY:bloedprikken
DESCRIPTION:
URL:https://www.scharnegoutum.nl/agenda/bloedprikken-5/2025-01-29/
LOCATION:Dorpshuis\, Legedyk 43\, Scharnegoutum\, Friesland\, 8629RL\, Nederland
CATEGORIES:Grote Zaal
END:VEVENT
BEGIN:VEVENT
DTSTART;TZID=Europe/Amsterdam:20250129T090000
DTEND;TZID=Europe/Amsterdam:20250129T093000
DTSTAMP:20260421T214357
CREATED:20240530T181238Z
LAST-MODIFIED:20240530T181410Z
UID:10005607-1738141200-1738143000@www.scharnegoutum.nl
SUMMARY:bloedprikken
DESCRIPTION:
URL:https://www.scharnegoutum.nl/agenda/bloedprikken-6/2025-01-29/
LOCATION:Dorpshuis\, Legedyk 43\, Scharnegoutum\, Friesland\, 8629RL\, Nederland
CATEGORIES:Grote Zaal
END:VEVENT
BEGIN:VEVENT
DTSTART;TZID=Europe/Amsterdam:20250129T153000
DTEND;TZID=Europe/Amsterdam:20250129T180000
DTSTAMP:20260421T214357
CREATED:20250124T181013Z
LAST-MODIFIED:20250124T181013Z
UID:10005936-1738164600-1738173600@www.scharnegoutum.nl
SUMMARY:Uitvaartbijeenkomst
DESCRIPTION:
URL:https://www.scharnegoutum.nl/agenda/uitvaartbijeenkomst-16/
LOCATION:Dorpshuis\, Legedyk 43\, Scharnegoutum\, Friesland\, 8629RL\, Nederland
CATEGORIES:Grote Zaal
END:VEVENT
BEGIN:VEVENT
DTSTART;TZID=Europe/Amsterdam:20250130T140000
DTEND;TZID=Europe/Amsterdam:20250130T163000
DTSTAMP:20260421T214357
CREATED:20240915T181526Z
LAST-MODIFIED:20250124T181048Z
UID:10005803-1738245600-1738254600@www.scharnegoutum.nl
SUMMARY:Koersbal
DESCRIPTION:
URL:https://www.scharnegoutum.nl/agenda/koersbal-30-2025-01-29/
LOCATION:Dorpshuis\, Legedyk 43\, Scharnegoutum\, Friesland\, 8629RL\, Nederland
CATEGORIES:Grote Zaal
END:VEVENT
BEGIN:VEVENT
DTSTART;TZID=Europe/Amsterdam:20250201T150000
DTEND;TZID=Europe/Amsterdam:20250201T183000
DTSTAMP:20260421T214357
CREATED:20250131T192017Z
LAST-MODIFIED:20250131T192017Z
UID:10005937-1738422000-1738434600@www.scharnegoutum.nl
SUMMARY:Uitvaartbijeenkomst
DESCRIPTION:
URL:https://www.scharnegoutum.nl/agenda/uitvaartbijeenkomst-17/
LOCATION:Dorpshuis\, Legedyk 43\, Scharnegoutum\, Friesland\, 8629RL\, Nederland
CATEGORIES:Grote Zaal
END:VEVENT
BEGIN:VEVENT
DTSTART;TZID=Europe/Amsterdam:20250201T200000
DTEND;TZID=Europe/Amsterdam:20250201T233000
DTSTAMP:20260421T214357
CREATED:20241117T131330Z
LAST-MODIFIED:20241117T131330Z
UID:10004984-1738440000-1738452600@www.scharnegoutum.nl
SUMMARY:Hymphamp theater
DESCRIPTION:
URL:https://www.scharnegoutum.nl/agenda/hymphamp-theater/
LOCATION:Dorpshuis\, Legedyk 43\, Scharnegoutum\, Friesland\, 8629RL\, Nederland
CATEGORIES:Grote Zaal
END:VEVENT
END:VCALENDAR