BEGIN:VCALENDAR
VERSION:2.0
PRODID:-//Scharnegoutum | Skearnegoutum - ECPv6.15.20//NONSGML v1.0//EN
CALSCALE:GREGORIAN
METHOD:PUBLISH
X-WR-CALNAME:Scharnegoutum | Skearnegoutum
X-ORIGINAL-URL:https://www.scharnegoutum.nl
X-WR-CALDESC:Evenementen voor Scharnegoutum | Skearnegoutum
REFRESH-INTERVAL;VALUE=DURATION:PT1H
X-Robots-Tag:noindex
X-PUBLISHED-TTL:PT1H
BEGIN:VTIMEZONE
TZID:Europe/Amsterdam
BEGIN:DAYLIGHT
TZOFFSETFROM:+0100
TZOFFSETTO:+0200
TZNAME:CEST
DTSTART:20230326T010000
END:DAYLIGHT
BEGIN:STANDARD
TZOFFSETFROM:+0200
TZOFFSETTO:+0100
TZNAME:CET
DTSTART:20231029T010000
END:STANDARD
BEGIN:DAYLIGHT
TZOFFSETFROM:+0100
TZOFFSETTO:+0200
TZNAME:CEST
DTSTART:20240331T010000
END:DAYLIGHT
BEGIN:STANDARD
TZOFFSETFROM:+0200
TZOFFSETTO:+0100
TZNAME:CET
DTSTART:20241027T010000
END:STANDARD
BEGIN:DAYLIGHT
TZOFFSETFROM:+0100
TZOFFSETTO:+0200
TZNAME:CEST
DTSTART:20250330T010000
END:DAYLIGHT
BEGIN:STANDARD
TZOFFSETFROM:+0200
TZOFFSETTO:+0100
TZNAME:CET
DTSTART:20251026T010000
END:STANDARD
END:VTIMEZONE
BEGIN:VEVENT
DTSTART;TZID=Europe/Amsterdam:20241216T190000
DTEND;TZID=Europe/Amsterdam:20241216T223000
DTSTAMP:20260421T200859
CREATED:20240722T180315Z
LAST-MODIFIED:20240722T180315Z
UID:10005709-1734375600-1734388200@www.scharnegoutum.nl
SUMMARY:Swettewyn
DESCRIPTION:
URL:https://www.scharnegoutum.nl/agenda/swettewyn-5/2024-12-16/
LOCATION:Dorpshuis\, Legedyk 43\, Scharnegoutum\, Friesland\, 8629RL\, Nederland
CATEGORIES:Grote Zaal
END:VEVENT
BEGIN:VEVENT
DTSTART;TZID=Europe/Amsterdam:20241218T090000
DTEND;TZID=Europe/Amsterdam:20241218T093000
DTSTAMP:20260421T200859
CREATED:20240530T180737Z
LAST-MODIFIED:20240530T181030Z
UID:10005559-1734512400-1734514200@www.scharnegoutum.nl
SUMMARY:bloedprikken
DESCRIPTION:
URL:https://www.scharnegoutum.nl/agenda/bloedprikken-5/2024-12-18/
LOCATION:Dorpshuis\, Legedyk 43\, Scharnegoutum\, Friesland\, 8629RL\, Nederland
CATEGORIES:Grote Zaal
END:VEVENT
BEGIN:VEVENT
DTSTART;TZID=Europe/Amsterdam:20241218T090000
DTEND;TZID=Europe/Amsterdam:20241218T093000
DTSTAMP:20260421T200859
CREATED:20240530T181238Z
LAST-MODIFIED:20240530T181410Z
UID:10005603-1734512400-1734514200@www.scharnegoutum.nl
SUMMARY:bloedprikken
DESCRIPTION:
URL:https://www.scharnegoutum.nl/agenda/bloedprikken-6/2024-12-18/
LOCATION:Dorpshuis\, Legedyk 43\, Scharnegoutum\, Friesland\, 8629RL\, Nederland
CATEGORIES:Grote Zaal
END:VEVENT
BEGIN:VEVENT
DTSTART;TZID=Europe/Amsterdam:20241218T140000
DTEND;TZID=Europe/Amsterdam:20241218T163000
DTSTAMP:20260421T200859
CREATED:20240915T181526Z
LAST-MODIFIED:20241001T135523Z
UID:10004940-1734530400-1734539400@www.scharnegoutum.nl
SUMMARY:Koersbal
DESCRIPTION:
URL:https://www.scharnegoutum.nl/agenda/koersbal-30/2024-12-18/
LOCATION:Dorpshuis\, Legedyk 43\, Scharnegoutum\, Friesland\, 8629RL\, Nederland
CATEGORIES:Grote Zaal
END:VEVENT
BEGIN:VEVENT
DTSTART;TZID=Europe/Amsterdam:20241218T193000
DTEND;TZID=Europe/Amsterdam:20241218T230000
DTSTAMP:20260421T200859
CREATED:20231101T161938Z
LAST-MODIFIED:20240519T090453Z
UID:10004680-1734550200-1734562800@www.scharnegoutum.nl
SUMMARY:jaarvergadering shantykoor Brûskoppen
DESCRIPTION:
URL:https://www.scharnegoutum.nl/agenda/jaarvergadering-shantykoor-bruskoppen/
LOCATION:Dorpshuis\, Legedyk 43\, Scharnegoutum\, Friesland\, 8629RL\, Nederland
CATEGORIES:Grote Zaal
END:VEVENT
BEGIN:VEVENT
DTSTART;TZID=Europe/Amsterdam:20241221T130000
DTEND;TZID=Europe/Amsterdam:20241221T170000
DTSTAMP:20260421T200859
CREATED:20240905T194828Z
LAST-MODIFIED:20241214T142514Z
UID:10005786-1734786000-1734800400@www.scharnegoutum.nl
SUMMARY:Stryk-ta damtoernoai
DESCRIPTION:
URL:https://www.scharnegoutum.nl/agenda/stryk-ta-damtoernoai-3/
LOCATION:Dorpshuis\, Legedyk 43\, Scharnegoutum\, Friesland\, 8629RL\, Nederland
CATEGORIES:Grote Zaal
END:VEVENT
END:VCALENDAR