BEGIN:VCALENDAR
VERSION:2.0
PRODID:-//Scharnegoutum | Skearnegoutum - ECPv6.15.20//NONSGML v1.0//EN
CALSCALE:GREGORIAN
METHOD:PUBLISH
X-WR-CALNAME:Scharnegoutum | Skearnegoutum
X-ORIGINAL-URL:https://www.scharnegoutum.nl
X-WR-CALDESC:Evenementen voor Scharnegoutum | Skearnegoutum
REFRESH-INTERVAL;VALUE=DURATION:PT1H
X-Robots-Tag:noindex
X-PUBLISHED-TTL:PT1H
BEGIN:VTIMEZONE
TZID:Europe/Amsterdam
BEGIN:DAYLIGHT
TZOFFSETFROM:+0100
TZOFFSETTO:+0200
TZNAME:CEST
DTSTART:20240331T010000
END:DAYLIGHT
BEGIN:STANDARD
TZOFFSETFROM:+0200
TZOFFSETTO:+0100
TZNAME:CET
DTSTART:20241027T010000
END:STANDARD
BEGIN:DAYLIGHT
TZOFFSETFROM:+0100
TZOFFSETTO:+0200
TZNAME:CEST
DTSTART:20250330T010000
END:DAYLIGHT
BEGIN:STANDARD
TZOFFSETFROM:+0200
TZOFFSETTO:+0100
TZNAME:CET
DTSTART:20251026T010000
END:STANDARD
BEGIN:DAYLIGHT
TZOFFSETFROM:+0100
TZOFFSETTO:+0200
TZNAME:CEST
DTSTART:20260329T010000
END:DAYLIGHT
BEGIN:STANDARD
TZOFFSETFROM:+0200
TZOFFSETTO:+0100
TZNAME:CET
DTSTART:20261025T010000
END:STANDARD
END:VTIMEZONE
BEGIN:VEVENT
DTSTART;VALUE=DATE:20250906
DTEND;VALUE=DATE:20250907
DTSTAMP:20260422T085915
CREATED:20250315T150422Z
LAST-MODIFIED:20250315T150422Z
UID:10005950-1757116800-1757203199@www.scharnegoutum.nl
SUMMARY:Dorpsfeest
DESCRIPTION:
URL:https://www.scharnegoutum.nl/agenda/dorpsfeest/
LOCATION:Dorpshuis\, Legedyk 43\, Scharnegoutum\, Friesland\, 8629RL\, Nederland
CATEGORIES:Grote Zaal
END:VEVENT
BEGIN:VEVENT
DTSTART;TZID=Europe/Amsterdam:20250905T103000
DTEND;TZID=Europe/Amsterdam:20250905T140000
DTSTAMP:20260422T085915
CREATED:20250830T134038Z
LAST-MODIFIED:20250830T134038Z
UID:10006785-1757068200-1757080800@www.scharnegoutum.nl
SUMMARY:Uitvaartbijeenkomst
DESCRIPTION:
URL:https://www.scharnegoutum.nl/agenda/uitvaartbijeenkomst-23/
LOCATION:Dorpshuis\, Legedyk 43\, Scharnegoutum\, Friesland\, 8629RL\, Nederland
CATEGORIES:Grote Zaal
END:VEVENT
BEGIN:VEVENT
DTSTART;TZID=Europe/Amsterdam:20250830T150000
DTEND;TZID=Europe/Amsterdam:20250830T213000
DTSTAMP:20260422T085915
CREATED:20250225T183008Z
LAST-MODIFIED:20250225T183008Z
UID:10005940-1756566000-1756589400@www.scharnegoutum.nl
SUMMARY:Familiefeest
DESCRIPTION:
URL:https://www.scharnegoutum.nl/agenda/familiefeest-24/
LOCATION:Dorpshuis\, Legedyk 43\, Scharnegoutum\, Friesland\, 8629RL\, Nederland
CATEGORIES:Grote Zaal
END:VEVENT
BEGIN:VEVENT
DTSTART;TZID=Europe/Amsterdam:20250830T113000
DTEND;TZID=Europe/Amsterdam:20250830T140000
DTSTAMP:20260422T085915
CREATED:20250827T181723Z
LAST-MODIFIED:20250827T181723Z
UID:10006782-1756553400-1756562400@www.scharnegoutum.nl
SUMMARY:Uitvaartbijeenkomst
DESCRIPTION:
URL:https://www.scharnegoutum.nl/agenda/uitvaartbijeenkomst-22/
LOCATION:Dorpshuis\, Legedyk 43\, Scharnegoutum\, Friesland\, 8629RL\, Nederland
CATEGORIES:Grote Zaal
END:VEVENT
BEGIN:VEVENT
DTSTART;TZID=Europe/Amsterdam:20250714T190000
DTEND;TZID=Europe/Amsterdam:20250714T223000
DTSTAMP:20260422T085915
CREATED:20250710T162549Z
LAST-MODIFIED:20250710T162550Z
UID:10005868-1752519600-1752532200@www.scharnegoutum.nl
SUMMARY:Swettewyn
DESCRIPTION:Wekelijkse repetitie
URL:https://www.scharnegoutum.nl/agenda/swettewyn-6-2/
LOCATION:Dorpshuis\, Legedyk 43\, Scharnegoutum\, Friesland\, 8629RL\, Nederland
CATEGORIES:Grote Zaal
END:VEVENT
BEGIN:VEVENT
DTSTART;VALUE=DATE:20250708
DTEND;VALUE=DATE:20250709
DTSTAMP:20260422T085915
CREATED:20250331T190253Z
LAST-MODIFIED:20250331T190253Z
UID:10005120-1751932800-1752019199@www.scharnegoutum.nl
SUMMARY:Musical Groep 8 Op'e Hichte
DESCRIPTION:
URL:https://www.scharnegoutum.nl/agenda/musical-groep-8-ope-hichte-2/
LOCATION:Dorpshuis\, Legedyk 43\, Scharnegoutum\, Friesland\, 8629RL\, Nederland
CATEGORIES:Grote Zaal
END:VEVENT
BEGIN:VEVENT
DTSTART;TZID=Europe/Amsterdam:20250702T090000
DTEND;TZID=Europe/Amsterdam:20250702T093000
DTSTAMP:20260422T085915
CREATED:20240530T180737Z
LAST-MODIFIED:20240530T181030Z
UID:10005587-1751446800-1751448600@www.scharnegoutum.nl
SUMMARY:bloedprikken
DESCRIPTION:
URL:https://www.scharnegoutum.nl/agenda/bloedprikken-5/2025-07-02/
LOCATION:Dorpshuis\, Legedyk 43\, Scharnegoutum\, Friesland\, 8629RL\, Nederland
CATEGORIES:Grote Zaal
END:VEVENT
BEGIN:VEVENT
DTSTART;TZID=Europe/Amsterdam:20250618T140000
DTEND;TZID=Europe/Amsterdam:20250618T180000
DTSTAMP:20260422T085915
CREATED:20250615T105837Z
LAST-MODIFIED:20250615T105837Z
UID:10005151-1750255200-1750269600@www.scharnegoutum.nl
SUMMARY:Uitvaartbijeenkomst
DESCRIPTION:
URL:https://www.scharnegoutum.nl/agenda/uitvaartbijeenkomst-21/
LOCATION:Dorpshuis\, Legedyk 43\, Scharnegoutum\, Friesland\, 8629RL\, Nederland
CATEGORIES:Grote Zaal
END:VEVENT
BEGIN:VEVENT
DTSTART;TZID=Europe/Amsterdam:20250611T190000
DTEND;TZID=Europe/Amsterdam:20250611T233000
DTSTAMP:20260422T085915
CREATED:20241117T141123Z
LAST-MODIFIED:20241124T160735Z
UID:10005000-1749668400-1749684600@www.scharnegoutum.nl
SUMMARY:shantykoor Brûskoppen
DESCRIPTION:
URL:https://www.scharnegoutum.nl/agenda/shantykoor-bruskoppen-14-2025-01-22/2025-06-11/
LOCATION:Dorpshuis\, Legedyk 43\, Scharnegoutum\, Friesland\, 8629RL\, Nederland
CATEGORIES:Grote Zaal
END:VEVENT
BEGIN:VEVENT
DTSTART;TZID=Europe/Amsterdam:20250523T170000
DTEND;TZID=Europe/Amsterdam:20250523T230000
DTSTAMP:20260422T085915
CREATED:20250331T184921Z
LAST-MODIFIED:20250331T184921Z
UID:10005116-1748019600-1748041200@www.scharnegoutum.nl
SUMMARY:Vrijwilligersavond dorpshuis
DESCRIPTION:
URL:https://www.scharnegoutum.nl/agenda/vrijwilligersavond-dorpshuis/
LOCATION:Dorpshuis\, Legedyk 43\, Scharnegoutum\, Friesland\, 8629RL\, Nederland
CATEGORIES:Grote Zaal
END:VEVENT
BEGIN:VEVENT
DTSTART;TZID=Europe/Amsterdam:20250521T213000
DTEND;TZID=Europe/Amsterdam:20250521T233000
DTSTAMP:20260422T085915
CREATED:20241117T142452Z
LAST-MODIFIED:20250328T190453Z
UID:10005022-1747863000-1747870200@www.scharnegoutum.nl
SUMMARY:Nazit Brûskoppen & Martens Cantorij
DESCRIPTION:
URL:https://www.scharnegoutum.nl/agenda/optreden-bruskoppen-martens-cantorij/
LOCATION:Dorpshuis\, Legedyk 43\, Scharnegoutum\, Friesland\, 8629RL\, Nederland
CATEGORIES:Grote Zaal
END:VEVENT
BEGIN:VEVENT
DTSTART;TZID=Europe/Amsterdam:20250518T101500
DTEND;TZID=Europe/Amsterdam:20250518T123000
DTSTAMP:20260422T085915
CREATED:20250110T091746Z
LAST-MODIFIED:20250110T091746Z
UID:10005913-1747563300-1747571400@www.scharnegoutum.nl
SUMMARY:Gemeenteochtend PKN
DESCRIPTION:
URL:https://www.scharnegoutum.nl/agenda/gemeenteochtend-pkn/
LOCATION:Dorpshuis\, Legedyk 43\, Scharnegoutum\, Friesland\, 8629RL\, Nederland
CATEGORIES:Grote Zaal
END:VEVENT
BEGIN:VEVENT
DTSTART;TZID=Europe/Amsterdam:20250507T190000
DTEND;TZID=Europe/Amsterdam:20250507T223000
DTSTAMP:20260422T085915
CREATED:20250211T174911Z
LAST-MODIFIED:20250211T174911Z
UID:10005063-1746644400-1746657000@www.scharnegoutum.nl
SUMMARY:Swettewyn
DESCRIPTION:
URL:https://www.scharnegoutum.nl/agenda/swettewyn-9/
LOCATION:Dorpshuis\, Legedyk 43\, Scharnegoutum\, Friesland\, 8629RL\, Nederland
CATEGORIES:Grote Zaal
END:VEVENT
BEGIN:VEVENT
DTSTART;TZID=Europe/Amsterdam:20250505T083000
DTEND;TZID=Europe/Amsterdam:20250505T110000
DTSTAMP:20260422T085915
CREATED:20240909T170901Z
LAST-MODIFIED:20250427T183941Z
UID:10004929-1746433800-1746442800@www.scharnegoutum.nl
SUMMARY:Vrijheidsontbijt voor hele dorp\, opgave voor 30 april
DESCRIPTION:
URL:https://www.scharnegoutum.nl/agenda/pkn-vredesontbijt/
LOCATION:Dorpshuis\, Legedyk 43\, Scharnegoutum\, Friesland\, 8629RL\, Nederland
CATEGORIES:Grote Zaal
END:VEVENT
BEGIN:VEVENT
DTSTART;TZID=Europe/Amsterdam:20250504T190000
DTEND;TZID=Europe/Amsterdam:20250504T220000
DTSTAMP:20260422T085915
CREATED:20250316T094710Z
LAST-MODIFIED:20250316T094710Z
UID:10005951-1746385200-1746396000@www.scharnegoutum.nl
SUMMARY:4 mei herdenking
DESCRIPTION:
URL:https://www.scharnegoutum.nl/agenda/4-mei-herdenking/
LOCATION:Dorpshuis\, Legedyk 43\, Scharnegoutum\, Friesland\, 8629RL\, Nederland
CATEGORIES:Grote Zaal
END:VEVENT
BEGIN:VEVENT
DTSTART;TZID=Europe/Amsterdam:20250423T190000
DTEND;TZID=Europe/Amsterdam:20250423T220000
DTSTAMP:20260422T085915
CREATED:20240627T183512Z
LAST-MODIFIED:20250209T142705Z
UID:10004880-1745434800-1745445600@www.scharnegoutum.nl
SUMMARY:4 mei lezing "Peter Hein"
DESCRIPTION:
URL:https://www.scharnegoutum.nl/agenda/4-mei-lezing/
LOCATION:Dorpshuis\, Legedyk 43\, Scharnegoutum\, Friesland\, 8629RL\, Nederland
CATEGORIES:Grote Zaal
END:VEVENT
BEGIN:VEVENT
DTSTART;TZID=Europe/Amsterdam:20250423T140000
DTEND;TZID=Europe/Amsterdam:20250423T163000
DTSTAMP:20260422T085915
CREATED:20240915T181526Z
LAST-MODIFIED:20241001T135523Z
UID:10004947-1745416800-1745425800@www.scharnegoutum.nl
SUMMARY:Koersbal
DESCRIPTION:
URL:https://www.scharnegoutum.nl/agenda/koersbal-30/2025-04-23/
LOCATION:Dorpshuis\, Legedyk 43\, Scharnegoutum\, Friesland\, 8629RL\, Nederland
CATEGORIES:Grote Zaal
END:VEVENT
BEGIN:VEVENT
DTSTART;TZID=Europe/Amsterdam:20250419T151500
DTEND;TZID=Europe/Amsterdam:20250419T173000
DTSTAMP:20260422T085915
CREATED:20250416T174215Z
LAST-MODIFIED:20250416T174215Z
UID:10005132-1745075700-1745083800@www.scharnegoutum.nl
SUMMARY:Uitvaart bijeenkomst
DESCRIPTION:
URL:https://www.scharnegoutum.nl/agenda/uitvaart-bijeenkomst-5/
LOCATION:Dorpshuis\, Legedyk 43\, Scharnegoutum\, Friesland\, 8629RL\, Nederland
CATEGORIES:Grote Zaal
END:VEVENT
BEGIN:VEVENT
DTSTART;TZID=Europe/Amsterdam:20250412T150000
DTEND;TZID=Europe/Amsterdam:20250412T173000
DTSTAMP:20260422T085915
CREATED:20250114T185857Z
LAST-MODIFIED:20250114T185857Z
UID:10005917-1744470000-1744479000@www.scharnegoutum.nl
SUMMARY:Paasmiddag voor ouderen
DESCRIPTION:
URL:https://www.scharnegoutum.nl/agenda/paasmiddag-voor-ouderen-3/
LOCATION:Dorpshuis\, Legedyk 43\, Scharnegoutum\, Friesland\, 8629RL\, Nederland
CATEGORIES:Grote Zaal
END:VEVENT
BEGIN:VEVENT
DTSTART;TZID=Europe/Amsterdam:20250408T120000
DTEND;TZID=Europe/Amsterdam:20250408T170000
DTSTAMP:20260422T085915
CREATED:20250119T110203Z
LAST-MODIFIED:20250323T202754Z
UID:10005921-1744113600-1744131600@www.scharnegoutum.nl
SUMMARY:SWF Sociaal Collectief teater "Het meisje van de Radio"
DESCRIPTION:
URL:https://www.scharnegoutum.nl/agenda/swf-sociaal-collectief-theater/
LOCATION:Dorpshuis\, Legedyk 43\, Scharnegoutum\, Friesland\, 8629RL\, Nederland
CATEGORIES:Grote Zaal
END:VEVENT
BEGIN:VEVENT
DTSTART;TZID=Europe/Amsterdam:20250404T201500
DTEND;TZID=Europe/Amsterdam:20250404T223000
DTSTAMP:20260422T085915
CREATED:20250225T191623Z
LAST-MODIFIED:20250225T191623Z
UID:10005943-1743797700-1743805800@www.scharnegoutum.nl
SUMMARY:Theater "Sytse pakt ut"
DESCRIPTION:
URL:https://www.scharnegoutum.nl/agenda/theater-sytse-pakt-ut/
LOCATION:Dorpshuis\, Legedyk 43\, Scharnegoutum\, Friesland\, 8629RL\, Nederland
CATEGORIES:Grote Zaal
END:VEVENT
BEGIN:VEVENT
DTSTART;TZID=Europe/Amsterdam:20250404T163000
DTEND;TZID=Europe/Amsterdam:20250404T203000
DTSTAMP:20260422T085915
CREATED:20240513T173025Z
LAST-MODIFIED:20240519T083713Z
UID:10005481-1743784200-1743798600@www.scharnegoutum.nl
SUMMARY:etentje Graach Dien
DESCRIPTION:
URL:https://www.scharnegoutum.nl/agenda/etentje-graach-dien-9/2025-04-04/
LOCATION:Dorpshuis\, Legedyk 43\, Scharnegoutum\, Friesland\, 8629RL\, Nederland
CATEGORIES:Grote Zaal
END:VEVENT
BEGIN:VEVENT
DTSTART;TZID=Europe/Amsterdam:20250329T160000
DTEND;TZID=Europe/Amsterdam:20250329T220000
DTSTAMP:20260422T085915
CREATED:20241029T184818Z
LAST-MODIFIED:20241119T175438Z
UID:10005816-1743264000-1743285600@www.scharnegoutum.nl
SUMMARY:Familiefeest
DESCRIPTION:
URL:https://www.scharnegoutum.nl/agenda/familiefeest-12/
LOCATION:Dorpshuis\, Legedyk 43\, Scharnegoutum\, Friesland\, 8629RL\, Nederland
CATEGORIES:Grote Zaal
END:VEVENT
BEGIN:VEVENT
DTSTART;TZID=Europe/Amsterdam:20250329T100000
DTEND;TZID=Europe/Amsterdam:20250329T120000
DTSTAMP:20260422T085915
CREATED:20250304T182038Z
LAST-MODIFIED:20250323T195359Z
UID:10005945-1743242400-1743249600@www.scharnegoutum.nl
SUMMARY:Fries Blazers Ensemble
DESCRIPTION:
URL:https://www.scharnegoutum.nl/agenda/fries-blazers-ensemble/2025-03-29/
LOCATION:Dorpshuis\, Legedyk 43\, Scharnegoutum\, Friesland\, 8629RL\, Nederland
CATEGORIES:Grote Zaal
END:VEVENT
BEGIN:VEVENT
DTSTART;TZID=Europe/Amsterdam:20250328T153000
DTEND;TZID=Europe/Amsterdam:20250328T173000
DTSTAMP:20260422T085915
CREATED:20250323T210432Z
LAST-MODIFIED:20250323T210432Z
UID:10006040-1743175800-1743183000@www.scharnegoutum.nl
SUMMARY:Uitvaartbijeenkomst
DESCRIPTION:
URL:https://www.scharnegoutum.nl/agenda/uitvaartbijeenkomst-20/
LOCATION:Dorpshuis\, Legedyk 43\, Scharnegoutum\, Friesland\, 8629RL\, Nederland
CATEGORIES:Grote Zaal
END:VEVENT
BEGIN:VEVENT
DTSTART;TZID=Europe/Amsterdam:20250308T150000
DTEND;TZID=Europe/Amsterdam:20250308T180000
DTSTAMP:20260422T085915
CREATED:20241117T131720Z
LAST-MODIFIED:20241117T131720Z
UID:10004988-1741446000-1741456800@www.scharnegoutum.nl
SUMMARY:Turkse Mezze (tapas) met Nurcan
DESCRIPTION:
URL:https://www.scharnegoutum.nl/agenda/turkse-mezze-tapas-met-nurcan/
LOCATION:Dorpshuis\, Legedyk 43\, Scharnegoutum\, Friesland\, 8629RL\, Nederland
CATEGORIES:Grote Zaal
END:VEVENT
BEGIN:VEVENT
DTSTART;TZID=Europe/Amsterdam:20250307T200000
DTEND;TZID=Europe/Amsterdam:20250307T223000
DTSTAMP:20260422T085915
CREATED:20241012T130834Z
LAST-MODIFIED:20241012T130834Z
UID:10005810-1741377600-1741386600@www.scharnegoutum.nl
SUMMARY:Jaarvergadering Oranjevereniging
DESCRIPTION:
URL:https://www.scharnegoutum.nl/agenda/jaarvergadering-oranjevereniging-2/
LOCATION:Dorpshuis\, Legedyk 43\, Scharnegoutum\, Friesland\, 8629RL\, Nederland
CATEGORIES:Grote Zaal
END:VEVENT
BEGIN:VEVENT
DTSTART;TZID=Europe/Amsterdam:20250228T150000
DTEND;TZID=Europe/Amsterdam:20250228T173000
DTSTAMP:20260422T085915
CREATED:20250225T184515Z
LAST-MODIFIED:20250225T184515Z
UID:10005942-1740754800-1740763800@www.scharnegoutum.nl
SUMMARY:Uitvaartbijeenkomst
DESCRIPTION:
URL:https://www.scharnegoutum.nl/agenda/uitvaartbijeenkomst-19/
LOCATION:Dorpshuis\, Legedyk 43\, Scharnegoutum\, Friesland\, 8629RL\, Nederland
CATEGORIES:Grote Zaal
END:VEVENT
BEGIN:VEVENT
DTSTART;TZID=Europe/Amsterdam:20250221T190000
DTEND;TZID=Europe/Amsterdam:20250221T213000
DTSTAMP:20260422T085915
CREATED:20241117T131558Z
LAST-MODIFIED:20241117T131558Z
UID:10004986-1740164400-1740173400@www.scharnegoutum.nl
SUMMARY:Winterdisco
DESCRIPTION:
URL:https://www.scharnegoutum.nl/agenda/winterdisco/
LOCATION:Dorpshuis\, Legedyk 43\, Scharnegoutum\, Friesland\, 8629RL\, Nederland
CATEGORIES:Grote Zaal
END:VEVENT
BEGIN:VEVENT
DTSTART;TZID=Europe/Amsterdam:20250217T190000
DTEND;TZID=Europe/Amsterdam:20250217T223000
DTSTAMP:20260422T085915
CREATED:20241226T165317Z
LAST-MODIFIED:20250124T181506Z
UID:10005869-1739818800-1739831400@www.scharnegoutum.nl
SUMMARY:Ledenvergadering Swettewyn
DESCRIPTION:
URL:https://www.scharnegoutum.nl/agenda/swettewyn-6-2025-02-17/
LOCATION:Dorpshuis\, Legedyk 43\, Scharnegoutum\, Friesland\, 8629RL\, Nederland
CATEGORIES:Grote Zaal
END:VEVENT
END:VCALENDAR