BEGIN:VCALENDAR
VERSION:2.0
PRODID:-//Scharnegoutum | Skearnegoutum - ECPv6.15.20//NONSGML v1.0//EN
CALSCALE:GREGORIAN
METHOD:PUBLISH
X-ORIGINAL-URL:https://www.scharnegoutum.nl
X-WR-CALDESC:Evenementen voor Scharnegoutum | Skearnegoutum
REFRESH-INTERVAL;VALUE=DURATION:PT1H
X-Robots-Tag:noindex
X-PUBLISHED-TTL:PT1H
BEGIN:VTIMEZONE
TZID:Europe/Amsterdam
BEGIN:DAYLIGHT
TZOFFSETFROM:+0100
TZOFFSETTO:+0200
TZNAME:CEST
DTSTART:20250330T010000
END:DAYLIGHT
BEGIN:STANDARD
TZOFFSETFROM:+0200
TZOFFSETTO:+0100
TZNAME:CET
DTSTART:20251026T010000
END:STANDARD
BEGIN:DAYLIGHT
TZOFFSETFROM:+0100
TZOFFSETTO:+0200
TZNAME:CEST
DTSTART:20260329T010000
END:DAYLIGHT
BEGIN:STANDARD
TZOFFSETFROM:+0200
TZOFFSETTO:+0100
TZNAME:CET
DTSTART:20261025T010000
END:STANDARD
BEGIN:DAYLIGHT
TZOFFSETFROM:+0100
TZOFFSETTO:+0200
TZNAME:CEST
DTSTART:20270328T010000
END:DAYLIGHT
BEGIN:STANDARD
TZOFFSETFROM:+0200
TZOFFSETTO:+0100
TZNAME:CET
DTSTART:20271031T010000
END:STANDARD
END:VTIMEZONE
BEGIN:VEVENT
DTSTART;TZID=Europe/Amsterdam:20261003T100000
DTEND;TZID=Europe/Amsterdam:20261003T163000
DTSTAMP:20260424T042444
CREATED:20260312T183427Z
LAST-MODIFIED:20260327T191550Z
UID:10005142-1791021600-1791045000@www.scharnegoutum.nl
SUMMARY:Putsje kafee & kleanruil aksje fan "Groene kerk"
DESCRIPTION:Tussen 10 en 12 uur bent u welkom voor reparaties van een divers aan gebruikers apparaten in en om huis en herstelwerk van kleding e.d. Het idee achter dit initiatief is samen werken aan een duurzame samenleving. Daarnaast is er koffie entijd voor een goed gesprek terwijl onze vrijwilligers aan het repareren zijn. \nAlles is gratis\, maar een vrijwillige bijdrage wordt op prijs gesteld. \nVoor vragen en info: Geart Bos\, 0645483378\, geart.bos@gmail.com
URL:https://www.scharnegoutum.nl/agenda/putsje-kafee-3-3/
LOCATION:Dorpshuis\, Legedyk 43\, Scharnegoutum\, Friesland\, 8629RL\, Nederland
CATEGORIES:Grote Zaal
END:VEVENT
BEGIN:VEVENT
DTSTART;TZID=Europe/Amsterdam:20261005T190000
DTEND;TZID=Europe/Amsterdam:20261005T230000
DTSTAMP:20260424T042444
CREATED:20251219T130015Z
LAST-MODIFIED:20251219T130015Z
UID:10007069-1791226800-1791241200@www.scharnegoutum.nl
SUMMARY:Fanfare "Swettewyn"
DESCRIPTION:Gegevens:    \n\nWij zijn een Fanfare Korps ontstaan uit het\nsamengaan van Harmonie Sneek en Excelsior\nScharnegoutum. Voor meer informatie op deze\n site het kopje verenigingen/Swettewyn\nWat voor activiteit:       \nmaandagavond is de wekelijkse repetitie \navond.\n\nToegangskosten:     \n\nNVT\n\nKaartenverkoop :    \n\nNVT
URL:https://www.scharnegoutum.nl/agenda/fanfare-swettewyn-2/2026-10-05/
CATEGORIES:Grote Zaal
END:VEVENT
BEGIN:VEVENT
DTSTART;TZID=Europe/Amsterdam:20261007T090000
DTEND;TZID=Europe/Amsterdam:20261007T093000
DTSTAMP:20260424T042444
CREATED:20251219T131109Z
LAST-MODIFIED:20251219T131109Z
UID:10007250-1791363600-1791365400@www.scharnegoutum.nl
SUMMARY:Bloedprikken
DESCRIPTION:
URL:https://www.scharnegoutum.nl/agenda/bloedprikken/2026-10-07/
CATEGORIES:Grote Zaal
END:VEVENT
BEGIN:VEVENT
DTSTART;TZID=Europe/Amsterdam:20261010T140000
DTEND;TZID=Europe/Amsterdam:20261010T190000
DTSTAMP:20260424T042444
CREATED:20260215T145511Z
LAST-MODIFIED:20260215T145511Z
UID:10007631-1791640800-1791658800@www.scharnegoutum.nl
SUMMARY:familie bijeenkomst
DESCRIPTION:
URL:https://www.scharnegoutum.nl/agenda/familie-bijeenkomst/
CATEGORIES:Grote Zaal
END:VEVENT
BEGIN:VEVENT
DTSTART;TZID=Europe/Amsterdam:20261011T130000
DTEND;TZID=Europe/Amsterdam:20261011T180000
DTSTAMP:20260424T042444
CREATED:20260327T192916Z
LAST-MODIFIED:20260327T192916Z
UID:10007663-1791723600-1791741600@www.scharnegoutum.nl
SUMMARY:Oefensessie Shantykoor
DESCRIPTION:
URL:https://www.scharnegoutum.nl/agenda/oefensessie-shantykoor/
CATEGORIES:Grote Zaal
END:VEVENT
BEGIN:VEVENT
DTSTART;TZID=Europe/Amsterdam:20261012T190000
DTEND;TZID=Europe/Amsterdam:20261012T230000
DTSTAMP:20260424T042444
CREATED:20251219T130015Z
LAST-MODIFIED:20251219T130015Z
UID:10007070-1791831600-1791846000@www.scharnegoutum.nl
SUMMARY:Fanfare "Swettewyn"
DESCRIPTION:Gegevens:    \n\nWij zijn een Fanfare Korps ontstaan uit het\nsamengaan van Harmonie Sneek en Excelsior\nScharnegoutum. Voor meer informatie op deze\n site het kopje verenigingen/Swettewyn\nWat voor activiteit:       \nmaandagavond is de wekelijkse repetitie \navond.\n\nToegangskosten:     \n\nNVT\n\nKaartenverkoop :    \n\nNVT
URL:https://www.scharnegoutum.nl/agenda/fanfare-swettewyn-2/2026-10-12/
CATEGORIES:Grote Zaal
END:VEVENT
BEGIN:VEVENT
DTSTART;TZID=Europe/Amsterdam:20261014T090000
DTEND;TZID=Europe/Amsterdam:20261014T093000
DTSTAMP:20260424T042444
CREATED:20251219T131109Z
LAST-MODIFIED:20251219T131109Z
UID:10007251-1791968400-1791970200@www.scharnegoutum.nl
SUMMARY:Bloedprikken
DESCRIPTION:
URL:https://www.scharnegoutum.nl/agenda/bloedprikken/2026-10-14/
CATEGORIES:Grote Zaal
END:VEVENT
BEGIN:VEVENT
DTSTART;TZID=Europe/Amsterdam:20261014T190000
DTEND;TZID=Europe/Amsterdam:20261014T230000
DTSTAMP:20260424T042444
CREATED:20260327T200250Z
LAST-MODIFIED:20260327T200354Z
UID:10007679-1792004400-1792018800@www.scharnegoutum.nl
SUMMARY:Shantykoor De Brûskoppen
DESCRIPTION:De naam zegt het al\, wij zijn een Shantykoor\, opgericht in 1997 in Scharnegoutum.  Een enthousiaste groep heren\, die op allerlei gelegenheden zeemansliederen ten gehore brengt\, met een hoog meezinggehalte.                                         Onze vaste oefenavonden (eens per twee weken) is de woensdagavond. Dan wordt een gevarieerd repertoire ingestudeerd\, dat uit Engelse en Friestalige zeemansliederen bestaat. Nieuwsgierig geworden? Misschien eens meezingen?  Kom gerust eens langs of meldt u aan bij Herman de Jong. 06-27445686 hermandejong59@outlook.com
URL:https://www.scharnegoutum.nl/agenda/shantykoor-de-bruskoppen/2026-10-14/
CATEGORIES:Grote Zaal
END:VEVENT
BEGIN:VEVENT
DTSTART;TZID=Europe/Amsterdam:20261019T190000
DTEND;TZID=Europe/Amsterdam:20261019T230000
DTSTAMP:20260424T042444
CREATED:20251219T130015Z
LAST-MODIFIED:20251219T130015Z
UID:10007071-1792436400-1792450800@www.scharnegoutum.nl
SUMMARY:Fanfare "Swettewyn"
DESCRIPTION:Gegevens:    \n\nWij zijn een Fanfare Korps ontstaan uit het\nsamengaan van Harmonie Sneek en Excelsior\nScharnegoutum. Voor meer informatie op deze\n site het kopje verenigingen/Swettewyn\nWat voor activiteit:       \nmaandagavond is de wekelijkse repetitie \navond.\n\nToegangskosten:     \n\nNVT\n\nKaartenverkoop :    \n\nNVT
URL:https://www.scharnegoutum.nl/agenda/fanfare-swettewyn-2/2026-10-19/
CATEGORIES:Grote Zaal
END:VEVENT
BEGIN:VEVENT
DTSTART;TZID=Europe/Amsterdam:20261021T090000
DTEND;TZID=Europe/Amsterdam:20261021T093000
DTSTAMP:20260424T042444
CREATED:20251219T131109Z
LAST-MODIFIED:20251219T131109Z
UID:10007252-1792573200-1792575000@www.scharnegoutum.nl
SUMMARY:Bloedprikken
DESCRIPTION:
URL:https://www.scharnegoutum.nl/agenda/bloedprikken/2026-10-21/
CATEGORIES:Grote Zaal
END:VEVENT
BEGIN:VEVENT
DTSTART;TZID=Europe/Amsterdam:20261026T190000
DTEND;TZID=Europe/Amsterdam:20261026T230000
DTSTAMP:20260424T042444
CREATED:20251219T130015Z
LAST-MODIFIED:20251219T130015Z
UID:10007072-1793041200-1793055600@www.scharnegoutum.nl
SUMMARY:Fanfare "Swettewyn"
DESCRIPTION:Gegevens:    \n\nWij zijn een Fanfare Korps ontstaan uit het\nsamengaan van Harmonie Sneek en Excelsior\nScharnegoutum. Voor meer informatie op deze\n site het kopje verenigingen/Swettewyn\nWat voor activiteit:       \nmaandagavond is de wekelijkse repetitie \navond.\n\nToegangskosten:     \n\nNVT\n\nKaartenverkoop :    \n\nNVT
URL:https://www.scharnegoutum.nl/agenda/fanfare-swettewyn-2/2026-10-26/
CATEGORIES:Grote Zaal
END:VEVENT
BEGIN:VEVENT
DTSTART;TZID=Europe/Amsterdam:20261028T090000
DTEND;TZID=Europe/Amsterdam:20261028T093000
DTSTAMP:20260424T042444
CREATED:20251219T131109Z
LAST-MODIFIED:20251219T131109Z
UID:10007253-1793178000-1793179800@www.scharnegoutum.nl
SUMMARY:Bloedprikken
DESCRIPTION:
URL:https://www.scharnegoutum.nl/agenda/bloedprikken/2026-10-28/
CATEGORIES:Grote Zaal
END:VEVENT
BEGIN:VEVENT
DTSTART;TZID=Europe/Amsterdam:20261028T190000
DTEND;TZID=Europe/Amsterdam:20261028T230000
DTSTAMP:20260424T042444
CREATED:20260327T200250Z
LAST-MODIFIED:20260327T200354Z
UID:10007680-1793214000-1793228400@www.scharnegoutum.nl
SUMMARY:Shantykoor De Brûskoppen
DESCRIPTION:De naam zegt het al\, wij zijn een Shantykoor\, opgericht in 1997 in Scharnegoutum.  Een enthousiaste groep heren\, die op allerlei gelegenheden zeemansliederen ten gehore brengt\, met een hoog meezinggehalte.                                         Onze vaste oefenavonden (eens per twee weken) is de woensdagavond. Dan wordt een gevarieerd repertoire ingestudeerd\, dat uit Engelse en Friestalige zeemansliederen bestaat. Nieuwsgierig geworden? Misschien eens meezingen?  Kom gerust eens langs of meldt u aan bij Herman de Jong. 06-27445686 hermandejong59@outlook.com
URL:https://www.scharnegoutum.nl/agenda/shantykoor-de-bruskoppen/2026-10-28/
CATEGORIES:Grote Zaal
END:VEVENT
END:VCALENDAR