BEGIN:VCALENDAR
VERSION:2.0
PRODID:-//Scharnegoutum | Skearnegoutum - ECPv6.15.20//NONSGML v1.0//EN
CALSCALE:GREGORIAN
METHOD:PUBLISH
X-ORIGINAL-URL:https://www.scharnegoutum.nl
X-WR-CALDESC:Evenementen voor Scharnegoutum | Skearnegoutum
REFRESH-INTERVAL;VALUE=DURATION:PT1H
X-Robots-Tag:noindex
X-PUBLISHED-TTL:PT1H
BEGIN:VTIMEZONE
TZID:Europe/Amsterdam
BEGIN:DAYLIGHT
TZOFFSETFROM:+0100
TZOFFSETTO:+0200
TZNAME:CEST
DTSTART:20250330T010000
END:DAYLIGHT
BEGIN:STANDARD
TZOFFSETFROM:+0200
TZOFFSETTO:+0100
TZNAME:CET
DTSTART:20251026T010000
END:STANDARD
BEGIN:DAYLIGHT
TZOFFSETFROM:+0100
TZOFFSETTO:+0200
TZNAME:CEST
DTSTART:20260329T010000
END:DAYLIGHT
BEGIN:STANDARD
TZOFFSETFROM:+0200
TZOFFSETTO:+0100
TZNAME:CET
DTSTART:20261025T010000
END:STANDARD
BEGIN:DAYLIGHT
TZOFFSETFROM:+0100
TZOFFSETTO:+0200
TZNAME:CEST
DTSTART:20270328T010000
END:DAYLIGHT
BEGIN:STANDARD
TZOFFSETFROM:+0200
TZOFFSETTO:+0100
TZNAME:CET
DTSTART:20271031T010000
END:STANDARD
END:VTIMEZONE
BEGIN:VEVENT
DTSTART;TZID=Europe/Amsterdam:20260803T190000
DTEND;TZID=Europe/Amsterdam:20260803T230000
DTSTAMP:20260423T144426
CREATED:20251219T130015Z
LAST-MODIFIED:20251219T130015Z
UID:10007060-1785783600-1785798000@www.scharnegoutum.nl
SUMMARY:Fanfare "Swettewyn"
DESCRIPTION:Gegevens:    \n\nWij zijn een Fanfare Korps ontstaan uit het\nsamengaan van Harmonie Sneek en Excelsior\nScharnegoutum. Voor meer informatie op deze\n site het kopje verenigingen/Swettewyn\nWat voor activiteit:       \nmaandagavond is de wekelijkse repetitie \navond.\n\nToegangskosten:     \n\nNVT\n\nKaartenverkoop :    \n\nNVT
URL:https://www.scharnegoutum.nl/agenda/fanfare-swettewyn-2/2026-08-03/
CATEGORIES:Grote Zaal
END:VEVENT
BEGIN:VEVENT
DTSTART;TZID=Europe/Amsterdam:20260805T090000
DTEND;TZID=Europe/Amsterdam:20260805T093000
DTSTAMP:20260423T144426
CREATED:20251219T131109Z
LAST-MODIFIED:20251219T131109Z
UID:10007241-1785920400-1785922200@www.scharnegoutum.nl
SUMMARY:Bloedprikken
DESCRIPTION:
URL:https://www.scharnegoutum.nl/agenda/bloedprikken/2026-08-05/
CATEGORIES:Grote Zaal
END:VEVENT
BEGIN:VEVENT
DTSTART;TZID=Europe/Amsterdam:20260810T190000
DTEND;TZID=Europe/Amsterdam:20260810T230000
DTSTAMP:20260423T144426
CREATED:20251219T130015Z
LAST-MODIFIED:20251219T130015Z
UID:10007061-1786388400-1786402800@www.scharnegoutum.nl
SUMMARY:Fanfare "Swettewyn"
DESCRIPTION:Gegevens:    \n\nWij zijn een Fanfare Korps ontstaan uit het\nsamengaan van Harmonie Sneek en Excelsior\nScharnegoutum. Voor meer informatie op deze\n site het kopje verenigingen/Swettewyn\nWat voor activiteit:       \nmaandagavond is de wekelijkse repetitie \navond.\n\nToegangskosten:     \n\nNVT\n\nKaartenverkoop :    \n\nNVT
URL:https://www.scharnegoutum.nl/agenda/fanfare-swettewyn-2/2026-08-10/
CATEGORIES:Grote Zaal
END:VEVENT
BEGIN:VEVENT
DTSTART;TZID=Europe/Amsterdam:20260812T090000
DTEND;TZID=Europe/Amsterdam:20260812T093000
DTSTAMP:20260423T144427
CREATED:20251219T131109Z
LAST-MODIFIED:20251219T131109Z
UID:10007242-1786525200-1786527000@www.scharnegoutum.nl
SUMMARY:Bloedprikken
DESCRIPTION:
URL:https://www.scharnegoutum.nl/agenda/bloedprikken/2026-08-12/
CATEGORIES:Grote Zaal
END:VEVENT
BEGIN:VEVENT
DTSTART;TZID=Europe/Amsterdam:20260817T190000
DTEND;TZID=Europe/Amsterdam:20260817T230000
DTSTAMP:20260423T144427
CREATED:20251219T130015Z
LAST-MODIFIED:20251219T130015Z
UID:10007062-1786993200-1787007600@www.scharnegoutum.nl
SUMMARY:Fanfare "Swettewyn"
DESCRIPTION:Gegevens:    \n\nWij zijn een Fanfare Korps ontstaan uit het\nsamengaan van Harmonie Sneek en Excelsior\nScharnegoutum. Voor meer informatie op deze\n site het kopje verenigingen/Swettewyn\nWat voor activiteit:       \nmaandagavond is de wekelijkse repetitie \navond.\n\nToegangskosten:     \n\nNVT\n\nKaartenverkoop :    \n\nNVT
URL:https://www.scharnegoutum.nl/agenda/fanfare-swettewyn-2/2026-08-17/
CATEGORIES:Grote Zaal
END:VEVENT
BEGIN:VEVENT
DTSTART;TZID=Europe/Amsterdam:20260819T090000
DTEND;TZID=Europe/Amsterdam:20260819T093000
DTSTAMP:20260423T144427
CREATED:20251219T131109Z
LAST-MODIFIED:20251219T131109Z
UID:10007243-1787130000-1787131800@www.scharnegoutum.nl
SUMMARY:Bloedprikken
DESCRIPTION:
URL:https://www.scharnegoutum.nl/agenda/bloedprikken/2026-08-19/
CATEGORIES:Grote Zaal
END:VEVENT
BEGIN:VEVENT
DTSTART;TZID=Europe/Amsterdam:20260824T190000
DTEND;TZID=Europe/Amsterdam:20260824T230000
DTSTAMP:20260423T144427
CREATED:20251219T130015Z
LAST-MODIFIED:20251219T130015Z
UID:10007063-1787598000-1787612400@www.scharnegoutum.nl
SUMMARY:Fanfare "Swettewyn"
DESCRIPTION:Gegevens:    \n\nWij zijn een Fanfare Korps ontstaan uit het\nsamengaan van Harmonie Sneek en Excelsior\nScharnegoutum. Voor meer informatie op deze\n site het kopje verenigingen/Swettewyn\nWat voor activiteit:       \nmaandagavond is de wekelijkse repetitie \navond.\n\nToegangskosten:     \n\nNVT\n\nKaartenverkoop :    \n\nNVT
URL:https://www.scharnegoutum.nl/agenda/fanfare-swettewyn-2/2026-08-24/
CATEGORIES:Grote Zaal
END:VEVENT
BEGIN:VEVENT
DTSTART;TZID=Europe/Amsterdam:20260826T090000
DTEND;TZID=Europe/Amsterdam:20260826T093000
DTSTAMP:20260423T144427
CREATED:20251219T131109Z
LAST-MODIFIED:20251219T131109Z
UID:10007244-1787734800-1787736600@www.scharnegoutum.nl
SUMMARY:Bloedprikken
DESCRIPTION:
URL:https://www.scharnegoutum.nl/agenda/bloedprikken/2026-08-26/
CATEGORIES:Grote Zaal
END:VEVENT
BEGIN:VEVENT
DTSTART;TZID=Europe/Amsterdam:20260831T190000
DTEND;TZID=Europe/Amsterdam:20260831T230000
DTSTAMP:20260423T144427
CREATED:20251219T130015Z
LAST-MODIFIED:20251219T130015Z
UID:10007064-1788202800-1788217200@www.scharnegoutum.nl
SUMMARY:Fanfare "Swettewyn"
DESCRIPTION:Gegevens:    \n\nWij zijn een Fanfare Korps ontstaan uit het\nsamengaan van Harmonie Sneek en Excelsior\nScharnegoutum. Voor meer informatie op deze\n site het kopje verenigingen/Swettewyn\nWat voor activiteit:       \nmaandagavond is de wekelijkse repetitie \navond.\n\nToegangskosten:     \n\nNVT\n\nKaartenverkoop :    \n\nNVT
URL:https://www.scharnegoutum.nl/agenda/fanfare-swettewyn-2/2026-08-31/
CATEGORIES:Grote Zaal
END:VEVENT
END:VCALENDAR