BEGIN:VCALENDAR
VERSION:2.0
PRODID:-//Scharnegoutum | Skearnegoutum - ECPv6.15.20//NONSGML v1.0//EN
CALSCALE:GREGORIAN
METHOD:PUBLISH
X-WR-CALNAME:Scharnegoutum | Skearnegoutum
X-ORIGINAL-URL:https://www.scharnegoutum.nl
X-WR-CALDESC:Evenementen voor Scharnegoutum | Skearnegoutum
REFRESH-INTERVAL;VALUE=DURATION:PT1H
X-Robots-Tag:noindex
X-PUBLISHED-TTL:PT1H
BEGIN:VTIMEZONE
TZID:Europe/Amsterdam
BEGIN:DAYLIGHT
TZOFFSETFROM:+0100
TZOFFSETTO:+0200
TZNAME:CEST
DTSTART:20240331T010000
END:DAYLIGHT
BEGIN:STANDARD
TZOFFSETFROM:+0200
TZOFFSETTO:+0100
TZNAME:CET
DTSTART:20241027T010000
END:STANDARD
BEGIN:DAYLIGHT
TZOFFSETFROM:+0100
TZOFFSETTO:+0200
TZNAME:CEST
DTSTART:20250330T010000
END:DAYLIGHT
BEGIN:STANDARD
TZOFFSETFROM:+0200
TZOFFSETTO:+0100
TZNAME:CET
DTSTART:20251026T010000
END:STANDARD
BEGIN:DAYLIGHT
TZOFFSETFROM:+0100
TZOFFSETTO:+0200
TZNAME:CEST
DTSTART:20260329T010000
END:DAYLIGHT
BEGIN:STANDARD
TZOFFSETFROM:+0200
TZOFFSETTO:+0100
TZNAME:CET
DTSTART:20261025T010000
END:STANDARD
END:VTIMEZONE
BEGIN:VEVENT
DTSTART;TZID=Europe/Amsterdam:20251001T090000
DTEND;TZID=Europe/Amsterdam:20251001T093000
DTSTAMP:20260422T103453
CREATED:20240530T181238Z
LAST-MODIFIED:20240530T181410Z
UID:10005642-1759309200-1759311000@www.scharnegoutum.nl
SUMMARY:bloedprikken
DESCRIPTION:
URL:https://www.scharnegoutum.nl/agenda/bloedprikken-6/2025-10-01/
LOCATION:Dorpshuis\, Legedyk 43\, Scharnegoutum\, Friesland\, 8629RL\, Nederland
CATEGORIES:Grote Zaal
END:VEVENT
BEGIN:VEVENT
DTSTART;TZID=Europe/Amsterdam:20251006T190000
DTEND;TZID=Europe/Amsterdam:20251006T223000
DTSTAMP:20260422T103454
CREATED:20250804T061544Z
LAST-MODIFIED:20250907T073146Z
UID:10006110-1759777200-1759789800@www.scharnegoutum.nl
SUMMARY:Fanfare "Swettewyn"
DESCRIPTION:Gegevens:    \n\nWij zijn een Fanfare Korps ontstaan uit het\nsamengaan van Harmonie Sneek en Excelsior\nScharnegoutum. Voor meer informatie op deze\n site het kopje verenigingen/Swettewyn\nWat voor activiteit:       \nmaandagavond is de wekelijkse repetitie \navond.\n\nToegangskosten:     \n\nNVT\n\nKaartenverkoop :    \n\nNVT
URL:https://www.scharnegoutum.nl/agenda/swettewyn-10/2025-10-06/
LOCATION:Dorpshuis\, Legedyk 43\, Scharnegoutum\, Friesland\, 8629RL\, Nederland
CATEGORIES:Grote Zaal
END:VEVENT
BEGIN:VEVENT
DTSTART;TZID=Europe/Amsterdam:20251008T090000
DTEND;TZID=Europe/Amsterdam:20251008T093000
DTSTAMP:20260422T103454
CREATED:20240530T181238Z
LAST-MODIFIED:20240530T181410Z
UID:10005643-1759914000-1759915800@www.scharnegoutum.nl
SUMMARY:bloedprikken
DESCRIPTION:
URL:https://www.scharnegoutum.nl/agenda/bloedprikken-6/2025-10-08/
LOCATION:Dorpshuis\, Legedyk 43\, Scharnegoutum\, Friesland\, 8629RL\, Nederland
CATEGORIES:Grote Zaal
END:VEVENT
BEGIN:VEVENT
DTSTART;TZID=Europe/Amsterdam:20251010T163000
DTEND;TZID=Europe/Amsterdam:20251010T203000
DTSTAMP:20260422T103454
CREATED:20250519T183040Z
LAST-MODIFIED:20251124T192053Z
UID:10005144-1760113800-1760128200@www.scharnegoutum.nl
SUMMARY:Graach Dien\, Mei-inoar ite. Samen aan tafel voor senioren.
DESCRIPTION:Graach Dien\, Mei-inoar ite. Samen aan tafel voor senioren.\nEen gezellig samenzijn met lopend buffet voor de groep 55 plus. \nKosten voor deelname bedraagt € 17\,50 inclusief een comsumptie. \nInloop vanaf 17.00 uur. Opgave voor de dinsdag voorafgaande aan de \nmaaltijd bij: \nAnna Luimstra 0515-420163\, anna.luimstra@gmail.com \nJoke Leeverink 0515-411329\, jokeleeverink@gmail.com \nBaukje de Groot 0515-422351 en/of Geart Bos 0515-416753.
URL:https://www.scharnegoutum.nl/agenda/graach-dien-mei-inoar-ite-samen-aan-tafel-voor-senioren-2/
LOCATION:Dorpshuis\, Legedyk 43\, Scharnegoutum\, Friesland\, 8629RL\, Nederland
CATEGORIES:Grote Zaal
END:VEVENT
BEGIN:VEVENT
DTSTART;TZID=Europe/Amsterdam:20251013T190000
DTEND;TZID=Europe/Amsterdam:20251013T223000
DTSTAMP:20260422T103454
CREATED:20250804T061544Z
LAST-MODIFIED:20250907T073146Z
UID:10006111-1760382000-1760394600@www.scharnegoutum.nl
SUMMARY:Fanfare "Swettewyn"
DESCRIPTION:Gegevens:    \n\nWij zijn een Fanfare Korps ontstaan uit het\nsamengaan van Harmonie Sneek en Excelsior\nScharnegoutum. Voor meer informatie op deze\n site het kopje verenigingen/Swettewyn\nWat voor activiteit:       \nmaandagavond is de wekelijkse repetitie \navond.\n\nToegangskosten:     \n\nNVT\n\nKaartenverkoop :    \n\nNVT
URL:https://www.scharnegoutum.nl/agenda/swettewyn-10/2025-10-13/
LOCATION:Dorpshuis\, Legedyk 43\, Scharnegoutum\, Friesland\, 8629RL\, Nederland
CATEGORIES:Grote Zaal
END:VEVENT
BEGIN:VEVENT
DTSTART;TZID=Europe/Amsterdam:20251015T090000
DTEND;TZID=Europe/Amsterdam:20251015T093000
DTSTAMP:20260422T103454
CREATED:20240530T181238Z
LAST-MODIFIED:20240530T181410Z
UID:10005644-1760518800-1760520600@www.scharnegoutum.nl
SUMMARY:bloedprikken
DESCRIPTION:
URL:https://www.scharnegoutum.nl/agenda/bloedprikken-6/2025-10-15/
LOCATION:Dorpshuis\, Legedyk 43\, Scharnegoutum\, Friesland\, 8629RL\, Nederland
CATEGORIES:Grote Zaal
END:VEVENT
BEGIN:VEVENT
DTSTART;TZID=Europe/Amsterdam:20251020T190000
DTEND;TZID=Europe/Amsterdam:20251020T223000
DTSTAMP:20260422T103454
CREATED:20250804T061544Z
LAST-MODIFIED:20250907T073146Z
UID:10006112-1760986800-1760999400@www.scharnegoutum.nl
SUMMARY:Fanfare "Swettewyn"
DESCRIPTION:Gegevens:    \n\nWij zijn een Fanfare Korps ontstaan uit het\nsamengaan van Harmonie Sneek en Excelsior\nScharnegoutum. Voor meer informatie op deze\n site het kopje verenigingen/Swettewyn\nWat voor activiteit:       \nmaandagavond is de wekelijkse repetitie \navond.\n\nToegangskosten:     \n\nNVT\n\nKaartenverkoop :    \n\nNVT
URL:https://www.scharnegoutum.nl/agenda/swettewyn-10/2025-10-20/
LOCATION:Dorpshuis\, Legedyk 43\, Scharnegoutum\, Friesland\, 8629RL\, Nederland
CATEGORIES:Grote Zaal
END:VEVENT
BEGIN:VEVENT
DTSTART;TZID=Europe/Amsterdam:20251022T090000
DTEND;TZID=Europe/Amsterdam:20251022T093000
DTSTAMP:20260422T103454
CREATED:20240530T181238Z
LAST-MODIFIED:20240530T181410Z
UID:10005645-1761123600-1761125400@www.scharnegoutum.nl
SUMMARY:bloedprikken
DESCRIPTION:
URL:https://www.scharnegoutum.nl/agenda/bloedprikken-6/2025-10-22/
LOCATION:Dorpshuis\, Legedyk 43\, Scharnegoutum\, Friesland\, 8629RL\, Nederland
CATEGORIES:Grote Zaal
END:VEVENT
BEGIN:VEVENT
DTSTART;TZID=Europe/Amsterdam:20251022T190000
DTEND;TZID=Europe/Amsterdam:20251022T233000
DTSTAMP:20260422T103454
CREATED:20241117T143838Z
LAST-MODIFIED:20251020T175648Z
UID:10005032-1761159600-1761175800@www.scharnegoutum.nl
SUMMARY:shantykoor Brûskoppen
DESCRIPTION:Shantykoor de Bruskoppen \nDe naam zegt het al\, wij zijn een Shantykoor\, opgericht in 1997 in Scharnegoutum.                                                                                                                                                                                                        Een enthousiaste groep heren\, die op allerlei gelegenheden zeemansliederen ten gehore brengt\, met een hoog meezinggehalte.                                                                                                      Onze vaste oefenavonden (eens per twee weken) is de woensdagavond. Dan wordt een gevarieerd repertoire ingestudeerd\, dat uit Engelse en Friestalige zeemansliederen bestaat. Nieuwsgierig geworden? Misschien eens meezingen?                                                                                                                                                                                                                                                                  Kom gerust eens langs of meldt u aan bij Herman de Jong. 06-27445686 hermandejong59@outlook.com
URL:https://www.scharnegoutum.nl/agenda/shantykoor-bruskoppen-23/2025-10-22/
LOCATION:Dorpshuis\, Legedyk 43\, Scharnegoutum\, Friesland\, 8629RL\, Nederland
CATEGORIES:Grote Zaal
END:VEVENT
BEGIN:VEVENT
DTSTART;TZID=Europe/Amsterdam:20251024T150000
DTEND;TZID=Europe/Amsterdam:20251024T223000
DTSTAMP:20260422T103454
CREATED:20250519T180012Z
LAST-MODIFIED:20250927T112254Z
UID:10006094-1761318000-1761345000@www.scharnegoutum.nl
SUMMARY:Haloween disco
DESCRIPTION:Halloweendisco 24 oktober\nWat voor activiteit: Deze disco avond is speciaal voor de kinderen van ons dorp\, en iedereen mag zo eng mogelijk verkleed meedoen. Van 19.00- 20.00 de kinderen tm groep 5 (onder begeleiding van de ouders) en daarna van 20.15-21.30 uur de kinderen van groep 6 tm 8\nToegangskosten: Gratis\nKaartenverkoop: wel aanmelden bij activiteitencommissie@scharnegoutum.nl voor 10 oktober
URL:https://www.scharnegoutum.nl/agenda/haloween-disco/
LOCATION:Dorpshuis\, Legedyk 43\, Scharnegoutum\, Friesland\, 8629RL\, Nederland
CATEGORIES:Grote Zaal
END:VEVENT
BEGIN:VEVENT
DTSTART;TZID=Europe/Amsterdam:20251027T190000
DTEND;TZID=Europe/Amsterdam:20251027T223000
DTSTAMP:20260422T103454
CREATED:20250804T061544Z
LAST-MODIFIED:20250907T073146Z
UID:10006113-1761591600-1761604200@www.scharnegoutum.nl
SUMMARY:Fanfare "Swettewyn"
DESCRIPTION:Gegevens:    \n\nWij zijn een Fanfare Korps ontstaan uit het\nsamengaan van Harmonie Sneek en Excelsior\nScharnegoutum. Voor meer informatie op deze\n site het kopje verenigingen/Swettewyn\nWat voor activiteit:       \nmaandagavond is de wekelijkse repetitie \navond.\n\nToegangskosten:     \n\nNVT\n\nKaartenverkoop :    \n\nNVT
URL:https://www.scharnegoutum.nl/agenda/swettewyn-10/2025-10-27/
LOCATION:Dorpshuis\, Legedyk 43\, Scharnegoutum\, Friesland\, 8629RL\, Nederland
CATEGORIES:Grote Zaal
END:VEVENT
BEGIN:VEVENT
DTSTART;TZID=Europe/Amsterdam:20251028T080000
DTEND;TZID=Europe/Amsterdam:20251028T141500
DTSTAMP:20260422T103454
CREATED:20251009T182436Z
LAST-MODIFIED:20251009T182436Z
UID:10006916-1761638400-1761660900@www.scharnegoutum.nl
SUMMARY:CBS Opé Hichte
DESCRIPTION:
URL:https://www.scharnegoutum.nl/agenda/cbs-ope-hichte-28/
LOCATION:Dorpshuis\, Legedyk 43\, Scharnegoutum\, Friesland\, 8629RL\, Nederland
CATEGORIES:Grote Zaal
END:VEVENT
BEGIN:VEVENT
DTSTART;VALUE=DATE:20251029
DTEND;VALUE=DATE:20251030
DTSTAMP:20260422T103454
CREATED:20250625T172616Z
LAST-MODIFIED:20250625T172700Z
UID:10005152-1761696000-1761782399@www.scharnegoutum.nl
SUMMARY:Tweede kamerverkiezing
DESCRIPTION:
URL:https://www.scharnegoutum.nl/agenda/tweede-kamerverkiezing/
LOCATION:Dorpshuis\, Legedyk 43\, Scharnegoutum\, Friesland\, 8629RL\, Nederland
CATEGORIES:Grote Zaal
END:VEVENT
BEGIN:VEVENT
DTSTART;TZID=Europe/Amsterdam:20251029T090000
DTEND;TZID=Europe/Amsterdam:20251029T093000
DTSTAMP:20260422T103454
CREATED:20240530T181238Z
LAST-MODIFIED:20240530T181410Z
UID:10005646-1761728400-1761730200@www.scharnegoutum.nl
SUMMARY:bloedprikken
DESCRIPTION:
URL:https://www.scharnegoutum.nl/agenda/bloedprikken-6/2025-10-29/
LOCATION:Dorpshuis\, Legedyk 43\, Scharnegoutum\, Friesland\, 8629RL\, Nederland
CATEGORIES:Grote Zaal
END:VEVENT
END:VCALENDAR