BEGIN:VCALENDAR
VERSION:2.0
PRODID:-//Scharnegoutum | Skearnegoutum - ECPv6.15.20//NONSGML v1.0//EN
CALSCALE:GREGORIAN
METHOD:PUBLISH
X-ORIGINAL-URL:https://www.scharnegoutum.nl
X-WR-CALDESC:Evenementen voor Scharnegoutum | Skearnegoutum
REFRESH-INTERVAL;VALUE=DURATION:PT1H
X-Robots-Tag:noindex
X-PUBLISHED-TTL:PT1H
BEGIN:VTIMEZONE
TZID:Europe/Amsterdam
BEGIN:DAYLIGHT
TZOFFSETFROM:+0100
TZOFFSETTO:+0200
TZNAME:CEST
DTSTART:20250330T010000
END:DAYLIGHT
BEGIN:STANDARD
TZOFFSETFROM:+0200
TZOFFSETTO:+0100
TZNAME:CET
DTSTART:20251026T010000
END:STANDARD
BEGIN:DAYLIGHT
TZOFFSETFROM:+0100
TZOFFSETTO:+0200
TZNAME:CEST
DTSTART:20260329T010000
END:DAYLIGHT
BEGIN:STANDARD
TZOFFSETFROM:+0200
TZOFFSETTO:+0100
TZNAME:CET
DTSTART:20261025T010000
END:STANDARD
BEGIN:DAYLIGHT
TZOFFSETFROM:+0100
TZOFFSETTO:+0200
TZNAME:CEST
DTSTART:20270328T010000
END:DAYLIGHT
BEGIN:STANDARD
TZOFFSETFROM:+0200
TZOFFSETTO:+0100
TZNAME:CET
DTSTART:20271031T010000
END:STANDARD
END:VTIMEZONE
BEGIN:VEVENT
DTSTART;TZID=Europe/Amsterdam:20260330T130000
DTEND;TZID=Europe/Amsterdam:20260330T170000
DTSTAMP:20260419T233429
CREATED:20251219T130904Z
LAST-MODIFIED:20251219T130904Z
UID:10007120-1774875600-1774890000@www.scharnegoutum.nl
SUMMARY:Stal Schukken
DESCRIPTION:Stalschukken \nWij zijn een biljardclub\, ooit gestart in een boerderij\, en sinds lange tijd spelen wij onze competitie avonden in het dorpshuis. \nHeeft U interesse\, kunt u contact opnemen met Thomas de Vries ( alofje@gmail.com )
URL:https://www.scharnegoutum.nl/agenda/stal-schukken/2026-03-30/
CATEGORIES:Bar
END:VEVENT
BEGIN:VEVENT
DTSTART;TZID=Europe/Amsterdam:20260331T190000
DTEND;TZID=Europe/Amsterdam:20260331T230000
DTSTAMP:20260419T233429
CREATED:20251219T131443Z
LAST-MODIFIED:20251219T131443Z
UID:10007327-1774983600-1774998000@www.scharnegoutum.nl
SUMMARY:De Lakenkrakers
DESCRIPTION:De lakenkrakers \nDe lakenkrakers is één van de biljardverenigingen van Scharnegoutum\, opgericht in 1977 met een huidig aantal leden van 18 mannen. \nOnze  competitiewedstrijden zijn op dinsdagavond in It Swettehûs en beginnen om 19.30 uur\nWe zijn een vereniging die houdt van tradities en een van deze tradities is een jaarlijks uitstapje naar Terschelling. \nEr is ruimte voor nieuwe leden en hiervoor kunt u contact opnemen met Jan de Vries (secretaris) via 0515-412051 of de voorzitter Jan Bouwmeester ( janbouwmeester@ziggo.nl )
URL:https://www.scharnegoutum.nl/agenda/de-lakenkrakers-7/2026-03-31/
CATEGORIES:Bar
END:VEVENT
BEGIN:VEVENT
DTSTART;TZID=Europe/Amsterdam:20260401T193000
DTEND;TZID=Europe/Amsterdam:20260401T223000
DTSTAMP:20260419T233429
CREATED:20250821T194832Z
LAST-MODIFIED:20260107T071353Z
UID:10006772-1775071800-1775082600@www.scharnegoutum.nl
SUMMARY:De Keu Keninginnen
DESCRIPTION:Activiteit: 2-wekelijkse competitieavond\nKosten: contributie\nKaartenverkoop: N.V.T.\nBen je geïnterresseerd\, loop dan een keer binnen op één van onze speelavonden of stuur een mailtje.\nVoor meer informatie zie op deze site onder verenigingen/Keukoninginnen  of via facebook: ‘De Keu Keuninginnen Skearnegoutum’.
URL:https://www.scharnegoutum.nl/agenda/de-keu-keninginnen-3/2026-04-01/
LOCATION:Dorpshuis\, Legedyk 43\, Scharnegoutum\, Friesland\, 8629RL\, Nederland
CATEGORIES:Bar
END:VEVENT
BEGIN:VEVENT
DTSTART;TZID=Europe/Amsterdam:20260402T190000
DTEND;TZID=Europe/Amsterdam:20260402T230000
DTSTAMP:20260419T233429
CREATED:20251219T131701Z
LAST-MODIFIED:20251219T131701Z
UID:10007376-1775156400-1775170800@www.scharnegoutum.nl
SUMMARY:BC Scharnegoutum
DESCRIPTION:BC Scharnegoutum\nWij zijn één van de biljard verenigingen van Scharnegoutum\nDoel van de vereniging is het biljartniveau van de leden op een hoger peil te brengen\, zonder dat daarbij de gezelligheid verloren gaat.\nDe vereniging is opgericht in 1955 en telt momenteel 18 leden.\nDe competitiewedstrijden zijn op de donderdagavonden en beginnen om 19.00 uur.\n\nWil je meedoen\, of heb je interesse neem dan contact op met de voorzitter\, Rinus de Schiffart (0657842398)
URL:https://www.scharnegoutum.nl/agenda/bc-scharnegoutum-7/2026-04-02/
CATEGORIES:Bar
END:VEVENT
BEGIN:VEVENT
DTSTART;TZID=Europe/Amsterdam:20260404T100000
DTEND;TZID=Europe/Amsterdam:20260404T120000
DTSTAMP:20260419T233429
CREATED:20260212T174719Z
LAST-MODIFIED:20260327T191308Z
UID:10005141-1775296800-1775304000@www.scharnegoutum.nl
SUMMARY:Putsje kafee
DESCRIPTION:Tussen 10 en 12 uur bent u welkom voor reparaties van een divers aan gebruikers apparaten in en om huis en herstelwerk van kleding e.d. Het idee achter dit initiatief is samen werken aan een duurzame samenleving. Daarnaast is er koffie entijd voor een goed gesprek terwijl onze vrijwilligers aan het repareren zijn. \nAlles is gratis\, maar een vrijwillige bijdrage wordt op prijs gesteld. \nVoor vragen en info: Geart Bos\, 0645483378\, geart.bos@gmail.com
URL:https://www.scharnegoutum.nl/agenda/putsje-kafee-3-2/
LOCATION:Dorpshuis\, Legedyk 43\, Scharnegoutum\, Friesland\, 8629RL\, Nederland
CATEGORIES:Bar
END:VEVENT
BEGIN:VEVENT
DTSTART;TZID=Europe/Amsterdam:20260404T160000
DTEND;TZID=Europe/Amsterdam:20260404T233000
DTSTAMP:20260419T233429
CREATED:20250825T175202Z
LAST-MODIFIED:20251020T175910Z
UID:10006780-1775318400-1775345400@www.scharnegoutum.nl
SUMMARY:Inloop café
DESCRIPTION:Inloopcafé    \nIedere eerste zaterdag van de maand is er een soort van dorpscafé. U bent daar welkom vanaf 16.00 uur. Op die avond kunt u gewoon wat drinken\, maar ook wat eten en gezellig praten met mededorpsbewoners. Maar u kunt ook biljarten of naar een voetbalwedstrijd of Formule1 wedstrijd kijken.                                                                                                                    Gewoon even uit in het eigen dorp!!!
URL:https://www.scharnegoutum.nl/agenda/inloop-cafe/2026-04-04/
LOCATION:Dorpshuis\, Legedyk 43\, Scharnegoutum\, Friesland\, 8629RL\, Nederland
CATEGORIES:Bar
END:VEVENT
END:VCALENDAR