BEGIN:VCALENDAR
VERSION:2.0
PRODID:-//Scharnegoutum | Skearnegoutum - ECPv6.15.20//NONSGML v1.0//EN
CALSCALE:GREGORIAN
METHOD:PUBLISH
X-ORIGINAL-URL:https://www.scharnegoutum.nl
X-WR-CALDESC:Evenementen voor Scharnegoutum | Skearnegoutum
REFRESH-INTERVAL;VALUE=DURATION:PT1H
X-Robots-Tag:noindex
X-PUBLISHED-TTL:PT1H
BEGIN:VTIMEZONE
TZID:Europe/Amsterdam
BEGIN:DAYLIGHT
TZOFFSETFROM:+0100
TZOFFSETTO:+0200
TZNAME:CEST
DTSTART:20240331T010000
END:DAYLIGHT
BEGIN:STANDARD
TZOFFSETFROM:+0200
TZOFFSETTO:+0100
TZNAME:CET
DTSTART:20241027T010000
END:STANDARD
BEGIN:DAYLIGHT
TZOFFSETFROM:+0100
TZOFFSETTO:+0200
TZNAME:CEST
DTSTART:20250330T010000
END:DAYLIGHT
BEGIN:STANDARD
TZOFFSETFROM:+0200
TZOFFSETTO:+0100
TZNAME:CET
DTSTART:20251026T010000
END:STANDARD
BEGIN:DAYLIGHT
TZOFFSETFROM:+0100
TZOFFSETTO:+0200
TZNAME:CEST
DTSTART:20260329T010000
END:DAYLIGHT
BEGIN:STANDARD
TZOFFSETFROM:+0200
TZOFFSETTO:+0100
TZNAME:CET
DTSTART:20261025T010000
END:STANDARD
END:VTIMEZONE
BEGIN:VEVENT
DTSTART;TZID=Europe/Amsterdam:20251103T130000
DTEND;TZID=Europe/Amsterdam:20251103T160000
DTSTAMP:20260420T075229
CREATED:20251023T165151Z
LAST-MODIFIED:20251023T165152Z
UID:10006385-1762174800-1762185600@www.scharnegoutum.nl
SUMMARY:Stal Schukken
DESCRIPTION:Stalschukken \nWij zijn een biljardclub\, ooit gestart in een boerderij\, en sinds lange tijd spelen wij onze competitie avonden in het dorpshuis. \nHeeft U interesse\, kunt u contact opnemen met Thomas de Vries ( alofje@gmail.com )
URL:https://www.scharnegoutum.nl/agenda/stal-schukken-8-2/2025-11-03/
LOCATION:Dorpshuis\, Legedyk 43\, Scharnegoutum\, Friesland\, 8629RL\, Nederland
CATEGORIES:Bar
END:VEVENT
BEGIN:VEVENT
DTSTART;TZID=Europe/Amsterdam:20251104T190000
DTEND;TZID=Europe/Amsterdam:20251104T230000
DTSTAMP:20260420T075229
CREATED:20251023T165355Z
LAST-MODIFIED:20251023T165357Z
UID:10006181-1762282800-1762297200@www.scharnegoutum.nl
SUMMARY:De Lakenkrakers
DESCRIPTION:De lakenkrakers \nDe lakenkrakers is één van de biljardverenigingen van Scharnegoutum\, opgericht in 1977 met een huidig aantal leden van 18 mannen. \nOnze  competitiewedstrijden zijn op dinsdagavond in It Swettehûs en beginnen om 19.30 uur\nWe zijn een vereniging die houdt van tradities en een van deze tradities is een jaarlijks uitstapje naar Terschelling. \nEr is ruimte voor nieuwe leden en hiervoor kunt u contact opnemen met Jan de Vries (secretaris) via 0515-412051 of de voorzitter Jan Bouwmeester ( janbouwmeester@ziggo.nl )
URL:https://www.scharnegoutum.nl/agenda/de-lakenkrakers-6-2/2025-11-04/
LOCATION:Dorpshuis\, Legedyk 43\, Scharnegoutum\, Friesland\, 8629RL\, Nederland
CATEGORIES:Bar
END:VEVENT
BEGIN:VEVENT
DTSTART;TZID=Europe/Amsterdam:20251105T193000
DTEND;TZID=Europe/Amsterdam:20251105T223000
DTSTAMP:20260420T075229
CREATED:20250821T155821Z
LAST-MODIFIED:20251023T162505Z
UID:10005126-1762371000-1762381800@www.scharnegoutum.nl
SUMMARY:De Keu Keninginnen
DESCRIPTION:De keukoninginnen\nWij zijn de Keukoningen\, de damesbiljardclub van Scharnegoutum\, opgericht in 2023.\nOp de donderdag houden wij onze tweewekelijkse dames biljard avond.\nLijkt het je leuk om mee te doen\, of wil je graag meer informatie?\nStuur dan een mailtje naar: damesbiljartscharnegoutum@hotmail.com\nOf kijk op onze Facebookpagina: ‘De Keu Keninginnen’ Scharnegoutum
URL:https://www.scharnegoutum.nl/agenda/de-keu-keninginnen-2/
LOCATION:Dorpshuis\, Legedyk 43\, Scharnegoutum\, Friesland\, 8629RL\, Nederland
CATEGORIES:Bar
END:VEVENT
BEGIN:VEVENT
DTSTART;TZID=Europe/Amsterdam:20251106T190000
DTEND;TZID=Europe/Amsterdam:20251106T223000
DTSTAMP:20260420T075229
CREATED:20251023T163032Z
LAST-MODIFIED:20251023T164729Z
UID:10006250-1762455600-1762468200@www.scharnegoutum.nl
SUMMARY:BC Scharnegoutum
DESCRIPTION:BC Scharnegoutum\nWij zijn één van de biljard verenigingen van Scharnegoutum\nDoel van de vereniging is het biljartniveau van de leden op een hoger peil te brengen\, zonder dat daarbij de gezelligheid verloren gaat.\nDe vereniging is opgericht in 1955 en telt momenteel 18 leden.\nDe competitiewedstrijden zijn op de donderdagavonden en beginnen om 19.00 uur.\n\nWil je meedoen\, of heb je interesse neem dan contact op met de voorzitter\, Rinus de Schiffart (0657842398)
URL:https://www.scharnegoutum.nl/agenda/bc-scharnegoutum-6/2025-11-06/
LOCATION:Dorpshuis\, Legedyk 43\, Scharnegoutum\, Friesland\, 8629RL\, Nederland
CATEGORIES:Bar
END:VEVENT
BEGIN:VEVENT
DTSTART;TZID=Europe/Amsterdam:20251107T190000
DTEND;TZID=Europe/Amsterdam:20251107T213000
DTSTAMP:20260420T075229
CREATED:20250519T180224Z
LAST-MODIFIED:20250927T112355Z
UID:10006095-1762542000-1762551000@www.scharnegoutum.nl
SUMMARY:workshop "zeep maken"
DESCRIPTION:Workshop Zeepgieten-7 november-19.30-21.00 uur\nWat voor activiteit: De activiteiten commissie organiseert deze Workshop voor volwassenen om te leren hoe je je eigen zeep kunt gieten.  Laat je fantasie de vrije loop\, en maak heerlijk geurende zeep\, of kleine gastenzeepjes met bloemen\, zaadjes of bedenk het. De volgende morgen kunt u uw eigen gemaakte zeepjes ophalen.\nToegangskosten: €15\,00 inclusief koffie of thee\, maximaal 10 cursisten en vol=vol\nKaartverkoop: activiteitencommissie@scharnegoutum.nl  en opgeven voor 23 oktober
URL:https://www.scharnegoutum.nl/agenda/workshop-zeep-maken/
LOCATION:Dorpshuis\, Legedyk 43\, Scharnegoutum\, Friesland\, 8629RL\, Nederland
CATEGORIES:Bar
END:VEVENT
BEGIN:VEVENT
DTSTART;TZID=Europe/Amsterdam:20251108T130000
DTEND;TZID=Europe/Amsterdam:20251108T141500
DTSTAMP:20260420T075229
CREATED:20251026T105220Z
LAST-MODIFIED:20251101T125132Z
UID:10006991-1762606800-1762611300@www.scharnegoutum.nl
SUMMARY:Natuerstichting lunch
DESCRIPTION:
URL:https://www.scharnegoutum.nl/agenda/natuerstichting-lunch/
CATEGORIES:Bar
END:VEVENT
END:VCALENDAR