BEGIN:VCALENDAR
VERSION:2.0
PRODID:-//Scharnegoutum | Skearnegoutum - ECPv6.15.20//NONSGML v1.0//EN
CALSCALE:GREGORIAN
METHOD:PUBLISH
X-ORIGINAL-URL:https://www.scharnegoutum.nl
X-WR-CALDESC:Evenementen voor Scharnegoutum | Skearnegoutum
REFRESH-INTERVAL;VALUE=DURATION:PT1H
X-Robots-Tag:noindex
X-PUBLISHED-TTL:PT1H
BEGIN:VTIMEZONE
TZID:Europe/Amsterdam
BEGIN:DAYLIGHT
TZOFFSETFROM:+0100
TZOFFSETTO:+0200
TZNAME:CEST
DTSTART:20240331T010000
END:DAYLIGHT
BEGIN:STANDARD
TZOFFSETFROM:+0200
TZOFFSETTO:+0100
TZNAME:CET
DTSTART:20241027T010000
END:STANDARD
BEGIN:DAYLIGHT
TZOFFSETFROM:+0100
TZOFFSETTO:+0200
TZNAME:CEST
DTSTART:20250330T010000
END:DAYLIGHT
BEGIN:STANDARD
TZOFFSETFROM:+0200
TZOFFSETTO:+0100
TZNAME:CET
DTSTART:20251026T010000
END:STANDARD
BEGIN:DAYLIGHT
TZOFFSETFROM:+0100
TZOFFSETTO:+0200
TZNAME:CEST
DTSTART:20260329T010000
END:DAYLIGHT
BEGIN:STANDARD
TZOFFSETFROM:+0200
TZOFFSETTO:+0100
TZNAME:CET
DTSTART:20261025T010000
END:STANDARD
BEGIN:DAYLIGHT
TZOFFSETFROM:+0100
TZOFFSETTO:+0200
TZNAME:CEST
DTSTART:20270328T010000
END:DAYLIGHT
BEGIN:STANDARD
TZOFFSETFROM:+0200
TZOFFSETTO:+0100
TZNAME:CET
DTSTART:20271031T010000
END:STANDARD
END:VTIMEZONE
BEGIN:VEVENT
DTSTART;TZID=Europe/Amsterdam:20251125T190000
DTEND;TZID=Europe/Amsterdam:20251125T230000
DTSTAMP:20260420T080849
CREATED:20251023T165355Z
LAST-MODIFIED:20251023T165357Z
UID:10006184-1764097200-1764111600@www.scharnegoutum.nl
SUMMARY:De Lakenkrakers
DESCRIPTION:De lakenkrakers \nDe lakenkrakers is één van de biljardverenigingen van Scharnegoutum\, opgericht in 1977 met een huidig aantal leden van 18 mannen. \nOnze  competitiewedstrijden zijn op dinsdagavond in It Swettehûs en beginnen om 19.30 uur\nWe zijn een vereniging die houdt van tradities en een van deze tradities is een jaarlijks uitstapje naar Terschelling. \nEr is ruimte voor nieuwe leden en hiervoor kunt u contact opnemen met Jan de Vries (secretaris) via 0515-412051 of de voorzitter Jan Bouwmeester ( janbouwmeester@ziggo.nl )
URL:https://www.scharnegoutum.nl/agenda/de-lakenkrakers-6-2/2025-11-25/
LOCATION:Dorpshuis\, Legedyk 43\, Scharnegoutum\, Friesland\, 8629RL\, Nederland
CATEGORIES:Bar
END:VEVENT
BEGIN:VEVENT
DTSTART;TZID=Europe/Amsterdam:20251126T193000
DTEND;TZID=Europe/Amsterdam:20251126T223000
DTSTAMP:20260420T080849
CREATED:20250403T173001Z
LAST-MODIFIED:20251020T174727Z
UID:10005128-1764185400-1764196200@www.scharnegoutum.nl
SUMMARY:De Keu Keninginnen
DESCRIPTION:De keukoninginnen\nWij zijn de Keukoningen\, de damesbiljardclub van Scharnegoutum\, opgericht in 2023.\nOp de donderdag houden wij onze tweewekelijkse dames biljard avond.\nLijkt het je leuk om mee te doen\, of wil je graag meer informatie?\nStuur dan een mailtje naar: damesbiljartscharnegoutum@hotmail.com\nOf kijk op onze Facebookpagina: ‘De Keu Keninginnen’ Scharnegoutum
URL:https://www.scharnegoutum.nl/agenda/de-keu-keninginnen/2025-11-26/
LOCATION:Dorpshuis\, Legedyk 43\, Scharnegoutum\, Friesland\, 8629RL\, Nederland
CATEGORIES:Bar
END:VEVENT
BEGIN:VEVENT
DTSTART;TZID=Europe/Amsterdam:20251127T190000
DTEND;TZID=Europe/Amsterdam:20251127T223000
DTSTAMP:20260420T080849
CREATED:20251023T163032Z
LAST-MODIFIED:20251023T164729Z
UID:10006253-1764270000-1764282600@www.scharnegoutum.nl
SUMMARY:BC Scharnegoutum
DESCRIPTION:BC Scharnegoutum\nWij zijn één van de biljard verenigingen van Scharnegoutum\nDoel van de vereniging is het biljartniveau van de leden op een hoger peil te brengen\, zonder dat daarbij de gezelligheid verloren gaat.\nDe vereniging is opgericht in 1955 en telt momenteel 18 leden.\nDe competitiewedstrijden zijn op de donderdagavonden en beginnen om 19.00 uur.\n\nWil je meedoen\, of heb je interesse neem dan contact op met de voorzitter\, Rinus de Schiffart (0657842398)
URL:https://www.scharnegoutum.nl/agenda/bc-scharnegoutum-6/2025-11-27/
LOCATION:Dorpshuis\, Legedyk 43\, Scharnegoutum\, Friesland\, 8629RL\, Nederland
CATEGORIES:Bar
END:VEVENT
BEGIN:VEVENT
DTSTART;TZID=Europe/Amsterdam:20251201T130000
DTEND;TZID=Europe/Amsterdam:20251201T160000
DTSTAMP:20260420T080849
CREATED:20251023T165151Z
LAST-MODIFIED:20251023T165152Z
UID:10006389-1764594000-1764604800@www.scharnegoutum.nl
SUMMARY:Stal Schukken
DESCRIPTION:Stalschukken \nWij zijn een biljardclub\, ooit gestart in een boerderij\, en sinds lange tijd spelen wij onze competitie avonden in het dorpshuis. \nHeeft U interesse\, kunt u contact opnemen met Thomas de Vries ( alofje@gmail.com )
URL:https://www.scharnegoutum.nl/agenda/stal-schukken-8-2/2025-12-01/
LOCATION:Dorpshuis\, Legedyk 43\, Scharnegoutum\, Friesland\, 8629RL\, Nederland
CATEGORIES:Bar
END:VEVENT
BEGIN:VEVENT
DTSTART;TZID=Europe/Amsterdam:20251206T160000
DTEND;TZID=Europe/Amsterdam:20251206T233000
DTSTAMP:20260420T080849
CREATED:20250825T175202Z
LAST-MODIFIED:20251020T175910Z
UID:10006776-1765036800-1765063800@www.scharnegoutum.nl
SUMMARY:Inloop café
DESCRIPTION:Inloopcafé    \nIedere eerste zaterdag van de maand is er een soort van dorpscafé. U bent daar welkom vanaf 16.00 uur. Op die avond kunt u gewoon wat drinken\, maar ook wat eten en gezellig praten met mededorpsbewoners. Maar u kunt ook biljarten of naar een voetbalwedstrijd of Formule1 wedstrijd kijken.                                                                                                                    Gewoon even uit in het eigen dorp!!!
URL:https://www.scharnegoutum.nl/agenda/inloop-cafe/2025-12-06/
LOCATION:Dorpshuis\, Legedyk 43\, Scharnegoutum\, Friesland\, 8629RL\, Nederland
CATEGORIES:Bar
END:VEVENT
BEGIN:VEVENT
DTSTART;TZID=Europe/Amsterdam:20251212T190000
DTEND;TZID=Europe/Amsterdam:20251212T233000
DTSTAMP:20260420T080849
CREATED:20250530T073021Z
LAST-MODIFIED:20250530T073021Z
UID:10005149-1765566000-1765582200@www.scharnegoutum.nl
SUMMARY:familiefeest
DESCRIPTION:
URL:https://www.scharnegoutum.nl/agenda/familiefeest-29/
LOCATION:Dorpshuis\, Legedyk 43\, Scharnegoutum\, Friesland\, 8629RL\, Nederland
CATEGORIES:Bar
END:VEVENT
BEGIN:VEVENT
DTSTART;TZID=Europe/Amsterdam:20251213T160000
DTEND;TZID=Europe/Amsterdam:20251213T220000
DTSTAMP:20260420T080849
CREATED:20250131T200956Z
LAST-MODIFIED:20251118T180437Z
UID:10005939-1765641600-1765663200@www.scharnegoutum.nl
SUMMARY:Familiefeest
DESCRIPTION:
URL:https://www.scharnegoutum.nl/agenda/familiefeest-26/
LOCATION:Dorpshuis\, Legedyk 43\, Scharnegoutum\, Friesland\, 8629RL\, Nederland
CATEGORIES:Bar
END:VEVENT
BEGIN:VEVENT
DTSTART;TZID=Europe/Amsterdam:20251227T160000
DTEND;TZID=Europe/Amsterdam:20251227T213000
DTSTAMP:20260420T080849
CREATED:20250503T161941Z
LAST-MODIFIED:20260107T072439Z
UID:10006082-1766851200-1766871000@www.scharnegoutum.nl
SUMMARY:Maatklaverjassen
DESCRIPTION:In Scharnegoutum wordt in de herfst en winter op twee plaatsen gelegenheid gegeven om te klaverjassen\, in het dorpshuis en in de Kromme Tille. \nEr wordt op beide plaatsen alleen maar gezellig gekaart\, dus niet met het mes op tafel. \nEr zijn meestal zo’n 24 liefhebbers aanwezig\, waarbij iedereen welkom is. \nDe prijzen zijn meestal vleesprijzen. \nAanmelden kan kort voor aanvang ter plekke.
URL:https://www.scharnegoutum.nl/agenda/maatklaverjassen-10/2025-12-27/
LOCATION:Dorpshuis\, Legedyk 43\, Scharnegoutum\, Friesland\, 8629RL\, Nederland
CATEGORIES:Bar
END:VEVENT
BEGIN:VEVENT
DTSTART;TZID=Europe/Amsterdam:20260105T130000
DTEND;TZID=Europe/Amsterdam:20260105T170000
DTSTAMP:20260420T080849
CREATED:20251219T130904Z
LAST-MODIFIED:20251219T130904Z
UID:10007108-1767618000-1767632400@www.scharnegoutum.nl
SUMMARY:Stal Schukken
DESCRIPTION:Stalschukken \nWij zijn een biljardclub\, ooit gestart in een boerderij\, en sinds lange tijd spelen wij onze competitie avonden in het dorpshuis. \nHeeft U interesse\, kunt u contact opnemen met Thomas de Vries ( alofje@gmail.com )
URL:https://www.scharnegoutum.nl/agenda/stal-schukken/2026-01-05/
CATEGORIES:Bar
END:VEVENT
BEGIN:VEVENT
DTSTART;TZID=Europe/Amsterdam:20260106T190000
DTEND;TZID=Europe/Amsterdam:20260106T230000
DTSTAMP:20260420T080849
CREATED:20251219T131443Z
LAST-MODIFIED:20251219T131443Z
UID:10007315-1767726000-1767740400@www.scharnegoutum.nl
SUMMARY:De Lakenkrakers
DESCRIPTION:De lakenkrakers \nDe lakenkrakers is één van de biljardverenigingen van Scharnegoutum\, opgericht in 1977 met een huidig aantal leden van 18 mannen. \nOnze  competitiewedstrijden zijn op dinsdagavond in It Swettehûs en beginnen om 19.30 uur\nWe zijn een vereniging die houdt van tradities en een van deze tradities is een jaarlijks uitstapje naar Terschelling. \nEr is ruimte voor nieuwe leden en hiervoor kunt u contact opnemen met Jan de Vries (secretaris) via 0515-412051 of de voorzitter Jan Bouwmeester ( janbouwmeester@ziggo.nl )
URL:https://www.scharnegoutum.nl/agenda/de-lakenkrakers-7/2026-01-06/
CATEGORIES:Bar
END:VEVENT
BEGIN:VEVENT
DTSTART;TZID=Europe/Amsterdam:20260115T190000
DTEND;TZID=Europe/Amsterdam:20260115T230000
DTSTAMP:20260420T080849
CREATED:20251219T131701Z
LAST-MODIFIED:20251219T131701Z
UID:10007365-1768503600-1768518000@www.scharnegoutum.nl
SUMMARY:BC Scharnegoutum
DESCRIPTION:BC Scharnegoutum\nWij zijn één van de biljard verenigingen van Scharnegoutum\nDoel van de vereniging is het biljartniveau van de leden op een hoger peil te brengen\, zonder dat daarbij de gezelligheid verloren gaat.\nDe vereniging is opgericht in 1955 en telt momenteel 18 leden.\nDe competitiewedstrijden zijn op de donderdagavonden en beginnen om 19.00 uur.\n\nWil je meedoen\, of heb je interesse neem dan contact op met de voorzitter\, Rinus de Schiffart (0657842398)
URL:https://www.scharnegoutum.nl/agenda/bc-scharnegoutum-7/2026-01-15/
CATEGORIES:Bar
END:VEVENT
BEGIN:VEVENT
DTSTART;TZID=Europe/Amsterdam:20260116T193000
DTEND;TZID=Europe/Amsterdam:20260116T223000
DTSTAMP:20260420T080849
CREATED:20260107T070750Z
LAST-MODIFIED:20260107T072406Z
UID:10007592-1768591800-1768602600@www.scharnegoutum.nl
SUMMARY:Klaverjassen
DESCRIPTION:In Scharnegoutum wordt in de herfst en winter op twee plaatsen gelegenheid gegeven om te klaverjassen\, in het dorpshuis en in de Kromme Tille. \nEr wordt op beide plaatsen alleen maar gezellig gekaart\, dus niet met het mes op tafel. \nEr zijn meestal zo’n 24 liefhebbers aanwezig\, waarbij iedereen welkom is. \nDe prijzen zijn meestal vleesprijzen. \nAanmelden kan kort voor aanvang ter plekke.
URL:https://www.scharnegoutum.nl/agenda/klaverjassen/2026-01-16/
CATEGORIES:Bar
END:VEVENT
BEGIN:VEVENT
DTSTART;TZID=Europe/Amsterdam:20260121T193000
DTEND;TZID=Europe/Amsterdam:20260121T223000
DTSTAMP:20260420T080849
CREATED:20250821T194832Z
LAST-MODIFIED:20260107T071353Z
UID:10006767-1769023800-1769034600@www.scharnegoutum.nl
SUMMARY:De Keu Keninginnen
DESCRIPTION:Activiteit: 2-wekelijkse competitieavond\nKosten: contributie\nKaartenverkoop: N.V.T.\nBen je geïnterresseerd\, loop dan een keer binnen op één van onze speelavonden of stuur een mailtje.\nVoor meer informatie zie op deze site onder verenigingen/Keukoninginnen  of via facebook: ‘De Keu Keuninginnen Skearnegoutum’.
URL:https://www.scharnegoutum.nl/agenda/de-keu-keninginnen-3/2026-01-21/
LOCATION:Dorpshuis\, Legedyk 43\, Scharnegoutum\, Friesland\, 8629RL\, Nederland
CATEGORIES:Bar
END:VEVENT
BEGIN:VEVENT
DTSTART;TZID=Europe/Amsterdam:20260124T160000
DTEND;TZID=Europe/Amsterdam:20260124T230000
DTSTAMP:20260420T080849
CREATED:20251201T182627Z
LAST-MODIFIED:20251201T182627Z
UID:10007004-1769270400-1769295600@www.scharnegoutum.nl
SUMMARY:Familiefeest
DESCRIPTION:
URL:https://www.scharnegoutum.nl/agenda/familiefeest/
CATEGORIES:Bar
END:VEVENT
BEGIN:VEVENT
DTSTART;TZID=Europe/Amsterdam:20260215T160000
DTEND;TZID=Europe/Amsterdam:20260215T180000
DTSTAMP:20260420T080849
CREATED:20260202T134407Z
LAST-MODIFIED:20260202T134407Z
UID:10007613-1771171200-1771178400@www.scharnegoutum.nl
SUMMARY:Bijeenkomst Willem Santemastrjitte
DESCRIPTION:
URL:https://www.scharnegoutum.nl/agenda/bijeenkomst-willem-santemastrjitte/
CATEGORIES:Bar
END:VEVENT
BEGIN:VEVENT
DTSTART;TZID=Europe/Amsterdam:20260227T190000
DTEND;TZID=Europe/Amsterdam:20260227T233000
DTSTAMP:20260420T080849
CREATED:20260212T175319Z
LAST-MODIFIED:20260212T175359Z
UID:10007622-1772218800-1772235000@www.scharnegoutum.nl
SUMMARY:Biljarttoernooi BC Scharnegoutum - De Lakenkrakers (o.v.b.)
DESCRIPTION:
URL:https://www.scharnegoutum.nl/agenda/biljarttoernooi-bc-scharnegoutum-de-lakenkrakers/
CATEGORIES:Bar
END:VEVENT
BEGIN:VEVENT
DTSTART;TZID=Europe/Amsterdam:20260320T190000
DTEND;TZID=Europe/Amsterdam:20260320T230000
DTSTAMP:20260420T080849
CREATED:20251215T102728Z
LAST-MODIFIED:20251219T124323Z
UID:10007029-1774033200-1774047600@www.scharnegoutum.nl
SUMMARY:Biljarttoernooi De Lakenkrakers - Tersoal
DESCRIPTION:
URL:https://www.scharnegoutum.nl/agenda/reservering-biljarttoernooi/
CATEGORIES:Bar
END:VEVENT
BEGIN:VEVENT
DTSTART;TZID=Europe/Amsterdam:20260411T200000
DTEND;TZID=Europe/Amsterdam:20260411T220000
DTSTAMP:20260420T080849
CREATED:20251015T165227Z
LAST-MODIFIED:20260107T071440Z
UID:10006919-1775937600-1775944800@www.scharnegoutum.nl
SUMMARY:Bier proeven
DESCRIPTION:Dit is de tweede keer dat de activiteitencommissie van Scharnegoutum dit organiseert\, dus dan weet je dat het een succes was en hopelijk weer wordt.\nWe gaan blind 5 soorten of eigenlijk stijlen van bier proeven en het geheel wordt begeleid door de Bierwinkel uit Sint Nic.\nAan de hand van een slideshow nemen zij u mee in de wereld van de speciaalbieren. Leer meer over het brouwproces\, de geschiedenis\, de brouwerijen en nog veel meer. De bieren worden één voor één geserveerd in proefglaasjes van 15cl. Door voor het proeven niet bekend te maken welk bier er geschonken wordt\, worden de deelnemers uitgedaagd om met alle zintuigen te proeven. Tussendoor zijn er dan wat hapjes om de smaak te motiveren. De proeverij duurt +/- 2 uur en begint om 20.00 uur en de kosten zijn €32.00.\nOpgeven kan via activiteitencommissie@scharnegoutum.nl en vol is vol.
URL:https://www.scharnegoutum.nl/agenda/bier-proeven/
CATEGORIES:Bar
END:VEVENT
BEGIN:VEVENT
DTSTART;VALUE=DATE:20260423
DTEND;VALUE=DATE:20260425
DTSTAMP:20260420T080849
CREATED:20260416T170140Z
LAST-MODIFIED:20260416T170223Z
UID:10007774-1776902400-1777075199@www.scharnegoutum.nl
SUMMARY:Installatie ProAv
DESCRIPTION:
URL:https://www.scharnegoutum.nl/agenda/installatie-proav/
CATEGORIES:Bar
END:VEVENT
BEGIN:VEVENT
DTSTART;TZID=Europe/Amsterdam:20260504T183000
DTEND;TZID=Europe/Amsterdam:20260504T210000
DTSTAMP:20260420T080849
CREATED:20260312T181041Z
LAST-MODIFIED:20260312T181041Z
UID:10007647-1777919400-1777928400@www.scharnegoutum.nl
SUMMARY:4 mei herdenking
DESCRIPTION:
URL:https://www.scharnegoutum.nl/agenda/4-mei-herdenking-2/
CATEGORIES:Bar
END:VEVENT
BEGIN:VEVENT
DTSTART;TZID=Europe/Amsterdam:20260510T160000
DTEND;TZID=Europe/Amsterdam:20260510T200000
DTSTAMP:20260420T080849
CREATED:20260406T063325Z
LAST-MODIFIED:20260406T063325Z
UID:10007695-1778428800-1778443200@www.scharnegoutum.nl
SUMMARY:familiefeest
DESCRIPTION:
URL:https://www.scharnegoutum.nl/agenda/familiefeest-5/
CATEGORIES:Bar
END:VEVENT
BEGIN:VEVENT
DTSTART;TZID=Europe/Amsterdam:20260512T100000
DTEND;TZID=Europe/Amsterdam:20260512T120000
DTSTAMP:20260420T080849
CREATED:20260409T190936Z
LAST-MODIFIED:20260409T191012Z
UID:10007698-1778580000-1778587200@www.scharnegoutum.nl
SUMMARY:openstelling voor Wandelelfstedentocht
DESCRIPTION:
URL:https://www.scharnegoutum.nl/agenda/openstelling-voor-wandelelfstedentocht/
CATEGORIES:Bar
END:VEVENT
BEGIN:VEVENT
DTSTART;TZID=Europe/Amsterdam:20260909T193000
DTEND;TZID=Europe/Amsterdam:20260909T223000
DTSTAMP:20260420T080849
CREATED:20260327T195607Z
LAST-MODIFIED:20260327T195711Z
UID:10007667-1788982200-1788993000@www.scharnegoutum.nl
SUMMARY:De Keu Keninginnen
DESCRIPTION:Activiteit: 2-wekelijkse competitieavond\nKosten: contributie\nKaartenverkoop: N.V.T.\nBen je geïnterresseerd\, loop dan een keer binnen op één van onze speelavonden of stuur een mailtje.\nVoor meer informatie zie op deze site onder verenigingen/Keukoninginnen  of via facebook: ‘De Keu Keuninginnen Skearnegoutum’.
URL:https://www.scharnegoutum.nl/agenda/de-keu-keninginnen-4/2026-09-09/
CATEGORIES:Bar
END:VEVENT
BEGIN:VEVENT
DTSTART;TZID=Europe/Amsterdam:20261003T160000
DTEND;TZID=Europe/Amsterdam:20261003T233000
DTSTAMP:20260420T080849
CREATED:20260228T130538Z
LAST-MODIFIED:20260228T130538Z
UID:10007635-1791043200-1791070200@www.scharnegoutum.nl
SUMMARY:Inloopcafé
DESCRIPTION:
URL:https://www.scharnegoutum.nl/agenda/inloopcafe/2026-10-03/
CATEGORIES:Bar
END:VEVENT
BEGIN:VEVENT
DTSTART;TZID=Europe/Amsterdam:20261016T190000
DTEND;TZID=Europe/Amsterdam:20261016T230000
DTSTAMP:20260420T080849
CREATED:20260319T182833Z
LAST-MODIFIED:20260319T182833Z
UID:10007659-1792177200-1792191600@www.scharnegoutum.nl
SUMMARY:BC De Lakenkrakers toernooi
DESCRIPTION:
URL:https://www.scharnegoutum.nl/agenda/bc-de-lakenkrakers-toernooi/
CATEGORIES:Bar
END:VEVENT
END:VCALENDAR