BEGIN:VCALENDAR
VERSION:2.0
PRODID:-//Scharnegoutum | Skearnegoutum - ECPv6.15.20//NONSGML v1.0//EN
CALSCALE:GREGORIAN
METHOD:PUBLISH
X-ORIGINAL-URL:https://www.scharnegoutum.nl
X-WR-CALDESC:Evenementen voor Scharnegoutum | Skearnegoutum
REFRESH-INTERVAL;VALUE=DURATION:PT1H
X-Robots-Tag:noindex
X-PUBLISHED-TTL:PT1H
BEGIN:VTIMEZONE
TZID:Europe/Amsterdam
BEGIN:DAYLIGHT
TZOFFSETFROM:+0100
TZOFFSETTO:+0200
TZNAME:CEST
DTSTART:20240331T010000
END:DAYLIGHT
BEGIN:STANDARD
TZOFFSETFROM:+0200
TZOFFSETTO:+0100
TZNAME:CET
DTSTART:20241027T010000
END:STANDARD
BEGIN:DAYLIGHT
TZOFFSETFROM:+0100
TZOFFSETTO:+0200
TZNAME:CEST
DTSTART:20250330T010000
END:DAYLIGHT
BEGIN:STANDARD
TZOFFSETFROM:+0200
TZOFFSETTO:+0100
TZNAME:CET
DTSTART:20251026T010000
END:STANDARD
BEGIN:DAYLIGHT
TZOFFSETFROM:+0100
TZOFFSETTO:+0200
TZNAME:CEST
DTSTART:20260329T010000
END:DAYLIGHT
BEGIN:STANDARD
TZOFFSETFROM:+0200
TZOFFSETTO:+0100
TZNAME:CET
DTSTART:20261025T010000
END:STANDARD
END:VTIMEZONE
BEGIN:VEVENT
DTSTART;VALUE=DATE:20250112
DTEND;VALUE=DATE:20250113
DTSTAMP:20260423T105654
CREATED:20241203T181622Z
LAST-MODIFIED:20241203T181622Z
UID:10005826-1736640000-1736726399@www.scharnegoutum.nl
SUMMARY:Familiefeest
DESCRIPTION:
URL:https://www.scharnegoutum.nl/agenda/familiefeest-23/
LOCATION:Dorpshuis\, Legedyk 43\, Scharnegoutum\, Friesland\, 8629RL\, Nederland
CATEGORIES:Bar
END:VEVENT
BEGIN:VEVENT
DTSTART;TZID=Europe/Amsterdam:20250113T130000
DTEND;TZID=Europe/Amsterdam:20250113T163000
DTSTAMP:20260423T105654
CREATED:20241226T165109Z
LAST-MODIFIED:20241226T165109Z
UID:10005830-1736773200-1736785800@www.scharnegoutum.nl
SUMMARY:Stal Schukken
DESCRIPTION:
URL:https://www.scharnegoutum.nl/agenda/stal-schukken-7/2025-01-13/
LOCATION:Dorpshuis\, Legedyk 43\, Scharnegoutum\, Friesland\, 8629RL\, Nederland
CATEGORIES:Bar
END:VEVENT
BEGIN:VEVENT
DTSTART;TZID=Europe/Amsterdam:20250113T140000
DTEND;TZID=Europe/Amsterdam:20250113T180000
DTSTAMP:20260423T105654
CREATED:20230331T152659Z
LAST-MODIFIED:20230331T153101Z
UID:10004466-1736776800-1736791200@www.scharnegoutum.nl
SUMMARY:Stal Schukken
DESCRIPTION:
URL:https://www.scharnegoutum.nl/agenda/stal-schukken-3/2025-01-13/
LOCATION:Dorpshuis\, Legedyk 43\, Scharnegoutum\, Friesland\, 8629RL\, Nederland
CATEGORIES:Bar
END:VEVENT
BEGIN:VEVENT
DTSTART;TZID=Europe/Amsterdam:20250114T190000
DTEND;TZID=Europe/Amsterdam:20250114T223000
DTSTAMP:20260423T105654
CREATED:20241226T165608Z
LAST-MODIFIED:20241226T165608Z
UID:10005871-1736881200-1736893800@www.scharnegoutum.nl
SUMMARY:De Lakenkrakers
DESCRIPTION:
URL:https://www.scharnegoutum.nl/agenda/de-lakenkrakers-5/2025-01-14/
LOCATION:Dorpshuis\, Legedyk 43\, Scharnegoutum\, Friesland\, 8629RL\, Nederland
CATEGORIES:Bar
END:VEVENT
BEGIN:VEVENT
DTSTART;TZID=Europe/Amsterdam:20250115T193000
DTEND;TZID=Europe/Amsterdam:20250115T223000
DTSTAMP:20260423T105654
CREATED:20241117T142150Z
LAST-MODIFIED:20241117T144720Z
UID:10005013-1736969400-1736980200@www.scharnegoutum.nl
SUMMARY:Dames biljarten
DESCRIPTION:
URL:https://www.scharnegoutum.nl/agenda/dames-biljarten/2025-01-15/
LOCATION:Dorpshuis\, Legedyk 43\, Scharnegoutum\, Friesland\, 8629RL\, Nederland
CATEGORIES:Bar
END:VEVENT
BEGIN:VEVENT
DTSTART;TZID=Europe/Amsterdam:20250116T193000
DTEND;TZID=Europe/Amsterdam:20250116T223000
DTSTAMP:20260423T105654
CREATED:20241226T170439Z
LAST-MODIFIED:20241226T170439Z
UID:10005886-1737055800-1737066600@www.scharnegoutum.nl
SUMMARY:BC Scharnegoutum
DESCRIPTION:
URL:https://www.scharnegoutum.nl/agenda/bc-scharnegoutum-5/2025-01-16/
LOCATION:Dorpshuis\, Legedyk 43\, Scharnegoutum\, Friesland\, 8629RL\, Nederland
CATEGORIES:Bar
END:VEVENT
BEGIN:VEVENT
DTSTART;TZID=Europe/Amsterdam:20250120T140000
DTEND;TZID=Europe/Amsterdam:20250120T180000
DTSTAMP:20260423T105654
CREATED:20230331T152659Z
LAST-MODIFIED:20230331T153101Z
UID:10004467-1737381600-1737396000@www.scharnegoutum.nl
SUMMARY:Stal Schukken
DESCRIPTION:
URL:https://www.scharnegoutum.nl/agenda/stal-schukken-3/2025-01-20/
LOCATION:Dorpshuis\, Legedyk 43\, Scharnegoutum\, Friesland\, 8629RL\, Nederland
CATEGORIES:Bar
END:VEVENT
BEGIN:VEVENT
DTSTART;TZID=Europe/Amsterdam:20250126T160000
DTEND;TZID=Europe/Amsterdam:20250126T180000
DTSTAMP:20260423T105654
CREATED:20250106T190740Z
LAST-MODIFIED:20250106T190740Z
UID:10005912-1737907200-1737914400@www.scharnegoutum.nl
SUMMARY:Nieuwjaarsbijeenkomst Willem Santemastrjitte
DESCRIPTION:
URL:https://www.scharnegoutum.nl/agenda/nieuwjaarsbijeenkomst-willem-santemastrjitte-2/
LOCATION:Dorpshuis\, Legedyk 43\, Scharnegoutum\, Friesland\, 8629RL\, Nederland
CATEGORIES:Bar
END:VEVENT
BEGIN:VEVENT
DTSTART;TZID=Europe/Amsterdam:20250127T140000
DTEND;TZID=Europe/Amsterdam:20250127T180000
DTSTAMP:20260423T105654
CREATED:20230331T152659Z
LAST-MODIFIED:20230331T153101Z
UID:10004468-1737986400-1738000800@www.scharnegoutum.nl
SUMMARY:Stal Schukken
DESCRIPTION:
URL:https://www.scharnegoutum.nl/agenda/stal-schukken-3/2025-01-27/
LOCATION:Dorpshuis\, Legedyk 43\, Scharnegoutum\, Friesland\, 8629RL\, Nederland
CATEGORIES:Bar
END:VEVENT
BEGIN:VEVENT
DTSTART;TZID=Europe/Amsterdam:20250201T100000
DTEND;TZID=Europe/Amsterdam:20250201T120000
DTSTAMP:20260423T105654
CREATED:20240530T180131Z
LAST-MODIFIED:20240530T180131Z
UID:10005538-1738404000-1738411200@www.scharnegoutum.nl
SUMMARY:Putsje café
DESCRIPTION:
URL:https://www.scharnegoutum.nl/agenda/putsje-cafe/2025-02-01/
LOCATION:Dorpshuis\, Legedyk 43\, Scharnegoutum\, Friesland\, 8629RL\, Nederland
CATEGORIES:Bar
END:VEVENT
BEGIN:VEVENT
DTSTART;TZID=Europe/Amsterdam:20250203T140000
DTEND;TZID=Europe/Amsterdam:20250203T180000
DTSTAMP:20260423T105654
CREATED:20230331T152659Z
LAST-MODIFIED:20230331T153101Z
UID:10004469-1738591200-1738605600@www.scharnegoutum.nl
SUMMARY:Stal Schukken
DESCRIPTION:
URL:https://www.scharnegoutum.nl/agenda/stal-schukken-3/2025-02-03/
LOCATION:Dorpshuis\, Legedyk 43\, Scharnegoutum\, Friesland\, 8629RL\, Nederland
CATEGORIES:Bar
END:VEVENT
BEGIN:VEVENT
DTSTART;TZID=Europe/Amsterdam:20250208T160000
DTEND;TZID=Europe/Amsterdam:20250208T230000
DTSTAMP:20260423T105654
CREATED:20240927T164927Z
LAST-MODIFIED:20241117T131420Z
UID:10005795-1739030400-1739055600@www.scharnegoutum.nl
SUMMARY:Inloopcafe
DESCRIPTION:
URL:https://www.scharnegoutum.nl/agenda/inloopcafe-3/2025-02-08/
LOCATION:Dorpshuis\, Legedyk 43\, Scharnegoutum\, Friesland\, 8629RL\, Nederland
CATEGORIES:Bar
END:VEVENT
BEGIN:VEVENT
DTSTART;TZID=Europe/Amsterdam:20250210T140000
DTEND;TZID=Europe/Amsterdam:20250210T180000
DTSTAMP:20260423T105654
CREATED:20230331T152659Z
LAST-MODIFIED:20230331T153101Z
UID:10004470-1739196000-1739210400@www.scharnegoutum.nl
SUMMARY:Stal Schukken
DESCRIPTION:
URL:https://www.scharnegoutum.nl/agenda/stal-schukken-3/2025-02-10/
LOCATION:Dorpshuis\, Legedyk 43\, Scharnegoutum\, Friesland\, 8629RL\, Nederland
CATEGORIES:Bar
END:VEVENT
BEGIN:VEVENT
DTSTART;TZID=Europe/Amsterdam:20250217T140000
DTEND;TZID=Europe/Amsterdam:20250217T180000
DTSTAMP:20260423T105654
CREATED:20230331T152659Z
LAST-MODIFIED:20230331T153101Z
UID:10004471-1739800800-1739815200@www.scharnegoutum.nl
SUMMARY:Stal Schukken
DESCRIPTION:
URL:https://www.scharnegoutum.nl/agenda/stal-schukken-3/2025-02-17/
LOCATION:Dorpshuis\, Legedyk 43\, Scharnegoutum\, Friesland\, 8629RL\, Nederland
CATEGORIES:Bar
END:VEVENT
BEGIN:VEVENT
DTSTART;TZID=Europe/Amsterdam:20250224T140000
DTEND;TZID=Europe/Amsterdam:20250224T180000
DTSTAMP:20260423T105654
CREATED:20230331T152659Z
LAST-MODIFIED:20230331T153101Z
UID:10004472-1740405600-1740420000@www.scharnegoutum.nl
SUMMARY:Stal Schukken
DESCRIPTION:
URL:https://www.scharnegoutum.nl/agenda/stal-schukken-3/2025-02-24/
LOCATION:Dorpshuis\, Legedyk 43\, Scharnegoutum\, Friesland\, 8629RL\, Nederland
CATEGORIES:Bar
END:VEVENT
BEGIN:VEVENT
DTSTART;TZID=Europe/Amsterdam:20250303T140000
DTEND;TZID=Europe/Amsterdam:20250303T180000
DTSTAMP:20260423T105654
CREATED:20230331T152659Z
LAST-MODIFIED:20230331T153101Z
UID:10004473-1741010400-1741024800@www.scharnegoutum.nl
SUMMARY:Stal Schukken
DESCRIPTION:
URL:https://www.scharnegoutum.nl/agenda/stal-schukken-3/2025-03-03/
LOCATION:Dorpshuis\, Legedyk 43\, Scharnegoutum\, Friesland\, 8629RL\, Nederland
CATEGORIES:Bar
END:VEVENT
BEGIN:VEVENT
DTSTART;TZID=Europe/Amsterdam:20250310T140000
DTEND;TZID=Europe/Amsterdam:20250310T180000
DTSTAMP:20260423T105654
CREATED:20230331T152659Z
LAST-MODIFIED:20230331T153101Z
UID:10004474-1741615200-1741629600@www.scharnegoutum.nl
SUMMARY:Stal Schukken
DESCRIPTION:
URL:https://www.scharnegoutum.nl/agenda/stal-schukken-3/2025-03-10/
LOCATION:Dorpshuis\, Legedyk 43\, Scharnegoutum\, Friesland\, 8629RL\, Nederland
CATEGORIES:Bar
END:VEVENT
BEGIN:VEVENT
DTSTART;TZID=Europe/Amsterdam:20250317T140000
DTEND;TZID=Europe/Amsterdam:20250317T180000
DTSTAMP:20260423T105654
CREATED:20230331T152659Z
LAST-MODIFIED:20230331T153101Z
UID:10004475-1742220000-1742234400@www.scharnegoutum.nl
SUMMARY:Stal Schukken
DESCRIPTION:
URL:https://www.scharnegoutum.nl/agenda/stal-schukken-3/2025-03-17/
LOCATION:Dorpshuis\, Legedyk 43\, Scharnegoutum\, Friesland\, 8629RL\, Nederland
CATEGORIES:Bar
END:VEVENT
BEGIN:VEVENT
DTSTART;TZID=Europe/Amsterdam:20250323T153000
DTEND;TZID=Europe/Amsterdam:20250323T183000
DTSTAMP:20260423T105654
CREATED:20250114T191530Z
LAST-MODIFIED:20250114T191530Z
UID:10005919-1742743800-1742754600@www.scharnegoutum.nl
SUMMARY:familiefeest
DESCRIPTION:
URL:https://www.scharnegoutum.nl/agenda/familiefeest-25/
LOCATION:Dorpshuis\, Legedyk 43\, Scharnegoutum\, Friesland\, 8629RL\, Nederland
CATEGORIES:Bar
END:VEVENT
BEGIN:VEVENT
DTSTART;TZID=Europe/Amsterdam:20250324T140000
DTEND;TZID=Europe/Amsterdam:20250324T180000
DTSTAMP:20260423T105654
CREATED:20230331T152659Z
LAST-MODIFIED:20230331T153101Z
UID:10004476-1742824800-1742839200@www.scharnegoutum.nl
SUMMARY:Stal Schukken
DESCRIPTION:
URL:https://www.scharnegoutum.nl/agenda/stal-schukken-3/2025-03-24/
LOCATION:Dorpshuis\, Legedyk 43\, Scharnegoutum\, Friesland\, 8629RL\, Nederland
CATEGORIES:Bar
END:VEVENT
BEGIN:VEVENT
DTSTART;TZID=Europe/Amsterdam:20250328T190000
DTEND;TZID=Europe/Amsterdam:20250328T233000
DTSTAMP:20260423T105654
CREATED:20250212T203458Z
LAST-MODIFIED:20250212T203458Z
UID:10005065-1743188400-1743204600@www.scharnegoutum.nl
SUMMARY:Biljarttoernooi Lakenkrakers~BC Scharnegoutum
DESCRIPTION:
URL:https://www.scharnegoutum.nl/agenda/biljarttoernooi-lakenkrakersbc-scharnegoutum/
LOCATION:Dorpshuis\, Legedyk 43\, Scharnegoutum\, Friesland\, 8629RL\, Nederland
CATEGORIES:Bar
END:VEVENT
BEGIN:VEVENT
DTSTART;TZID=Europe/Amsterdam:20250331T150000
DTEND;TZID=Europe/Amsterdam:20250331T190000
DTSTAMP:20260423T105654
CREATED:20230331T152659Z
LAST-MODIFIED:20230331T153101Z
UID:10004477-1743433200-1743447600@www.scharnegoutum.nl
SUMMARY:Stal Schukken
DESCRIPTION:
URL:https://www.scharnegoutum.nl/agenda/stal-schukken-3/2025-03-31/
LOCATION:Dorpshuis\, Legedyk 43\, Scharnegoutum\, Friesland\, 8629RL\, Nederland
CATEGORIES:Bar
END:VEVENT
BEGIN:VEVENT
DTSTART;TZID=Europe/Amsterdam:20250407T150000
DTEND;TZID=Europe/Amsterdam:20250407T190000
DTSTAMP:20260423T105654
CREATED:20230331T152659Z
LAST-MODIFIED:20230331T153101Z
UID:10004478-1744038000-1744052400@www.scharnegoutum.nl
SUMMARY:Stal Schukken
DESCRIPTION:
URL:https://www.scharnegoutum.nl/agenda/stal-schukken-3/2025-04-07/
LOCATION:Dorpshuis\, Legedyk 43\, Scharnegoutum\, Friesland\, 8629RL\, Nederland
CATEGORIES:Bar
END:VEVENT
BEGIN:VEVENT
DTSTART;TZID=Europe/Amsterdam:20250408T093000
DTEND;TZID=Europe/Amsterdam:20250408T103000
DTSTAMP:20260423T105654
CREATED:20250323T202508Z
LAST-MODIFIED:20250323T202508Z
UID:10005954-1744104600-1744108200@www.scharnegoutum.nl
SUMMARY:Yin Yoga
DESCRIPTION:
URL:https://www.scharnegoutum.nl/agenda/yin-yoga-12/
LOCATION:Dorpshuis\, Legedyk 43\, Scharnegoutum\, Friesland\, 8629RL\, Nederland
CATEGORIES:Bar
END:VEVENT
BEGIN:VEVENT
DTSTART;TZID=Europe/Amsterdam:20250408T104500
DTEND;TZID=Europe/Amsterdam:20250408T114500
DTSTAMP:20260423T105654
CREATED:20250323T202624Z
LAST-MODIFIED:20250323T202624Z
UID:10005955-1744109100-1744112700@www.scharnegoutum.nl
SUMMARY:Stoelfit voor ouderen
DESCRIPTION:
URL:https://www.scharnegoutum.nl/agenda/stoelfit-voor-ouderen-11/
LOCATION:Dorpshuis\, Legedyk 43\, Scharnegoutum\, Friesland\, 8629RL\, Nederland
CATEGORIES:Bar
END:VEVENT
BEGIN:VEVENT
DTSTART;TZID=Europe/Amsterdam:20250412T200000
DTEND;TZID=Europe/Amsterdam:20250412T235500
DTSTAMP:20260423T105654
CREATED:20240612T171302Z
LAST-MODIFIED:20240612T171302Z
UID:10004878-1744488000-1744502100@www.scharnegoutum.nl
SUMMARY:familiefeest
DESCRIPTION:
URL:https://www.scharnegoutum.nl/agenda/familiefeest-21/
LOCATION:Dorpshuis\, Legedyk 43\, Scharnegoutum\, Friesland\, 8629RL\, Nederland
CATEGORIES:Bar
END:VEVENT
BEGIN:VEVENT
DTSTART;TZID=Europe/Amsterdam:20250414T150000
DTEND;TZID=Europe/Amsterdam:20250414T190000
DTSTAMP:20260423T105654
CREATED:20230331T152659Z
LAST-MODIFIED:20230331T153101Z
UID:10004479-1744642800-1744657200@www.scharnegoutum.nl
SUMMARY:Stal Schukken
DESCRIPTION:
URL:https://www.scharnegoutum.nl/agenda/stal-schukken-3/2025-04-14/
LOCATION:Dorpshuis\, Legedyk 43\, Scharnegoutum\, Friesland\, 8629RL\, Nederland
CATEGORIES:Bar
END:VEVENT
BEGIN:VEVENT
DTSTART;TZID=Europe/Amsterdam:20250421T150000
DTEND;TZID=Europe/Amsterdam:20250421T190000
DTSTAMP:20260423T105654
CREATED:20230331T152659Z
LAST-MODIFIED:20230331T153101Z
UID:10004480-1745247600-1745262000@www.scharnegoutum.nl
SUMMARY:Stal Schukken
DESCRIPTION:
URL:https://www.scharnegoutum.nl/agenda/stal-schukken-3/2025-04-21/
LOCATION:Dorpshuis\, Legedyk 43\, Scharnegoutum\, Friesland\, 8629RL\, Nederland
CATEGORIES:Bar
END:VEVENT
BEGIN:VEVENT
DTSTART;TZID=Europe/Amsterdam:20250426T200000
DTEND;TZID=Europe/Amsterdam:20250426T233000
DTSTAMP:20260423T105654
CREATED:20250416T175150Z
LAST-MODIFIED:20250416T175150Z
UID:10006075-1745697600-1745710200@www.scharnegoutum.nl
SUMMARY:familiefeest
DESCRIPTION:
URL:https://www.scharnegoutum.nl/agenda/familiefeest-27/
LOCATION:Dorpshuis\, Legedyk 43\, Scharnegoutum\, Friesland\, 8629RL\, Nederland
CATEGORIES:Bar
END:VEVENT
BEGIN:VEVENT
DTSTART;TZID=Europe/Amsterdam:20250428T150000
DTEND;TZID=Europe/Amsterdam:20250428T190000
DTSTAMP:20260423T105654
CREATED:20230331T152659Z
LAST-MODIFIED:20230331T153101Z
UID:10004481-1745852400-1745866800@www.scharnegoutum.nl
SUMMARY:Stal Schukken
DESCRIPTION:
URL:https://www.scharnegoutum.nl/agenda/stal-schukken-3/2025-04-28/
LOCATION:Dorpshuis\, Legedyk 43\, Scharnegoutum\, Friesland\, 8629RL\, Nederland
CATEGORIES:Bar
END:VEVENT
END:VCALENDAR