BEGIN:VCALENDAR
VERSION:2.0
PRODID:-//Scharnegoutum | Skearnegoutum - ECPv6.15.20//NONSGML v1.0//EN
CALSCALE:GREGORIAN
METHOD:PUBLISH
X-ORIGINAL-URL:https://www.scharnegoutum.nl
X-WR-CALDESC:Evenementen voor Scharnegoutum | Skearnegoutum
REFRESH-INTERVAL;VALUE=DURATION:PT1H
X-Robots-Tag:noindex
X-PUBLISHED-TTL:PT1H
BEGIN:VTIMEZONE
TZID:Europe/Amsterdam
BEGIN:DAYLIGHT
TZOFFSETFROM:+0100
TZOFFSETTO:+0200
TZNAME:CEST
DTSTART:20240331T010000
END:DAYLIGHT
BEGIN:STANDARD
TZOFFSETFROM:+0200
TZOFFSETTO:+0100
TZNAME:CET
DTSTART:20241027T010000
END:STANDARD
BEGIN:DAYLIGHT
TZOFFSETFROM:+0100
TZOFFSETTO:+0200
TZNAME:CEST
DTSTART:20250330T010000
END:DAYLIGHT
BEGIN:STANDARD
TZOFFSETFROM:+0200
TZOFFSETTO:+0100
TZNAME:CET
DTSTART:20251026T010000
END:STANDARD
BEGIN:DAYLIGHT
TZOFFSETFROM:+0100
TZOFFSETTO:+0200
TZNAME:CEST
DTSTART:20260329T010000
END:DAYLIGHT
BEGIN:STANDARD
TZOFFSETFROM:+0200
TZOFFSETTO:+0100
TZNAME:CET
DTSTART:20261025T010000
END:STANDARD
END:VTIMEZONE
BEGIN:VEVENT
DTSTART;TZID=Europe/Amsterdam:20251001T193000
DTEND;TZID=Europe/Amsterdam:20251001T223000
DTSTAMP:20260420T062054
CREATED:20250403T173001Z
LAST-MODIFIED:20251020T174727Z
UID:10005124-1759347000-1759357800@www.scharnegoutum.nl
SUMMARY:De Keu Keninginnen
DESCRIPTION:De keukoninginnen\nWij zijn de Keukoningen\, de damesbiljardclub van Scharnegoutum\, opgericht in 2023.\nOp de donderdag houden wij onze tweewekelijkse dames biljard avond.\nLijkt het je leuk om mee te doen\, of wil je graag meer informatie?\nStuur dan een mailtje naar: damesbiljartscharnegoutum@hotmail.com\nOf kijk op onze Facebookpagina: ‘De Keu Keninginnen’ Scharnegoutum
URL:https://www.scharnegoutum.nl/agenda/de-keu-keninginnen/2025-10-01/
LOCATION:Dorpshuis\, Legedyk 43\, Scharnegoutum\, Friesland\, 8629RL\, Nederland
CATEGORIES:Bar
END:VEVENT
BEGIN:VEVENT
DTSTART;TZID=Europe/Amsterdam:20251004T160000
DTEND;TZID=Europe/Amsterdam:20251004T233000
DTSTAMP:20260420T062054
CREATED:20250825T175202Z
LAST-MODIFIED:20251020T175910Z
UID:10006774-1759593600-1759620600@www.scharnegoutum.nl
SUMMARY:Inloop café
DESCRIPTION:Inloopcafé    \nIedere eerste zaterdag van de maand is er een soort van dorpscafé. U bent daar welkom vanaf 16.00 uur. Op die avond kunt u gewoon wat drinken\, maar ook wat eten en gezellig praten met mededorpsbewoners. Maar u kunt ook biljarten of naar een voetbalwedstrijd of Formule1 wedstrijd kijken.                                                                                                                    Gewoon even uit in het eigen dorp!!!
URL:https://www.scharnegoutum.nl/agenda/inloop-cafe/2025-10-04/
LOCATION:Dorpshuis\, Legedyk 43\, Scharnegoutum\, Friesland\, 8629RL\, Nederland
CATEGORIES:Bar
END:VEVENT
BEGIN:VEVENT
DTSTART;TZID=Europe/Amsterdam:20251006T130000
DTEND;TZID=Europe/Amsterdam:20251006T160000
DTSTAMP:20260420T062054
CREATED:20250812T171020Z
LAST-MODIFIED:20251020T175220Z
UID:10006381-1759755600-1759766400@www.scharnegoutum.nl
SUMMARY:Stal Schukken
DESCRIPTION:Stalschukken \nWij zijn een biljardclub\, ooit gestart in een boerderij\, en sinds lange tijd spelen wij onze competitie avonden in het dorpshuis. \nHeeft U interesse\, kunt u contact opnemen met Thomas de Vries ( alofje@gmail.com )
URL:https://www.scharnegoutum.nl/agenda/stal-schukken-8/2025-10-06/
LOCATION:Dorpshuis\, Legedyk 43\, Scharnegoutum\, Friesland\, 8629RL\, Nederland
CATEGORIES:Bar
END:VEVENT
BEGIN:VEVENT
DTSTART;TZID=Europe/Amsterdam:20251007T190000
DTEND;TZID=Europe/Amsterdam:20251007T230000
DTSTAMP:20260420T062054
CREATED:20250807T065219Z
LAST-MODIFIED:20251020T175520Z
UID:10006177-1759863600-1759878000@www.scharnegoutum.nl
SUMMARY:De Lakenkrakers
DESCRIPTION:De lakenkrakers \nDe lakenkrakers is één van de biljardverenigingen van Scharnegoutum\, opgericht in 1977 met een huidig aantal leden van 18 mannen. \nOnze  competitiewedstrijden zijn op dinsdagavond in It Swettehûs en beginnen om 19.30 uur\nWe zijn een vereniging die houdt van tradities en een van deze tradities is een jaarlijks uitstapje naar Terschelling. \nEr is ruimte voor nieuwe leden en hiervoor kunt u contact opnemen met Jan de Vries (secretaris) via 0515-412051 of de voorzitter Jan Bouwmeester ( janbouwmeester@ziggo.nl )
URL:https://www.scharnegoutum.nl/agenda/de-lakenkrakers-6/2025-10-07/
LOCATION:Dorpshuis\, Legedyk 43\, Scharnegoutum\, Friesland\, 8629RL\, Nederland
CATEGORIES:Bar
END:VEVENT
BEGIN:VEVENT
DTSTART;TZID=Europe/Amsterdam:20251011T130000
DTEND;TZID=Europe/Amsterdam:20251011T210000
DTSTAMP:20260420T062054
CREATED:20250710T162205Z
LAST-MODIFIED:20250907T071516Z
UID:10006102-1760187600-1760216400@www.scharnegoutum.nl
SUMMARY:Gesloten Reünie "CBS Op'e Hichte"
DESCRIPTION:
URL:https://www.scharnegoutum.nl/agenda/gesloten-reunie/
LOCATION:Dorpshuis\, Legedyk 43\, Scharnegoutum\, Friesland\, 8629RL\, Nederland
CATEGORIES:Bar
END:VEVENT
BEGIN:VEVENT
DTSTART;TZID=Europe/Amsterdam:20251013T130000
DTEND;TZID=Europe/Amsterdam:20251013T160000
DTSTAMP:20260420T062054
CREATED:20250812T171020Z
LAST-MODIFIED:20251020T175220Z
UID:10006382-1760360400-1760371200@www.scharnegoutum.nl
SUMMARY:Stal Schukken
DESCRIPTION:Stalschukken \nWij zijn een biljardclub\, ooit gestart in een boerderij\, en sinds lange tijd spelen wij onze competitie avonden in het dorpshuis. \nHeeft U interesse\, kunt u contact opnemen met Thomas de Vries ( alofje@gmail.com )
URL:https://www.scharnegoutum.nl/agenda/stal-schukken-8/2025-10-13/
LOCATION:Dorpshuis\, Legedyk 43\, Scharnegoutum\, Friesland\, 8629RL\, Nederland
CATEGORIES:Bar
END:VEVENT
BEGIN:VEVENT
DTSTART;TZID=Europe/Amsterdam:20251014T190000
DTEND;TZID=Europe/Amsterdam:20251014T230000
DTSTAMP:20260420T062054
CREATED:20250807T065219Z
LAST-MODIFIED:20251020T175520Z
UID:10006178-1760468400-1760482800@www.scharnegoutum.nl
SUMMARY:De Lakenkrakers
DESCRIPTION:De lakenkrakers \nDe lakenkrakers is één van de biljardverenigingen van Scharnegoutum\, opgericht in 1977 met een huidig aantal leden van 18 mannen. \nOnze  competitiewedstrijden zijn op dinsdagavond in It Swettehûs en beginnen om 19.30 uur\nWe zijn een vereniging die houdt van tradities en een van deze tradities is een jaarlijks uitstapje naar Terschelling. \nEr is ruimte voor nieuwe leden en hiervoor kunt u contact opnemen met Jan de Vries (secretaris) via 0515-412051 of de voorzitter Jan Bouwmeester ( janbouwmeester@ziggo.nl )
URL:https://www.scharnegoutum.nl/agenda/de-lakenkrakers-6/2025-10-14/
LOCATION:Dorpshuis\, Legedyk 43\, Scharnegoutum\, Friesland\, 8629RL\, Nederland
CATEGORIES:Bar
END:VEVENT
BEGIN:VEVENT
DTSTART;TZID=Europe/Amsterdam:20251015T193000
DTEND;TZID=Europe/Amsterdam:20251015T223000
DTSTAMP:20260420T062054
CREATED:20250403T173001Z
LAST-MODIFIED:20251020T174727Z
UID:10005125-1760556600-1760567400@www.scharnegoutum.nl
SUMMARY:De Keu Keninginnen
DESCRIPTION:De keukoninginnen\nWij zijn de Keukoningen\, de damesbiljardclub van Scharnegoutum\, opgericht in 2023.\nOp de donderdag houden wij onze tweewekelijkse dames biljard avond.\nLijkt het je leuk om mee te doen\, of wil je graag meer informatie?\nStuur dan een mailtje naar: damesbiljartscharnegoutum@hotmail.com\nOf kijk op onze Facebookpagina: ‘De Keu Keninginnen’ Scharnegoutum
URL:https://www.scharnegoutum.nl/agenda/de-keu-keninginnen/2025-10-15/
LOCATION:Dorpshuis\, Legedyk 43\, Scharnegoutum\, Friesland\, 8629RL\, Nederland
CATEGORIES:Bar
END:VEVENT
BEGIN:VEVENT
DTSTART;TZID=Europe/Amsterdam:20251017T193000
DTEND;TZID=Europe/Amsterdam:20251017T230000
DTSTAMP:20260420T062054
CREATED:20250925T175233Z
LAST-MODIFIED:20250925T175234Z
UID:10006084-1760729400-1760742000@www.scharnegoutum.nl
SUMMARY:Klaverjassen
DESCRIPTION:
URL:https://www.scharnegoutum.nl/agenda/klaverjassen-17-2/
LOCATION:Dorpshuis\, Legedyk 43\, Scharnegoutum\, Friesland\, 8629RL\, Nederland
CATEGORIES:Bar
END:VEVENT
BEGIN:VEVENT
DTSTART;TZID=Europe/Amsterdam:20251020T130000
DTEND;TZID=Europe/Amsterdam:20251020T160000
DTSTAMP:20260420T062054
CREATED:20250812T171020Z
LAST-MODIFIED:20251020T175220Z
UID:10006383-1760965200-1760976000@www.scharnegoutum.nl
SUMMARY:Stal Schukken
DESCRIPTION:Stalschukken \nWij zijn een biljardclub\, ooit gestart in een boerderij\, en sinds lange tijd spelen wij onze competitie avonden in het dorpshuis. \nHeeft U interesse\, kunt u contact opnemen met Thomas de Vries ( alofje@gmail.com )
URL:https://www.scharnegoutum.nl/agenda/stal-schukken-8/2025-10-20/
LOCATION:Dorpshuis\, Legedyk 43\, Scharnegoutum\, Friesland\, 8629RL\, Nederland
CATEGORIES:Bar
END:VEVENT
BEGIN:VEVENT
DTSTART;TZID=Europe/Amsterdam:20251021T190000
DTEND;TZID=Europe/Amsterdam:20251021T230000
DTSTAMP:20260420T062054
CREATED:20250807T065219Z
LAST-MODIFIED:20251020T175520Z
UID:10006179-1761073200-1761087600@www.scharnegoutum.nl
SUMMARY:De Lakenkrakers
DESCRIPTION:De lakenkrakers \nDe lakenkrakers is één van de biljardverenigingen van Scharnegoutum\, opgericht in 1977 met een huidig aantal leden van 18 mannen. \nOnze  competitiewedstrijden zijn op dinsdagavond in It Swettehûs en beginnen om 19.30 uur\nWe zijn een vereniging die houdt van tradities en een van deze tradities is een jaarlijks uitstapje naar Terschelling. \nEr is ruimte voor nieuwe leden en hiervoor kunt u contact opnemen met Jan de Vries (secretaris) via 0515-412051 of de voorzitter Jan Bouwmeester ( janbouwmeester@ziggo.nl )
URL:https://www.scharnegoutum.nl/agenda/de-lakenkrakers-6/2025-10-21/
LOCATION:Dorpshuis\, Legedyk 43\, Scharnegoutum\, Friesland\, 8629RL\, Nederland
CATEGORIES:Bar
END:VEVENT
BEGIN:VEVENT
DTSTART;TZID=Europe/Amsterdam:20251023T190000
DTEND;TZID=Europe/Amsterdam:20251023T223000
DTSTAMP:20260420T062054
CREATED:20251023T163032Z
LAST-MODIFIED:20251023T164729Z
UID:10006248-1761246000-1761258600@www.scharnegoutum.nl
SUMMARY:BC Scharnegoutum
DESCRIPTION:BC Scharnegoutum\nWij zijn één van de biljard verenigingen van Scharnegoutum\nDoel van de vereniging is het biljartniveau van de leden op een hoger peil te brengen\, zonder dat daarbij de gezelligheid verloren gaat.\nDe vereniging is opgericht in 1955 en telt momenteel 18 leden.\nDe competitiewedstrijden zijn op de donderdagavonden en beginnen om 19.00 uur.\n\nWil je meedoen\, of heb je interesse neem dan contact op met de voorzitter\, Rinus de Schiffart (0657842398)
URL:https://www.scharnegoutum.nl/agenda/bc-scharnegoutum-6/2025-10-23/
LOCATION:Dorpshuis\, Legedyk 43\, Scharnegoutum\, Friesland\, 8629RL\, Nederland
CATEGORIES:Bar
END:VEVENT
BEGIN:VEVENT
DTSTART;TZID=Europe/Amsterdam:20251027T130000
DTEND;TZID=Europe/Amsterdam:20251027T160000
DTSTAMP:20260420T062054
CREATED:20251023T165151Z
LAST-MODIFIED:20251023T165152Z
UID:10006384-1761570000-1761580800@www.scharnegoutum.nl
SUMMARY:Stal Schukken
DESCRIPTION:Stalschukken \nWij zijn een biljardclub\, ooit gestart in een boerderij\, en sinds lange tijd spelen wij onze competitie avonden in het dorpshuis. \nHeeft U interesse\, kunt u contact opnemen met Thomas de Vries ( alofje@gmail.com )
URL:https://www.scharnegoutum.nl/agenda/stal-schukken-8-2/2025-10-27/
LOCATION:Dorpshuis\, Legedyk 43\, Scharnegoutum\, Friesland\, 8629RL\, Nederland
CATEGORIES:Bar
END:VEVENT
BEGIN:VEVENT
DTSTART;TZID=Europe/Amsterdam:20251028T190000
DTEND;TZID=Europe/Amsterdam:20251028T230000
DTSTAMP:20260420T062054
CREATED:20251023T165355Z
LAST-MODIFIED:20251023T165357Z
UID:10006180-1761678000-1761692400@www.scharnegoutum.nl
SUMMARY:De Lakenkrakers
DESCRIPTION:De lakenkrakers \nDe lakenkrakers is één van de biljardverenigingen van Scharnegoutum\, opgericht in 1977 met een huidig aantal leden van 18 mannen. \nOnze  competitiewedstrijden zijn op dinsdagavond in It Swettehûs en beginnen om 19.30 uur\nWe zijn een vereniging die houdt van tradities en een van deze tradities is een jaarlijks uitstapje naar Terschelling. \nEr is ruimte voor nieuwe leden en hiervoor kunt u contact opnemen met Jan de Vries (secretaris) via 0515-412051 of de voorzitter Jan Bouwmeester ( janbouwmeester@ziggo.nl )
URL:https://www.scharnegoutum.nl/agenda/de-lakenkrakers-6-2/2025-10-28/
LOCATION:Dorpshuis\, Legedyk 43\, Scharnegoutum\, Friesland\, 8629RL\, Nederland
CATEGORIES:Bar
END:VEVENT
BEGIN:VEVENT
DTSTART;TZID=Europe/Amsterdam:20251030T190000
DTEND;TZID=Europe/Amsterdam:20251030T223000
DTSTAMP:20260420T062054
CREATED:20251023T163032Z
LAST-MODIFIED:20251023T164729Z
UID:10006249-1761850800-1761863400@www.scharnegoutum.nl
SUMMARY:BC Scharnegoutum
DESCRIPTION:BC Scharnegoutum\nWij zijn één van de biljard verenigingen van Scharnegoutum\nDoel van de vereniging is het biljartniveau van de leden op een hoger peil te brengen\, zonder dat daarbij de gezelligheid verloren gaat.\nDe vereniging is opgericht in 1955 en telt momenteel 18 leden.\nDe competitiewedstrijden zijn op de donderdagavonden en beginnen om 19.00 uur.\n\nWil je meedoen\, of heb je interesse neem dan contact op met de voorzitter\, Rinus de Schiffart (0657842398)
URL:https://www.scharnegoutum.nl/agenda/bc-scharnegoutum-6/2025-10-30/
LOCATION:Dorpshuis\, Legedyk 43\, Scharnegoutum\, Friesland\, 8629RL\, Nederland
CATEGORIES:Bar
END:VEVENT
END:VCALENDAR