BEGIN:VCALENDAR
VERSION:2.0
PRODID:-//Scharnegoutum | Skearnegoutum - ECPv6.15.20//NONSGML v1.0//EN
CALSCALE:GREGORIAN
METHOD:PUBLISH
X-ORIGINAL-URL:https://www.scharnegoutum.nl
X-WR-CALDESC:Evenementen voor Scharnegoutum | Skearnegoutum
REFRESH-INTERVAL;VALUE=DURATION:PT1H
X-Robots-Tag:noindex
X-PUBLISHED-TTL:PT1H
BEGIN:VTIMEZONE
TZID:Europe/Amsterdam
BEGIN:DAYLIGHT
TZOFFSETFROM:+0100
TZOFFSETTO:+0200
TZNAME:CEST
DTSTART:20240331T010000
END:DAYLIGHT
BEGIN:STANDARD
TZOFFSETFROM:+0200
TZOFFSETTO:+0100
TZNAME:CET
DTSTART:20241027T010000
END:STANDARD
BEGIN:DAYLIGHT
TZOFFSETFROM:+0100
TZOFFSETTO:+0200
TZNAME:CEST
DTSTART:20250330T010000
END:DAYLIGHT
BEGIN:STANDARD
TZOFFSETFROM:+0200
TZOFFSETTO:+0100
TZNAME:CET
DTSTART:20251026T010000
END:STANDARD
BEGIN:DAYLIGHT
TZOFFSETFROM:+0100
TZOFFSETTO:+0200
TZNAME:CEST
DTSTART:20260329T010000
END:DAYLIGHT
BEGIN:STANDARD
TZOFFSETFROM:+0200
TZOFFSETTO:+0100
TZNAME:CET
DTSTART:20261025T010000
END:STANDARD
END:VTIMEZONE
BEGIN:VEVENT
DTSTART;TZID=Europe/Amsterdam:20250301T100000
DTEND;TZID=Europe/Amsterdam:20250301T120000
DTSTAMP:20260422T194010
CREATED:20240530T180131Z
LAST-MODIFIED:20240530T180131Z
UID:10005539-1740823200-1740830400@www.scharnegoutum.nl
SUMMARY:Putsje café
DESCRIPTION:
URL:https://www.scharnegoutum.nl/agenda/putsje-cafe/2025-03-01/
LOCATION:Dorpshuis\, Legedyk 43\, Scharnegoutum\, Friesland\, 8629RL\, Nederland
CATEGORIES:Bar
END:VEVENT
BEGIN:VEVENT
DTSTART;TZID=Europe/Amsterdam:20250301T160000
DTEND;TZID=Europe/Amsterdam:20250301T230000
DTSTAMP:20260422T194010
CREATED:20240927T164927Z
LAST-MODIFIED:20241117T131420Z
UID:10005796-1740844800-1740870000@www.scharnegoutum.nl
SUMMARY:Inloopcafe
DESCRIPTION:
URL:https://www.scharnegoutum.nl/agenda/inloopcafe-3/2025-03-01/
LOCATION:Dorpshuis\, Legedyk 43\, Scharnegoutum\, Friesland\, 8629RL\, Nederland
CATEGORIES:Bar
END:VEVENT
BEGIN:VEVENT
DTSTART;TZID=Europe/Amsterdam:20250303T130000
DTEND;TZID=Europe/Amsterdam:20250303T163000
DTSTAMP:20260422T194010
CREATED:20241226T165109Z
LAST-MODIFIED:20241226T165109Z
UID:10005837-1741006800-1741019400@www.scharnegoutum.nl
SUMMARY:Stal Schukken
DESCRIPTION:
URL:https://www.scharnegoutum.nl/agenda/stal-schukken-7/2025-03-03/
LOCATION:Dorpshuis\, Legedyk 43\, Scharnegoutum\, Friesland\, 8629RL\, Nederland
CATEGORIES:Bar
END:VEVENT
BEGIN:VEVENT
DTSTART;TZID=Europe/Amsterdam:20250303T140000
DTEND;TZID=Europe/Amsterdam:20250303T180000
DTSTAMP:20260422T194010
CREATED:20230331T152659Z
LAST-MODIFIED:20230331T153101Z
UID:10004473-1741010400-1741024800@www.scharnegoutum.nl
SUMMARY:Stal Schukken
DESCRIPTION:
URL:https://www.scharnegoutum.nl/agenda/stal-schukken-3/2025-03-03/
LOCATION:Dorpshuis\, Legedyk 43\, Scharnegoutum\, Friesland\, 8629RL\, Nederland
CATEGORIES:Bar
END:VEVENT
BEGIN:VEVENT
DTSTART;TZID=Europe/Amsterdam:20250304T190000
DTEND;TZID=Europe/Amsterdam:20250304T223000
DTSTAMP:20260422T194010
CREATED:20241226T165608Z
LAST-MODIFIED:20241226T165608Z
UID:10005878-1741114800-1741127400@www.scharnegoutum.nl
SUMMARY:De Lakenkrakers
DESCRIPTION:
URL:https://www.scharnegoutum.nl/agenda/de-lakenkrakers-5/2025-03-04/
LOCATION:Dorpshuis\, Legedyk 43\, Scharnegoutum\, Friesland\, 8629RL\, Nederland
CATEGORIES:Bar
END:VEVENT
BEGIN:VEVENT
DTSTART;TZID=Europe/Amsterdam:20250306T193000
DTEND;TZID=Europe/Amsterdam:20250306T223000
DTSTAMP:20260422T194010
CREATED:20241226T170439Z
LAST-MODIFIED:20241226T170439Z
UID:10005893-1741289400-1741300200@www.scharnegoutum.nl
SUMMARY:BC Scharnegoutum
DESCRIPTION:
URL:https://www.scharnegoutum.nl/agenda/bc-scharnegoutum-5/2025-03-06/
LOCATION:Dorpshuis\, Legedyk 43\, Scharnegoutum\, Friesland\, 8629RL\, Nederland
CATEGORIES:Bar
END:VEVENT
BEGIN:VEVENT
DTSTART;TZID=Europe/Amsterdam:20250310T130000
DTEND;TZID=Europe/Amsterdam:20250310T163000
DTSTAMP:20260422T194010
CREATED:20241226T165109Z
LAST-MODIFIED:20241226T165109Z
UID:10005838-1741611600-1741624200@www.scharnegoutum.nl
SUMMARY:Stal Schukken
DESCRIPTION:
URL:https://www.scharnegoutum.nl/agenda/stal-schukken-7/2025-03-10/
LOCATION:Dorpshuis\, Legedyk 43\, Scharnegoutum\, Friesland\, 8629RL\, Nederland
CATEGORIES:Bar
END:VEVENT
BEGIN:VEVENT
DTSTART;TZID=Europe/Amsterdam:20250310T140000
DTEND;TZID=Europe/Amsterdam:20250310T180000
DTSTAMP:20260422T194010
CREATED:20230331T152659Z
LAST-MODIFIED:20230331T153101Z
UID:10004474-1741615200-1741629600@www.scharnegoutum.nl
SUMMARY:Stal Schukken
DESCRIPTION:
URL:https://www.scharnegoutum.nl/agenda/stal-schukken-3/2025-03-10/
LOCATION:Dorpshuis\, Legedyk 43\, Scharnegoutum\, Friesland\, 8629RL\, Nederland
CATEGORIES:Bar
END:VEVENT
BEGIN:VEVENT
DTSTART;TZID=Europe/Amsterdam:20250311T190000
DTEND;TZID=Europe/Amsterdam:20250311T223000
DTSTAMP:20260422T194010
CREATED:20241226T165608Z
LAST-MODIFIED:20241226T165608Z
UID:10005879-1741719600-1741732200@www.scharnegoutum.nl
SUMMARY:De Lakenkrakers
DESCRIPTION:
URL:https://www.scharnegoutum.nl/agenda/de-lakenkrakers-5/2025-03-11/
LOCATION:Dorpshuis\, Legedyk 43\, Scharnegoutum\, Friesland\, 8629RL\, Nederland
CATEGORIES:Bar
END:VEVENT
BEGIN:VEVENT
DTSTART;TZID=Europe/Amsterdam:20250312T193000
DTEND;TZID=Europe/Amsterdam:20250312T223000
DTSTAMP:20260422T194010
CREATED:20241117T142150Z
LAST-MODIFIED:20241117T144720Z
UID:10005017-1741807800-1741818600@www.scharnegoutum.nl
SUMMARY:Dames biljarten
DESCRIPTION:
URL:https://www.scharnegoutum.nl/agenda/dames-biljarten/2025-03-12/
LOCATION:Dorpshuis\, Legedyk 43\, Scharnegoutum\, Friesland\, 8629RL\, Nederland
CATEGORIES:Bar
END:VEVENT
BEGIN:VEVENT
DTSTART;TZID=Europe/Amsterdam:20250313T193000
DTEND;TZID=Europe/Amsterdam:20250313T223000
DTSTAMP:20260422T194010
CREATED:20241226T170439Z
LAST-MODIFIED:20241226T170439Z
UID:10005894-1741894200-1741905000@www.scharnegoutum.nl
SUMMARY:BC Scharnegoutum
DESCRIPTION:
URL:https://www.scharnegoutum.nl/agenda/bc-scharnegoutum-5/2025-03-13/
LOCATION:Dorpshuis\, Legedyk 43\, Scharnegoutum\, Friesland\, 8629RL\, Nederland
CATEGORIES:Bar
END:VEVENT
BEGIN:VEVENT
DTSTART;TZID=Europe/Amsterdam:20250317T130000
DTEND;TZID=Europe/Amsterdam:20250317T163000
DTSTAMP:20260422T194010
CREATED:20241226T165109Z
LAST-MODIFIED:20241226T165109Z
UID:10005839-1742216400-1742229000@www.scharnegoutum.nl
SUMMARY:Stal Schukken
DESCRIPTION:
URL:https://www.scharnegoutum.nl/agenda/stal-schukken-7/2025-03-17/
LOCATION:Dorpshuis\, Legedyk 43\, Scharnegoutum\, Friesland\, 8629RL\, Nederland
CATEGORIES:Bar
END:VEVENT
BEGIN:VEVENT
DTSTART;TZID=Europe/Amsterdam:20250317T140000
DTEND;TZID=Europe/Amsterdam:20250317T180000
DTSTAMP:20260422T194010
CREATED:20230331T152659Z
LAST-MODIFIED:20230331T153101Z
UID:10004475-1742220000-1742234400@www.scharnegoutum.nl
SUMMARY:Stal Schukken
DESCRIPTION:
URL:https://www.scharnegoutum.nl/agenda/stal-schukken-3/2025-03-17/
LOCATION:Dorpshuis\, Legedyk 43\, Scharnegoutum\, Friesland\, 8629RL\, Nederland
CATEGORIES:Bar
END:VEVENT
BEGIN:VEVENT
DTSTART;TZID=Europe/Amsterdam:20250318T190000
DTEND;TZID=Europe/Amsterdam:20250318T223000
DTSTAMP:20260422T194010
CREATED:20241226T165608Z
LAST-MODIFIED:20241226T165608Z
UID:10005880-1742324400-1742337000@www.scharnegoutum.nl
SUMMARY:De Lakenkrakers
DESCRIPTION:
URL:https://www.scharnegoutum.nl/agenda/de-lakenkrakers-5/2025-03-18/
LOCATION:Dorpshuis\, Legedyk 43\, Scharnegoutum\, Friesland\, 8629RL\, Nederland
CATEGORIES:Bar
END:VEVENT
BEGIN:VEVENT
DTSTART;TZID=Europe/Amsterdam:20250320T193000
DTEND;TZID=Europe/Amsterdam:20250320T223000
DTSTAMP:20260422T194010
CREATED:20241226T170439Z
LAST-MODIFIED:20241226T170439Z
UID:10005895-1742499000-1742509800@www.scharnegoutum.nl
SUMMARY:BC Scharnegoutum
DESCRIPTION:
URL:https://www.scharnegoutum.nl/agenda/bc-scharnegoutum-5/2025-03-20/
LOCATION:Dorpshuis\, Legedyk 43\, Scharnegoutum\, Friesland\, 8629RL\, Nederland
CATEGORIES:Bar
END:VEVENT
BEGIN:VEVENT
DTSTART;TZID=Europe/Amsterdam:20250323T153000
DTEND;TZID=Europe/Amsterdam:20250323T183000
DTSTAMP:20260422T194010
CREATED:20250114T191530Z
LAST-MODIFIED:20250114T191530Z
UID:10005919-1742743800-1742754600@www.scharnegoutum.nl
SUMMARY:familiefeest
DESCRIPTION:
URL:https://www.scharnegoutum.nl/agenda/familiefeest-25/
LOCATION:Dorpshuis\, Legedyk 43\, Scharnegoutum\, Friesland\, 8629RL\, Nederland
CATEGORIES:Bar
END:VEVENT
BEGIN:VEVENT
DTSTART;TZID=Europe/Amsterdam:20250324T130000
DTEND;TZID=Europe/Amsterdam:20250324T163000
DTSTAMP:20260422T194010
CREATED:20241226T165109Z
LAST-MODIFIED:20241226T165109Z
UID:10005840-1742821200-1742833800@www.scharnegoutum.nl
SUMMARY:Stal Schukken
DESCRIPTION:
URL:https://www.scharnegoutum.nl/agenda/stal-schukken-7/2025-03-24/
LOCATION:Dorpshuis\, Legedyk 43\, Scharnegoutum\, Friesland\, 8629RL\, Nederland
CATEGORIES:Bar
END:VEVENT
BEGIN:VEVENT
DTSTART;TZID=Europe/Amsterdam:20250324T140000
DTEND;TZID=Europe/Amsterdam:20250324T180000
DTSTAMP:20260422T194010
CREATED:20230331T152659Z
LAST-MODIFIED:20230331T153101Z
UID:10004476-1742824800-1742839200@www.scharnegoutum.nl
SUMMARY:Stal Schukken
DESCRIPTION:
URL:https://www.scharnegoutum.nl/agenda/stal-schukken-3/2025-03-24/
LOCATION:Dorpshuis\, Legedyk 43\, Scharnegoutum\, Friesland\, 8629RL\, Nederland
CATEGORIES:Bar
END:VEVENT
BEGIN:VEVENT
DTSTART;TZID=Europe/Amsterdam:20250325T190000
DTEND;TZID=Europe/Amsterdam:20250325T223000
DTSTAMP:20260422T194010
CREATED:20241226T165608Z
LAST-MODIFIED:20241226T165608Z
UID:10005881-1742929200-1742941800@www.scharnegoutum.nl
SUMMARY:De Lakenkrakers
DESCRIPTION:
URL:https://www.scharnegoutum.nl/agenda/de-lakenkrakers-5/2025-03-25/
LOCATION:Dorpshuis\, Legedyk 43\, Scharnegoutum\, Friesland\, 8629RL\, Nederland
CATEGORIES:Bar
END:VEVENT
BEGIN:VEVENT
DTSTART;TZID=Europe/Amsterdam:20250326T193000
DTEND;TZID=Europe/Amsterdam:20250326T223000
DTSTAMP:20260422T194010
CREATED:20241117T142150Z
LAST-MODIFIED:20241117T144720Z
UID:10005018-1743017400-1743028200@www.scharnegoutum.nl
SUMMARY:Dames biljarten
DESCRIPTION:
URL:https://www.scharnegoutum.nl/agenda/dames-biljarten/2025-03-26/
LOCATION:Dorpshuis\, Legedyk 43\, Scharnegoutum\, Friesland\, 8629RL\, Nederland
CATEGORIES:Bar
END:VEVENT
BEGIN:VEVENT
DTSTART;TZID=Europe/Amsterdam:20250327T193000
DTEND;TZID=Europe/Amsterdam:20250327T223000
DTSTAMP:20260422T194010
CREATED:20241226T170439Z
LAST-MODIFIED:20241226T170439Z
UID:10005896-1743103800-1743114600@www.scharnegoutum.nl
SUMMARY:BC Scharnegoutum
DESCRIPTION:
URL:https://www.scharnegoutum.nl/agenda/bc-scharnegoutum-5/2025-03-27/
LOCATION:Dorpshuis\, Legedyk 43\, Scharnegoutum\, Friesland\, 8629RL\, Nederland
CATEGORIES:Bar
END:VEVENT
BEGIN:VEVENT
DTSTART;TZID=Europe/Amsterdam:20250328T190000
DTEND;TZID=Europe/Amsterdam:20250328T233000
DTSTAMP:20260422T194010
CREATED:20250212T203458Z
LAST-MODIFIED:20250212T203458Z
UID:10005065-1743188400-1743204600@www.scharnegoutum.nl
SUMMARY:Biljarttoernooi Lakenkrakers~BC Scharnegoutum
DESCRIPTION:
URL:https://www.scharnegoutum.nl/agenda/biljarttoernooi-lakenkrakersbc-scharnegoutum/
LOCATION:Dorpshuis\, Legedyk 43\, Scharnegoutum\, Friesland\, 8629RL\, Nederland
CATEGORIES:Bar
END:VEVENT
BEGIN:VEVENT
DTSTART;TZID=Europe/Amsterdam:20250331T130000
DTEND;TZID=Europe/Amsterdam:20250331T163000
DTSTAMP:20260422T194010
CREATED:20241226T165109Z
LAST-MODIFIED:20241226T165109Z
UID:10005841-1743426000-1743438600@www.scharnegoutum.nl
SUMMARY:Stal Schukken
DESCRIPTION:
URL:https://www.scharnegoutum.nl/agenda/stal-schukken-7/2025-03-31/
LOCATION:Dorpshuis\, Legedyk 43\, Scharnegoutum\, Friesland\, 8629RL\, Nederland
CATEGORIES:Bar
END:VEVENT
BEGIN:VEVENT
DTSTART;TZID=Europe/Amsterdam:20250331T150000
DTEND;TZID=Europe/Amsterdam:20250331T190000
DTSTAMP:20260422T194010
CREATED:20230331T152659Z
LAST-MODIFIED:20230331T153101Z
UID:10004477-1743433200-1743447600@www.scharnegoutum.nl
SUMMARY:Stal Schukken
DESCRIPTION:
URL:https://www.scharnegoutum.nl/agenda/stal-schukken-3/2025-03-31/
LOCATION:Dorpshuis\, Legedyk 43\, Scharnegoutum\, Friesland\, 8629RL\, Nederland
CATEGORIES:Bar
END:VEVENT
END:VCALENDAR