BEGIN:VCALENDAR
VERSION:2.0
PRODID:-//Scharnegoutum | Skearnegoutum - ECPv6.15.20//NONSGML v1.0//EN
CALSCALE:GREGORIAN
METHOD:PUBLISH
X-ORIGINAL-URL:https://www.scharnegoutum.nl
X-WR-CALDESC:Evenementen voor Scharnegoutum | Skearnegoutum
REFRESH-INTERVAL;VALUE=DURATION:PT1H
X-Robots-Tag:noindex
X-PUBLISHED-TTL:PT1H
BEGIN:VTIMEZONE
TZID:Europe/Amsterdam
BEGIN:DAYLIGHT
TZOFFSETFROM:+0100
TZOFFSETTO:+0200
TZNAME:CEST
DTSTART:20250330T010000
END:DAYLIGHT
BEGIN:STANDARD
TZOFFSETFROM:+0200
TZOFFSETTO:+0100
TZNAME:CET
DTSTART:20251026T010000
END:STANDARD
BEGIN:DAYLIGHT
TZOFFSETFROM:+0100
TZOFFSETTO:+0200
TZNAME:CEST
DTSTART:20260329T010000
END:DAYLIGHT
BEGIN:STANDARD
TZOFFSETFROM:+0200
TZOFFSETTO:+0100
TZNAME:CET
DTSTART:20261025T010000
END:STANDARD
BEGIN:DAYLIGHT
TZOFFSETFROM:+0100
TZOFFSETTO:+0200
TZNAME:CEST
DTSTART:20270328T010000
END:DAYLIGHT
BEGIN:STANDARD
TZOFFSETFROM:+0200
TZOFFSETTO:+0100
TZNAME:CET
DTSTART:20271031T010000
END:STANDARD
END:VTIMEZONE
BEGIN:VEVENT
DTSTART;TZID=Europe/Amsterdam:20260617T190000
DTEND;TZID=Europe/Amsterdam:20260617T230000
DTSTAMP:20260419T234940
CREATED:20251208T150943Z
LAST-MODIFIED:20251208T150943Z
UID:10007021-1781722800-1781737200@www.scharnegoutum.nl
SUMMARY:Shantykoor De Brûskoppen
DESCRIPTION:De naam zegt het al\, wij zijn een Shantykoor\, opgericht in 1997 in Scharnegoutum. Een enthousiaste groep heren\, die op allerlei gelegenheden zeemansliederen ten gehore brengt\, met een hoog meezinggehalte. Onze vaste oefenavonden (eens per twee weken) is de woensdagavond. Dan wordt een gevarieerd repertoire ingestudeerd\, dat uit Engelse en Friestalige zeemansliederen bestaat. Nieuwsgierig geworden? Misschien eens meezingen?                      Kom gerust eens langs of meldt u aan bij Herman de Jong. 06-27445686 hermandejong59@outlook.com
URL:https://www.scharnegoutum.nl/agenda/shantykoor-de-bruskoppen-3/
CATEGORIES:Grote Zaal
END:VEVENT
END:VCALENDAR